BEGIN:VCALENDAR
VERSION:2.0
PRODID:-//Crestline Chamber of Commerce - ECPv6.15.20//NONSGML v1.0//EN
CALSCALE:GREGORIAN
METHOD:PUBLISH
X-ORIGINAL-URL:https://www.crestlinechamber.org
X-WR-CALDESC:Events for Crestline Chamber of Commerce
REFRESH-INTERVAL;VALUE=DURATION:PT1H
X-Robots-Tag:noindex
X-PUBLISHED-TTL:PT1H
BEGIN:VTIMEZONE
TZID:America/Los_Angeles
BEGIN:DAYLIGHT
TZOFFSETFROM:-0800
TZOFFSETTO:-0700
TZNAME:PDT
DTSTART:20210314T100000
END:DAYLIGHT
BEGIN:STANDARD
TZOFFSETFROM:-0700
TZOFFSETTO:-0800
TZNAME:PST
DTSTART:20211107T090000
END:STANDARD
BEGIN:DAYLIGHT
TZOFFSETFROM:-0800
TZOFFSETTO:-0700
TZNAME:PDT
DTSTART:20220313T100000
END:DAYLIGHT
BEGIN:STANDARD
TZOFFSETFROM:-0700
TZOFFSETTO:-0800
TZNAME:PST
DTSTART:20221106T090000
END:STANDARD
BEGIN:DAYLIGHT
TZOFFSETFROM:-0800
TZOFFSETTO:-0700
TZNAME:PDT
DTSTART:20230312T100000
END:DAYLIGHT
BEGIN:STANDARD
TZOFFSETFROM:-0700
TZOFFSETTO:-0800
TZNAME:PST
DTSTART:20231105T090000
END:STANDARD
BEGIN:DAYLIGHT
TZOFFSETFROM:-0800
TZOFFSETTO:-0700
TZNAME:PDT
DTSTART:20240310T100000
END:DAYLIGHT
BEGIN:STANDARD
TZOFFSETFROM:-0700
TZOFFSETTO:-0800
TZNAME:PST
DTSTART:20241103T090000
END:STANDARD
END:VTIMEZONE
BEGIN:VEVENT
DTSTART;TZID=America/Los_Angeles:20231007T150000
DTEND;TZID=America/Los_Angeles:20231007T200000
DTSTAMP:20260423T165355
CREATED:20230209T210014Z
LAST-MODIFIED:20230515T190638Z
UID:10000249-1696690800-1696708800@www.crestlinechamber.org
SUMMARY:Corks & Hops
DESCRIPTION:
URL:https://www.crestlinechamber.org/event/corks-hops/2023-10-07/
LOCATION:Downtown and Top Town Crestline\, Crestline\, CA\, 92325
CATEGORIES:Crestline Chamber Event,Live Music
END:VEVENT
BEGIN:VEVENT
DTSTART;TZID=America/Los_Angeles:20230914T173000
DTEND;TZID=America/Los_Angeles:20230914T193000
DTSTAMP:20260423T165355
CREATED:20230831T154506Z
LAST-MODIFIED:20230831T154557Z
UID:10000330-1694712600-1694719800@www.crestlinechamber.org
SUMMARY:Mixer at Sycamore Ranch
DESCRIPTION:Join us for an evening of wine and cider tasting and merriment co-sponsored by Sycamore Ranch and LouEddie’s Pizza.
URL:https://www.crestlinechamber.org/event/mixer-at-sycamore-ranch/
LOCATION:CA
CATEGORIES:Chamber Mixer,Crestline Chamber Event
END:VEVENT
BEGIN:VEVENT
DTSTART;TZID=America/Los_Angeles:20230902T150000
DTEND;TZID=America/Los_Angeles:20230902T200000
DTSTAMP:20260423T165355
CREATED:20230209T210014Z
LAST-MODIFIED:20230515T190638Z
UID:10000248-1693666800-1693684800@www.crestlinechamber.org
SUMMARY:Corks & Hops
DESCRIPTION:
URL:https://www.crestlinechamber.org/event/corks-hops/2023-09-02/
LOCATION:Downtown and Top Town Crestline\, Crestline\, CA\, 92325
CATEGORIES:Crestline Chamber Event,Live Music
END:VEVENT
BEGIN:VEVENT
DTSTART;TZID=America/Los_Angeles:20230831T173000
DTEND;TZID=America/Los_Angeles:20230903T193000
DTSTAMP:20260423T165355
CREATED:20230828T193651Z
LAST-MODIFIED:20230831T153816Z
UID:10000313-1693503000-1693769400@www.crestlinechamber.org
SUMMARY:Mixer at Leisure Shores
DESCRIPTION:Chamber Mixer 2023 \nJoin us for a LakeSide Mixer \nfor the Crestline -Lake Gregory Chamber of Commerce hosted by the Crest Forest Senior Citizens’ Club \nThursday\, August 31\, 2023 \n5:30pm to 7:30 pm @Leisure Shores on the Banks of Lake Gregory \n24658 San Moritz Drive. Crestline \nMingle with Members of the Crestline Chamber Board of Directors & see what’s happening at Leisure Shores. \nEveryone is welcome.
URL:https://www.crestlinechamber.org/event/30441/
LOCATION:Crest Forest Senior Citizens Club\, 24658 San Moritz Dr.\, Crestline\, 92325\, United States
CATEGORIES:Chamber Mixer,Crestline Chamber Event,Family Friendly,Lake Gregory
GEO:34.2431624;-117.2610605
X-APPLE-STRUCTURED-LOCATION;VALUE=URI;X-ADDRESS=Crest Forest Senior Citizens Club 24658 San Moritz Dr. Crestline 92325 United States;X-APPLE-RADIUS=500;X-TITLE=24658 San Moritz Dr.:geo:-117.2610605,34.2431624
END:VEVENT
BEGIN:VEVENT
DTSTART;VALUE=DATE:20230813
DTEND;VALUE=DATE:20230814
DTSTAMP:20260423T165355
CREATED:20230727T115935Z
LAST-MODIFIED:20230831T153236Z
UID:10000304-1691884800-1691971199@www.crestlinechamber.org
SUMMARY:Run Through The Pines
DESCRIPTION:The Run Through the Pines is a San Bernardino Rim Mountain Community Event and is one of the longest “running” runs in Southern California (the first one was in 1979). It features a 10K and 5K run (or walk) around Lake Gregory and is brought on by community support from sponsors\, vendors\, and volunteers from all over the mountain.
URL:https://www.crestlinechamber.org/event/run-through-the-pines-2/
LOCATION:CA
CATEGORIES:Crestline Chamber Event,Family Friendly
END:VEVENT
BEGIN:VEVENT
DTSTART;TZID=America/Los_Angeles:20230805T150000
DTEND;TZID=America/Los_Angeles:20230805T200000
DTSTAMP:20260423T165355
CREATED:20230209T210014Z
LAST-MODIFIED:20230515T190638Z
UID:10000247-1691247600-1691265600@www.crestlinechamber.org
SUMMARY:Corks & Hops
DESCRIPTION:
URL:https://www.crestlinechamber.org/event/corks-hops/2023-08-05/
LOCATION:Downtown and Top Town Crestline\, Crestline\, CA\, 92325
CATEGORIES:Crestline Chamber Event,Live Music
END:VEVENT
BEGIN:VEVENT
DTSTART;VALUE=DATE:20230727
DTEND;VALUE=DATE:20230728
DTSTAMP:20260423T165355
CREATED:20230727T120024Z
LAST-MODIFIED:20230727T120024Z
UID:10000305-1690416000-1690502399@www.crestlinechamber.org
SUMMARY:Summer Movie Series
DESCRIPTION:Join us for a movie under the stars! Blankets and lawn chairs are welcome as we transform our meadow into a movie theatre. This event is free and takes place every Thursday at sunset from June 8th – Aug. 3rd.\nClick here to RSVP:
URL:https://www.crestlinechamber.org/event/summer-movie-series-2/
LOCATION:CA
CATEGORIES:Crestline Chamber Event,Lake Gregory
END:VEVENT
BEGIN:VEVENT
DTSTART;TZID=America/Los_Angeles:20230703T120000
DTEND;TZID=America/Los_Angeles:20230703T160000
DTSTAMP:20260423T165355
CREATED:20220623T204759Z
LAST-MODIFIED:20230209T205554Z
UID:10000010-1688385600-1688400000@www.crestlinechamber.org
SUMMARY:Jamboree Days Community Picnic
DESCRIPTION:12-4PM Bring your own picnic and come out for games at the new Lake Gregory Meadow by the San Moritz Lodge \n 
URL:https://www.crestlinechamber.org/event/sunday-july-3-community-picnic/
LOCATION:CA
CATEGORIES:Crestline Chamber Event,Family Friendly,Lake Gregory
END:VEVENT
BEGIN:VEVENT
DTSTART;TZID=America/Los_Angeles:20230701T100000
DTEND;TZID=America/Los_Angeles:20230701T210000
DTSTAMP:20260423T165355
CREATED:20220124T203056Z
LAST-MODIFIED:20230209T205453Z
UID:10000104-1688205600-1688245200@www.crestlinechamber.org
SUMMARY:Jamboree Days
DESCRIPTION:Jamboree Days is one of Crestline’s most beloved traditions. It’s a full day of family-friendly fun! The parade kicks off at 10am. Be sure to get your spot early as there will be road closures. The parade route begins in Top Town Crestline (along Crest Forest Dr.) and heads down Fern to Lake Dr. towards Lake Gregory. Enjoy walking through town and patronizing our many shops and restaurants. Once the sun sets\, get ready for a spectacular fireworks show over Lake Gregory at 9PM.
URL:https://www.crestlinechamber.org/event/jamboree-days/
LOCATION:Downtown and Top Town\, Crestline\, California\, 92325
CATEGORIES:Crestline Chamber Event,Family Friendly
END:VEVENT
BEGIN:VEVENT
DTSTART;TZID=America/Los_Angeles:20230603T150000
DTEND;TZID=America/Los_Angeles:20230603T200000
DTSTAMP:20260423T165355
CREATED:20230209T210014Z
LAST-MODIFIED:20230515T190638Z
UID:10000246-1685804400-1685822400@www.crestlinechamber.org
SUMMARY:Corks & Hops
DESCRIPTION:
URL:https://www.crestlinechamber.org/event/corks-hops/2023-06-03/
LOCATION:Downtown and Top Town Crestline\, Crestline\, CA\, 92325
CATEGORIES:Crestline Chamber Event,Live Music
END:VEVENT
BEGIN:VEVENT
DTSTART;TZID=America/Los_Angeles:20220504T173000
DTEND;TZID=America/Los_Angeles:20220504T193000
DTSTAMP:20260423T165355
CREATED:20220405T183133Z
LAST-MODIFIED:20220405T193107Z
UID:10000107-1651685400-1651692600@www.crestlinechamber.org
SUMMARY:Mixer at Refresh on the Mountain
DESCRIPTION:Enjoy an appetizer bar\, a medley of spring salads\, delectable desserts\, minted spice-apple ice tea\, and wine from Sycamore Ranch Vineyard & Winery. Mingle on our newly remodeled patio and enjoy the beauty and mastery of Nick Young’s music\, live in our studio. Catch up with old friends and make new ones at the Crestline Chamber Spring Mixer. \nREFRESH is a new way to experience personal improvement. We are a community center for wellness. Enjoy a beautiful\, state of the art movement studio along with cozy areas to have a cup of tea and just hang out. You set the agenda: take a yoga class\, read a book\, attend a workshop\, enjoy a recital. We invite you to be inspired.
URL:https://www.crestlinechamber.org/event/mixer-at-refresh-on-the-mountain/
LOCATION:CA
CATEGORIES:Chamber Mixer,Crestline Chamber Event
END:VEVENT
END:VCALENDAR