BEGIN:VCALENDAR
VERSION:2.0
PRODID:-//Crestline Chamber of Commerce - ECPv6.15.20//NONSGML v1.0//EN
CALSCALE:GREGORIAN
METHOD:PUBLISH
X-WR-CALNAME:Crestline Chamber of Commerce
X-ORIGINAL-URL:https://www.crestlinechamber.org
X-WR-CALDESC:Events for Crestline Chamber of Commerce
REFRESH-INTERVAL;VALUE=DURATION:PT1H
X-Robots-Tag:noindex
X-PUBLISHED-TTL:PT1H
BEGIN:VTIMEZONE
TZID:America/Los_Angeles
BEGIN:DAYLIGHT
TZOFFSETFROM:-0800
TZOFFSETTO:-0700
TZNAME:PDT
DTSTART:20290311T100000
END:DAYLIGHT
BEGIN:STANDARD
TZOFFSETFROM:-0700
TZOFFSETTO:-0800
TZNAME:PST
DTSTART:20291104T090000
END:STANDARD
BEGIN:DAYLIGHT
TZOFFSETFROM:-0800
TZOFFSETTO:-0700
TZNAME:PDT
DTSTART:20300310T100000
END:DAYLIGHT
BEGIN:STANDARD
TZOFFSETFROM:-0700
TZOFFSETTO:-0800
TZNAME:PST
DTSTART:20301103T090000
END:STANDARD
BEGIN:DAYLIGHT
TZOFFSETFROM:-0800
TZOFFSETTO:-0700
TZNAME:PDT
DTSTART:20310309T100000
END:DAYLIGHT
BEGIN:STANDARD
TZOFFSETFROM:-0700
TZOFFSETTO:-0800
TZNAME:PST
DTSTART:20311102T090000
END:STANDARD
BEGIN:DAYLIGHT
TZOFFSETFROM:-0800
TZOFFSETTO:-0700
TZNAME:PDT
DTSTART:20320314T100000
END:DAYLIGHT
BEGIN:STANDARD
TZOFFSETFROM:-0700
TZOFFSETTO:-0800
TZNAME:PST
DTSTART:20321107T090000
END:STANDARD
END:VTIMEZONE
BEGIN:VEVENT
DTSTART;TZID=America/Los_Angeles:20300115T173000
DTEND;TZID=America/Los_Angeles:20300115T183000
DTSTAMP:20260423T171038
CREATED:20250114T204019Z
LAST-MODIFIED:20260421T155143Z
UID:10007575-1894728600-1894732200@www.crestlinechamber.org
SUMMARY:Monthly Open Board Meeting 📆
DESCRIPTION:📢 Join us for the Crestline Chamber of Commerce Monthly Open Board Meeting! 🌟 Connect with local leaders\, share your ideas\, and stay informed about the latest community developments. This is your chance to have your voice heard and play a part in shaping Crestline’s future. Let’s work together to make our town thrive—see you there! 🏞️🤝
URL:https://www.crestlinechamber.org/event/monthly-open-board-meeting-%f0%9f%93%86/2030-01-15/
LOCATION:Crestline Chamber Office\, 24385 Lake Dr\, Crestline\, CA\, 92325\, United States
CATEGORIES:Community Meeting,Crestline Chamber Event,Lake Gregory,Monthly Chamber Meetings
ATTACH;FMTTYPE=image/jpeg:https://www.crestlinechamber.org/wp-content/uploads/2024/04/monthly-meeting.jpg
GEO:34.2437662;-117.2707116
X-APPLE-STRUCTURED-LOCATION;VALUE=URI;X-ADDRESS=Crestline Chamber Office 24385 Lake Dr Crestline CA 92325 United States;X-APPLE-RADIUS=500;X-TITLE=24385 Lake Dr:geo:-117.2707116,34.2437662
END:VEVENT
BEGIN:VEVENT
DTSTART;TZID=America/Los_Angeles:20300219T173000
DTEND;TZID=America/Los_Angeles:20300219T183000
DTSTAMP:20260423T171038
CREATED:20250114T204019Z
LAST-MODIFIED:20260421T155143Z
UID:10007576-1897752600-1897756200@www.crestlinechamber.org
SUMMARY:Monthly Open Board Meeting 📆
DESCRIPTION:📢 Join us for the Crestline Chamber of Commerce Monthly Open Board Meeting! 🌟 Connect with local leaders\, share your ideas\, and stay informed about the latest community developments. This is your chance to have your voice heard and play a part in shaping Crestline’s future. Let’s work together to make our town thrive—see you there! 🏞️🤝
URL:https://www.crestlinechamber.org/event/monthly-open-board-meeting-%f0%9f%93%86/2030-02-19/
LOCATION:Crestline Chamber Office\, 24385 Lake Dr\, Crestline\, CA\, 92325\, United States
CATEGORIES:Community Meeting,Crestline Chamber Event,Lake Gregory,Monthly Chamber Meetings
ATTACH;FMTTYPE=image/jpeg:https://www.crestlinechamber.org/wp-content/uploads/2024/04/monthly-meeting.jpg
GEO:34.2437662;-117.2707116
X-APPLE-STRUCTURED-LOCATION;VALUE=URI;X-ADDRESS=Crestline Chamber Office 24385 Lake Dr Crestline CA 92325 United States;X-APPLE-RADIUS=500;X-TITLE=24385 Lake Dr:geo:-117.2707116,34.2437662
END:VEVENT
BEGIN:VEVENT
DTSTART;TZID=America/Los_Angeles:20300319T173000
DTEND;TZID=America/Los_Angeles:20300319T183000
DTSTAMP:20260423T171038
CREATED:20250114T204019Z
LAST-MODIFIED:20260421T155143Z
UID:10007577-1900171800-1900175400@www.crestlinechamber.org
SUMMARY:Monthly Open Board Meeting 📆
DESCRIPTION:📢 Join us for the Crestline Chamber of Commerce Monthly Open Board Meeting! 🌟 Connect with local leaders\, share your ideas\, and stay informed about the latest community developments. This is your chance to have your voice heard and play a part in shaping Crestline’s future. Let’s work together to make our town thrive—see you there! 🏞️🤝
URL:https://www.crestlinechamber.org/event/monthly-open-board-meeting-%f0%9f%93%86/2030-03-19/
LOCATION:Crestline Chamber Office\, 24385 Lake Dr\, Crestline\, CA\, 92325\, United States
CATEGORIES:Community Meeting,Crestline Chamber Event,Lake Gregory,Monthly Chamber Meetings
ATTACH;FMTTYPE=image/jpeg:https://www.crestlinechamber.org/wp-content/uploads/2024/04/monthly-meeting.jpg
GEO:34.2437662;-117.2707116
X-APPLE-STRUCTURED-LOCATION;VALUE=URI;X-ADDRESS=Crestline Chamber Office 24385 Lake Dr Crestline CA 92325 United States;X-APPLE-RADIUS=500;X-TITLE=24385 Lake Dr:geo:-117.2707116,34.2437662
END:VEVENT
BEGIN:VEVENT
DTSTART;TZID=America/Los_Angeles:20300416T173000
DTEND;TZID=America/Los_Angeles:20300416T183000
DTSTAMP:20260423T171038
CREATED:20250114T204019Z
LAST-MODIFIED:20260421T155143Z
UID:10007578-1902591000-1902594600@www.crestlinechamber.org
SUMMARY:Monthly Open Board Meeting 📆
DESCRIPTION:📢 Join us for the Crestline Chamber of Commerce Monthly Open Board Meeting! 🌟 Connect with local leaders\, share your ideas\, and stay informed about the latest community developments. This is your chance to have your voice heard and play a part in shaping Crestline’s future. Let’s work together to make our town thrive—see you there! 🏞️🤝
URL:https://www.crestlinechamber.org/event/monthly-open-board-meeting-%f0%9f%93%86/2030-04-16/
LOCATION:Crestline Chamber Office\, 24385 Lake Dr\, Crestline\, CA\, 92325\, United States
CATEGORIES:Community Meeting,Crestline Chamber Event,Lake Gregory,Monthly Chamber Meetings
ATTACH;FMTTYPE=image/jpeg:https://www.crestlinechamber.org/wp-content/uploads/2024/04/monthly-meeting.jpg
GEO:34.2437662;-117.2707116
X-APPLE-STRUCTURED-LOCATION;VALUE=URI;X-ADDRESS=Crestline Chamber Office 24385 Lake Dr Crestline CA 92325 United States;X-APPLE-RADIUS=500;X-TITLE=24385 Lake Dr:geo:-117.2707116,34.2437662
END:VEVENT
BEGIN:VEVENT
DTSTART;TZID=America/Los_Angeles:20300521T173000
DTEND;TZID=America/Los_Angeles:20300521T183000
DTSTAMP:20260423T171038
CREATED:20250114T204019Z
LAST-MODIFIED:20260421T155143Z
UID:10007579-1905615000-1905618600@www.crestlinechamber.org
SUMMARY:Monthly Open Board Meeting 📆
DESCRIPTION:📢 Join us for the Crestline Chamber of Commerce Monthly Open Board Meeting! 🌟 Connect with local leaders\, share your ideas\, and stay informed about the latest community developments. This is your chance to have your voice heard and play a part in shaping Crestline’s future. Let’s work together to make our town thrive—see you there! 🏞️🤝
URL:https://www.crestlinechamber.org/event/monthly-open-board-meeting-%f0%9f%93%86/2030-05-21/
LOCATION:Crestline Chamber Office\, 24385 Lake Dr\, Crestline\, CA\, 92325\, United States
CATEGORIES:Community Meeting,Crestline Chamber Event,Lake Gregory,Monthly Chamber Meetings
ATTACH;FMTTYPE=image/jpeg:https://www.crestlinechamber.org/wp-content/uploads/2024/04/monthly-meeting.jpg
GEO:34.2437662;-117.2707116
X-APPLE-STRUCTURED-LOCATION;VALUE=URI;X-ADDRESS=Crestline Chamber Office 24385 Lake Dr Crestline CA 92325 United States;X-APPLE-RADIUS=500;X-TITLE=24385 Lake Dr:geo:-117.2707116,34.2437662
END:VEVENT
BEGIN:VEVENT
DTSTART;TZID=America/Los_Angeles:20300618T173000
DTEND;TZID=America/Los_Angeles:20300618T183000
DTSTAMP:20260423T171038
CREATED:20250114T204019Z
LAST-MODIFIED:20260421T155143Z
UID:10007580-1908034200-1908037800@www.crestlinechamber.org
SUMMARY:Monthly Open Board Meeting 📆
DESCRIPTION:📢 Join us for the Crestline Chamber of Commerce Monthly Open Board Meeting! 🌟 Connect with local leaders\, share your ideas\, and stay informed about the latest community developments. This is your chance to have your voice heard and play a part in shaping Crestline’s future. Let’s work together to make our town thrive—see you there! 🏞️🤝
URL:https://www.crestlinechamber.org/event/monthly-open-board-meeting-%f0%9f%93%86/2030-06-18/
LOCATION:Crestline Chamber Office\, 24385 Lake Dr\, Crestline\, CA\, 92325\, United States
CATEGORIES:Community Meeting,Crestline Chamber Event,Lake Gregory,Monthly Chamber Meetings
ATTACH;FMTTYPE=image/jpeg:https://www.crestlinechamber.org/wp-content/uploads/2024/04/monthly-meeting.jpg
GEO:34.2437662;-117.2707116
X-APPLE-STRUCTURED-LOCATION;VALUE=URI;X-ADDRESS=Crestline Chamber Office 24385 Lake Dr Crestline CA 92325 United States;X-APPLE-RADIUS=500;X-TITLE=24385 Lake Dr:geo:-117.2707116,34.2437662
END:VEVENT
BEGIN:VEVENT
DTSTART;TZID=America/Los_Angeles:20300716T173000
DTEND;TZID=America/Los_Angeles:20300716T183000
DTSTAMP:20260423T171038
CREATED:20250114T204019Z
LAST-MODIFIED:20260421T155143Z
UID:10007581-1910453400-1910457000@www.crestlinechamber.org
SUMMARY:Monthly Open Board Meeting 📆
DESCRIPTION:📢 Join us for the Crestline Chamber of Commerce Monthly Open Board Meeting! 🌟 Connect with local leaders\, share your ideas\, and stay informed about the latest community developments. This is your chance to have your voice heard and play a part in shaping Crestline’s future. Let’s work together to make our town thrive—see you there! 🏞️🤝
URL:https://www.crestlinechamber.org/event/monthly-open-board-meeting-%f0%9f%93%86/2030-07-16/
LOCATION:Crestline Chamber Office\, 24385 Lake Dr\, Crestline\, CA\, 92325\, United States
CATEGORIES:Community Meeting,Crestline Chamber Event,Lake Gregory,Monthly Chamber Meetings
ATTACH;FMTTYPE=image/jpeg:https://www.crestlinechamber.org/wp-content/uploads/2024/04/monthly-meeting.jpg
GEO:34.2437662;-117.2707116
X-APPLE-STRUCTURED-LOCATION;VALUE=URI;X-ADDRESS=Crestline Chamber Office 24385 Lake Dr Crestline CA 92325 United States;X-APPLE-RADIUS=500;X-TITLE=24385 Lake Dr:geo:-117.2707116,34.2437662
END:VEVENT
BEGIN:VEVENT
DTSTART;TZID=America/Los_Angeles:20300820T173000
DTEND;TZID=America/Los_Angeles:20300820T183000
DTSTAMP:20260423T171038
CREATED:20250114T204019Z
LAST-MODIFIED:20260421T155143Z
UID:10007582-1913477400-1913481000@www.crestlinechamber.org
SUMMARY:Monthly Open Board Meeting 📆
DESCRIPTION:📢 Join us for the Crestline Chamber of Commerce Monthly Open Board Meeting! 🌟 Connect with local leaders\, share your ideas\, and stay informed about the latest community developments. This is your chance to have your voice heard and play a part in shaping Crestline’s future. Let’s work together to make our town thrive—see you there! 🏞️🤝
URL:https://www.crestlinechamber.org/event/monthly-open-board-meeting-%f0%9f%93%86/2030-08-20/
LOCATION:Crestline Chamber Office\, 24385 Lake Dr\, Crestline\, CA\, 92325\, United States
CATEGORIES:Community Meeting,Crestline Chamber Event,Lake Gregory,Monthly Chamber Meetings
ATTACH;FMTTYPE=image/jpeg:https://www.crestlinechamber.org/wp-content/uploads/2024/04/monthly-meeting.jpg
GEO:34.2437662;-117.2707116
X-APPLE-STRUCTURED-LOCATION;VALUE=URI;X-ADDRESS=Crestline Chamber Office 24385 Lake Dr Crestline CA 92325 United States;X-APPLE-RADIUS=500;X-TITLE=24385 Lake Dr:geo:-117.2707116,34.2437662
END:VEVENT
BEGIN:VEVENT
DTSTART;TZID=America/Los_Angeles:20300917T173000
DTEND;TZID=America/Los_Angeles:20300917T183000
DTSTAMP:20260423T171038
CREATED:20250114T204019Z
LAST-MODIFIED:20260421T155143Z
UID:10007583-1915896600-1915900200@www.crestlinechamber.org
SUMMARY:Monthly Open Board Meeting 📆
DESCRIPTION:📢 Join us for the Crestline Chamber of Commerce Monthly Open Board Meeting! 🌟 Connect with local leaders\, share your ideas\, and stay informed about the latest community developments. This is your chance to have your voice heard and play a part in shaping Crestline’s future. Let’s work together to make our town thrive—see you there! 🏞️🤝
URL:https://www.crestlinechamber.org/event/monthly-open-board-meeting-%f0%9f%93%86/2030-09-17/
LOCATION:Crestline Chamber Office\, 24385 Lake Dr\, Crestline\, CA\, 92325\, United States
CATEGORIES:Community Meeting,Crestline Chamber Event,Lake Gregory,Monthly Chamber Meetings
ATTACH;FMTTYPE=image/jpeg:https://www.crestlinechamber.org/wp-content/uploads/2024/04/monthly-meeting.jpg
GEO:34.2437662;-117.2707116
X-APPLE-STRUCTURED-LOCATION;VALUE=URI;X-ADDRESS=Crestline Chamber Office 24385 Lake Dr Crestline CA 92325 United States;X-APPLE-RADIUS=500;X-TITLE=24385 Lake Dr:geo:-117.2707116,34.2437662
END:VEVENT
BEGIN:VEVENT
DTSTART;TZID=America/Los_Angeles:20301015T173000
DTEND;TZID=America/Los_Angeles:20301015T183000
DTSTAMP:20260423T171038
CREATED:20250114T204019Z
LAST-MODIFIED:20260421T155143Z
UID:10007584-1918315800-1918319400@www.crestlinechamber.org
SUMMARY:Monthly Open Board Meeting 📆
DESCRIPTION:📢 Join us for the Crestline Chamber of Commerce Monthly Open Board Meeting! 🌟 Connect with local leaders\, share your ideas\, and stay informed about the latest community developments. This is your chance to have your voice heard and play a part in shaping Crestline’s future. Let’s work together to make our town thrive—see you there! 🏞️🤝
URL:https://www.crestlinechamber.org/event/monthly-open-board-meeting-%f0%9f%93%86/2030-10-15/
LOCATION:Crestline Chamber Office\, 24385 Lake Dr\, Crestline\, CA\, 92325\, United States
CATEGORIES:Community Meeting,Crestline Chamber Event,Lake Gregory,Monthly Chamber Meetings
ATTACH;FMTTYPE=image/jpeg:https://www.crestlinechamber.org/wp-content/uploads/2024/04/monthly-meeting.jpg
GEO:34.2437662;-117.2707116
X-APPLE-STRUCTURED-LOCATION;VALUE=URI;X-ADDRESS=Crestline Chamber Office 24385 Lake Dr Crestline CA 92325 United States;X-APPLE-RADIUS=500;X-TITLE=24385 Lake Dr:geo:-117.2707116,34.2437662
END:VEVENT
BEGIN:VEVENT
DTSTART;TZID=America/Los_Angeles:20301119T173000
DTEND;TZID=America/Los_Angeles:20301119T183000
DTSTAMP:20260423T171038
CREATED:20250114T204019Z
LAST-MODIFIED:20260421T155143Z
UID:10007585-1921339800-1921343400@www.crestlinechamber.org
SUMMARY:Monthly Open Board Meeting 📆
DESCRIPTION:📢 Join us for the Crestline Chamber of Commerce Monthly Open Board Meeting! 🌟 Connect with local leaders\, share your ideas\, and stay informed about the latest community developments. This is your chance to have your voice heard and play a part in shaping Crestline’s future. Let’s work together to make our town thrive—see you there! 🏞️🤝
URL:https://www.crestlinechamber.org/event/monthly-open-board-meeting-%f0%9f%93%86/2030-11-19/
LOCATION:Crestline Chamber Office\, 24385 Lake Dr\, Crestline\, CA\, 92325\, United States
CATEGORIES:Community Meeting,Crestline Chamber Event,Lake Gregory,Monthly Chamber Meetings
ATTACH;FMTTYPE=image/jpeg:https://www.crestlinechamber.org/wp-content/uploads/2024/04/monthly-meeting.jpg
GEO:34.2437662;-117.2707116
X-APPLE-STRUCTURED-LOCATION;VALUE=URI;X-ADDRESS=Crestline Chamber Office 24385 Lake Dr Crestline CA 92325 United States;X-APPLE-RADIUS=500;X-TITLE=24385 Lake Dr:geo:-117.2707116,34.2437662
END:VEVENT
BEGIN:VEVENT
DTSTART;TZID=America/Los_Angeles:20301217T173000
DTEND;TZID=America/Los_Angeles:20301217T183000
DTSTAMP:20260423T171038
CREATED:20250114T204019Z
LAST-MODIFIED:20260421T155143Z
UID:10007586-1923759000-1923762600@www.crestlinechamber.org
SUMMARY:Monthly Open Board Meeting 📆
DESCRIPTION:📢 Join us for the Crestline Chamber of Commerce Monthly Open Board Meeting! 🌟 Connect with local leaders\, share your ideas\, and stay informed about the latest community developments. This is your chance to have your voice heard and play a part in shaping Crestline’s future. Let’s work together to make our town thrive—see you there! 🏞️🤝
URL:https://www.crestlinechamber.org/event/monthly-open-board-meeting-%f0%9f%93%86/2030-12-17/
LOCATION:Crestline Chamber Office\, 24385 Lake Dr\, Crestline\, CA\, 92325\, United States
CATEGORIES:Community Meeting,Crestline Chamber Event,Lake Gregory,Monthly Chamber Meetings
ATTACH;FMTTYPE=image/jpeg:https://www.crestlinechamber.org/wp-content/uploads/2024/04/monthly-meeting.jpg
GEO:34.2437662;-117.2707116
X-APPLE-STRUCTURED-LOCATION;VALUE=URI;X-ADDRESS=Crestline Chamber Office 24385 Lake Dr Crestline CA 92325 United States;X-APPLE-RADIUS=500;X-TITLE=24385 Lake Dr:geo:-117.2707116,34.2437662
END:VEVENT
BEGIN:VEVENT
DTSTART;TZID=America/Los_Angeles:20310121T173000
DTEND;TZID=America/Los_Angeles:20310121T183000
DTSTAMP:20260423T171038
CREATED:20250114T204019Z
LAST-MODIFIED:20260421T155143Z
UID:10007587-1926783000-1926786600@www.crestlinechamber.org
SUMMARY:Monthly Open Board Meeting 📆
DESCRIPTION:📢 Join us for the Crestline Chamber of Commerce Monthly Open Board Meeting! 🌟 Connect with local leaders\, share your ideas\, and stay informed about the latest community developments. This is your chance to have your voice heard and play a part in shaping Crestline’s future. Let’s work together to make our town thrive—see you there! 🏞️🤝
URL:https://www.crestlinechamber.org/event/monthly-open-board-meeting-%f0%9f%93%86/2031-01-21/
LOCATION:Crestline Chamber Office\, 24385 Lake Dr\, Crestline\, CA\, 92325\, United States
CATEGORIES:Community Meeting,Crestline Chamber Event,Lake Gregory,Monthly Chamber Meetings
ATTACH;FMTTYPE=image/jpeg:https://www.crestlinechamber.org/wp-content/uploads/2024/04/monthly-meeting.jpg
GEO:34.2437662;-117.2707116
X-APPLE-STRUCTURED-LOCATION;VALUE=URI;X-ADDRESS=Crestline Chamber Office 24385 Lake Dr Crestline CA 92325 United States;X-APPLE-RADIUS=500;X-TITLE=24385 Lake Dr:geo:-117.2707116,34.2437662
END:VEVENT
BEGIN:VEVENT
DTSTART;TZID=America/Los_Angeles:20310218T173000
DTEND;TZID=America/Los_Angeles:20310218T183000
DTSTAMP:20260423T171038
CREATED:20250114T204019Z
LAST-MODIFIED:20260421T155143Z
UID:10007588-1929202200-1929205800@www.crestlinechamber.org
SUMMARY:Monthly Open Board Meeting 📆
DESCRIPTION:📢 Join us for the Crestline Chamber of Commerce Monthly Open Board Meeting! 🌟 Connect with local leaders\, share your ideas\, and stay informed about the latest community developments. This is your chance to have your voice heard and play a part in shaping Crestline’s future. Let’s work together to make our town thrive—see you there! 🏞️🤝
URL:https://www.crestlinechamber.org/event/monthly-open-board-meeting-%f0%9f%93%86/2031-02-18/
LOCATION:Crestline Chamber Office\, 24385 Lake Dr\, Crestline\, CA\, 92325\, United States
CATEGORIES:Community Meeting,Crestline Chamber Event,Lake Gregory,Monthly Chamber Meetings
ATTACH;FMTTYPE=image/jpeg:https://www.crestlinechamber.org/wp-content/uploads/2024/04/monthly-meeting.jpg
GEO:34.2437662;-117.2707116
X-APPLE-STRUCTURED-LOCATION;VALUE=URI;X-ADDRESS=Crestline Chamber Office 24385 Lake Dr Crestline CA 92325 United States;X-APPLE-RADIUS=500;X-TITLE=24385 Lake Dr:geo:-117.2707116,34.2437662
END:VEVENT
BEGIN:VEVENT
DTSTART;TZID=America/Los_Angeles:20310318T173000
DTEND;TZID=America/Los_Angeles:20310318T183000
DTSTAMP:20260423T171038
CREATED:20250114T204019Z
LAST-MODIFIED:20260421T155143Z
UID:10007589-1931621400-1931625000@www.crestlinechamber.org
SUMMARY:Monthly Open Board Meeting 📆
DESCRIPTION:📢 Join us for the Crestline Chamber of Commerce Monthly Open Board Meeting! 🌟 Connect with local leaders\, share your ideas\, and stay informed about the latest community developments. This is your chance to have your voice heard and play a part in shaping Crestline’s future. Let’s work together to make our town thrive—see you there! 🏞️🤝
URL:https://www.crestlinechamber.org/event/monthly-open-board-meeting-%f0%9f%93%86/2031-03-18/
LOCATION:Crestline Chamber Office\, 24385 Lake Dr\, Crestline\, CA\, 92325\, United States
CATEGORIES:Community Meeting,Crestline Chamber Event,Lake Gregory,Monthly Chamber Meetings
ATTACH;FMTTYPE=image/jpeg:https://www.crestlinechamber.org/wp-content/uploads/2024/04/monthly-meeting.jpg
GEO:34.2437662;-117.2707116
X-APPLE-STRUCTURED-LOCATION;VALUE=URI;X-ADDRESS=Crestline Chamber Office 24385 Lake Dr Crestline CA 92325 United States;X-APPLE-RADIUS=500;X-TITLE=24385 Lake Dr:geo:-117.2707116,34.2437662
END:VEVENT
BEGIN:VEVENT
DTSTART;TZID=America/Los_Angeles:20310415T173000
DTEND;TZID=America/Los_Angeles:20310415T183000
DTSTAMP:20260423T171038
CREATED:20250114T204019Z
LAST-MODIFIED:20260421T155143Z
UID:10007590-1934040600-1934044200@www.crestlinechamber.org
SUMMARY:Monthly Open Board Meeting 📆
DESCRIPTION:📢 Join us for the Crestline Chamber of Commerce Monthly Open Board Meeting! 🌟 Connect with local leaders\, share your ideas\, and stay informed about the latest community developments. This is your chance to have your voice heard and play a part in shaping Crestline’s future. Let’s work together to make our town thrive—see you there! 🏞️🤝
URL:https://www.crestlinechamber.org/event/monthly-open-board-meeting-%f0%9f%93%86/2031-04-15/
LOCATION:Crestline Chamber Office\, 24385 Lake Dr\, Crestline\, CA\, 92325\, United States
CATEGORIES:Community Meeting,Crestline Chamber Event,Lake Gregory,Monthly Chamber Meetings
ATTACH;FMTTYPE=image/jpeg:https://www.crestlinechamber.org/wp-content/uploads/2024/04/monthly-meeting.jpg
GEO:34.2437662;-117.2707116
X-APPLE-STRUCTURED-LOCATION;VALUE=URI;X-ADDRESS=Crestline Chamber Office 24385 Lake Dr Crestline CA 92325 United States;X-APPLE-RADIUS=500;X-TITLE=24385 Lake Dr:geo:-117.2707116,34.2437662
END:VEVENT
END:VCALENDAR