BEGIN:VCALENDAR
VERSION:2.0
PRODID:-//Crestline Chamber of Commerce - ECPv6.15.20//NONSGML v1.0//EN
CALSCALE:GREGORIAN
METHOD:PUBLISH
X-ORIGINAL-URL:https://www.crestlinechamber.org
X-WR-CALDESC:Events for Crestline Chamber of Commerce
REFRESH-INTERVAL;VALUE=DURATION:PT1H
X-Robots-Tag:noindex
X-PUBLISHED-TTL:PT1H
BEGIN:VTIMEZONE
TZID:America/Los_Angeles
BEGIN:DAYLIGHT
TZOFFSETFROM:-0800
TZOFFSETTO:-0700
TZNAME:PDT
DTSTART:20250309T100000
END:DAYLIGHT
BEGIN:STANDARD
TZOFFSETFROM:-0700
TZOFFSETTO:-0800
TZNAME:PST
DTSTART:20251102T090000
END:STANDARD
BEGIN:DAYLIGHT
TZOFFSETFROM:-0800
TZOFFSETTO:-0700
TZNAME:PDT
DTSTART:20260308T100000
END:DAYLIGHT
BEGIN:STANDARD
TZOFFSETFROM:-0700
TZOFFSETTO:-0800
TZNAME:PST
DTSTART:20261101T090000
END:STANDARD
BEGIN:DAYLIGHT
TZOFFSETFROM:-0800
TZOFFSETTO:-0700
TZNAME:PDT
DTSTART:20270314T100000
END:DAYLIGHT
BEGIN:STANDARD
TZOFFSETFROM:-0700
TZOFFSETTO:-0800
TZNAME:PST
DTSTART:20271107T090000
END:STANDARD
END:VTIMEZONE
BEGIN:VEVENT
DTSTART;TZID=America/Los_Angeles:20260603T150000
DTEND;TZID=America/Los_Angeles:20260603T160000
DTSTAMP:20260423T195406
CREATED:20250127T200257Z
LAST-MODIFIED:20250127T201232Z
UID:10002697-1780498800-1780502400@www.crestlinechamber.org
SUMMARY:Kid Zones\, Discovery Time  📚 ✨
DESCRIPTION:“Welcome to Kid Zones: Discovery Time 📚✨—a space where young minds explore\, create\, and discover the wonders of the world! From hands-on activities to captivating stories\, every moment is an opportunity to learn and grow. Let the adventure begin!”
URL:https://www.crestlinechamber.org/event/activate-einsteins-kid-zones-%f0%9f%93%9a-%e2%9c%a8/2026-06-03/
LOCATION:Crestline Branch Library\, 24105 Lake Gregory Dr\, Crestline\, CA\, 92325
CATEGORIES:Community Event,Family Friendly,Lake Gregory
END:VEVENT
BEGIN:VEVENT
DTSTART;TZID=America/Los_Angeles:20260604T170000
DTEND;TZID=America/Los_Angeles:20260604T190000
DTSTAMP:20260423T195406
CREATED:20250127T233534Z
LAST-MODIFIED:20250127T233534Z
UID:10003479-1780592400-1780599600@www.crestlinechamber.org
SUMMARY:VFW Chess Club ♟️
DESCRIPTION:♟️ Checkmate at the VFW Chess Club! \nCalling all chess enthusiasts\, beginners\, and strategists! Join the VFW Chess Club for a fun and engaging experience. Whether you’re mastering the game or just learning the ropes\, this is the perfect place to challenge your mind and connect with fellow players. \n🕰️ When: Check the VFW calendar for meeting times\n📍 Where: Local VFW Post \nSharpen your skills\, make new friends\, and enjoy the timeless game of chess. All ages and skill levels are welcome—let’s make some moves! ♟️✨
URL:https://www.crestlinechamber.org/event/vfw-chess-club-%e2%99%9f%ef%b8%8f/2026-06-04/
LOCATION:Rim of the World VFW Auxiliary 9624\, 21841 Crest Forest Dr.\, Cedarpines Park\, CA\, 92322
CATEGORIES:Community Event,Family Friendly,Lake Gregory
END:VEVENT
BEGIN:VEVENT
DTSTART;TZID=America/Los_Angeles:20260604T180000
DTEND;TZID=America/Los_Angeles:20260604T220000
DTSTAMP:20260423T195406
CREATED:20250127T232001Z
LAST-MODIFIED:20250127T232001Z
UID:10003218-1780596000-1780610400@www.crestlinechamber.org
SUMMARY:Game Nights 🏆🎲♟️🎯🎮
DESCRIPTION:Looking for a fun night out? Join us at San Marzano Wine & Ale Lounge for Game Nights! \n🃏 Play your favorite board games\, card games\, and more while enjoying a night out!  Bring your friends or make new ones—it’s all about good vibes and great times!
URL:https://www.crestlinechamber.org/event/game-nights-%f0%9f%8f%86%f0%9f%8e%b2%e2%99%9f%ef%b8%8f%f0%9f%8e%af%f0%9f%8e%ae/2026-06-04/
LOCATION:The San Marzano Wine & Ale Lounge\, 23575 Lake Dr\, crestline\, CA\, 92325\, United States
CATEGORIES:Community Event,Family Friendly,Lake Gregory
ORGANIZER;CN="San Marzano Wine & Ale Lounge":MAILTO:kenrwilliams@icloud.com
END:VEVENT
BEGIN:VEVENT
DTSTART;TZID=America/Los_Angeles:20260605T170000
DTEND;TZID=America/Los_Angeles:20260605T193000
DTSTAMP:20260423T195406
CREATED:20250127T193036Z
LAST-MODIFIED:20250127T193036Z
UID:10002262-1780678800-1780687800@www.crestlinechamber.org
SUMMARY:Leisure Shores: Bingo Night! 🎰
DESCRIPTION:Get ready for an evening of fun\, friends\, and fabulous prizes! Join us for Bingo Night at Leisure Shores\, where the excitement is always just one number away. \nCash prizes\, a snack bar with hot dogs\, lasagna\, chicken tenders\, garlic bread\, and much more! 🌭🍗🍪🥤 \nFor $25\, you’ll get to participate in 10 games and have an opportunity to meet with others within the community! \nDon’t miss your chance to shout “BINGO!” and enjoy a great time with the community. Bring your lucky charm and join the fun—see you there! 🎊✨
URL:https://www.crestlinechamber.org/event/leisure-shores-bingo-night-%f0%9f%8e%b0/2026-06-05/
LOCATION:Crest Forest Senior Citizens Club\, 24658 San Moritz Dr.\, Crestline\, 92325\, United States
CATEGORIES:Community Event,Family Friendly,Lake Gregory
GEO:34.2431624;-117.2610605
X-APPLE-STRUCTURED-LOCATION;VALUE=URI;X-ADDRESS=Crest Forest Senior Citizens Club 24658 San Moritz Dr. Crestline 92325 United States;X-APPLE-RADIUS=500;X-TITLE=24658 San Moritz Dr.:geo:-117.2610605,34.2431624
END:VEVENT
BEGIN:VEVENT
DTSTART;TZID=America/Los_Angeles:20260608T140000
DTEND;TZID=America/Los_Angeles:20260608T150000
DTSTAMP:20260423T195406
CREATED:20250127T200806Z
LAST-MODIFIED:20250127T200806Z
UID:10002958-1780927200-1780930800@www.crestlinechamber.org
SUMMARY:Adult Programs\, Yoga 🧘 🙏
DESCRIPTION:🧘‍♀️ Yoga Sessions:\nFind your inner peace with relaxing and rejuvenating yoga classes. Perfect for beginners and seasoned yogis alike\, these sessions are a great way to unwind and recharge. \n📅 Check the library’s calendar for dates and times. Embrace wellness and learning\, all in one place! ✨
URL:https://www.crestlinechamber.org/event/adult-programs-yoga-%f0%9f%a7%98-%f0%9f%99%8f/2026-06-08/
LOCATION:Crestline Branch Library\, 24105 Lake Gregory Dr\, Crestline\, CA\, 92325
CATEGORIES:Community Event,Family Friendly,Lake Gregory
END:VEVENT
BEGIN:VEVENT
DTSTART;TZID=America/Los_Angeles:20260610T150000
DTEND;TZID=America/Los_Angeles:20260610T160000
DTSTAMP:20260423T195406
CREATED:20250127T200257Z
LAST-MODIFIED:20250127T201232Z
UID:10002698-1781103600-1781107200@www.crestlinechamber.org
SUMMARY:Kid Zones\, Discovery Time  📚 ✨
DESCRIPTION:“Welcome to Kid Zones: Discovery Time 📚✨—a space where young minds explore\, create\, and discover the wonders of the world! From hands-on activities to captivating stories\, every moment is an opportunity to learn and grow. Let the adventure begin!”
URL:https://www.crestlinechamber.org/event/activate-einsteins-kid-zones-%f0%9f%93%9a-%e2%9c%a8/2026-06-10/
LOCATION:Crestline Branch Library\, 24105 Lake Gregory Dr\, Crestline\, CA\, 92325
CATEGORIES:Community Event,Family Friendly,Lake Gregory
END:VEVENT
BEGIN:VEVENT
DTSTART;TZID=America/Los_Angeles:20260611T170000
DTEND;TZID=America/Los_Angeles:20260611T190000
DTSTAMP:20260423T195406
CREATED:20250127T233534Z
LAST-MODIFIED:20250127T233534Z
UID:10003480-1781197200-1781204400@www.crestlinechamber.org
SUMMARY:VFW Chess Club ♟️
DESCRIPTION:♟️ Checkmate at the VFW Chess Club! \nCalling all chess enthusiasts\, beginners\, and strategists! Join the VFW Chess Club for a fun and engaging experience. Whether you’re mastering the game or just learning the ropes\, this is the perfect place to challenge your mind and connect with fellow players. \n🕰️ When: Check the VFW calendar for meeting times\n📍 Where: Local VFW Post \nSharpen your skills\, make new friends\, and enjoy the timeless game of chess. All ages and skill levels are welcome—let’s make some moves! ♟️✨
URL:https://www.crestlinechamber.org/event/vfw-chess-club-%e2%99%9f%ef%b8%8f/2026-06-11/
LOCATION:Rim of the World VFW Auxiliary 9624\, 21841 Crest Forest Dr.\, Cedarpines Park\, CA\, 92322
CATEGORIES:Community Event,Family Friendly,Lake Gregory
END:VEVENT
BEGIN:VEVENT
DTSTART;TZID=America/Los_Angeles:20260611T180000
DTEND;TZID=America/Los_Angeles:20260611T220000
DTSTAMP:20260423T195406
CREATED:20250127T232001Z
LAST-MODIFIED:20250127T232001Z
UID:10003219-1781200800-1781215200@www.crestlinechamber.org
SUMMARY:Game Nights 🏆🎲♟️🎯🎮
DESCRIPTION:Looking for a fun night out? Join us at San Marzano Wine & Ale Lounge for Game Nights! \n🃏 Play your favorite board games\, card games\, and more while enjoying a night out!  Bring your friends or make new ones—it’s all about good vibes and great times!
URL:https://www.crestlinechamber.org/event/game-nights-%f0%9f%8f%86%f0%9f%8e%b2%e2%99%9f%ef%b8%8f%f0%9f%8e%af%f0%9f%8e%ae/2026-06-11/
LOCATION:The San Marzano Wine & Ale Lounge\, 23575 Lake Dr\, crestline\, CA\, 92325\, United States
CATEGORIES:Community Event,Family Friendly,Lake Gregory
ORGANIZER;CN="San Marzano Wine & Ale Lounge":MAILTO:kenrwilliams@icloud.com
END:VEVENT
BEGIN:VEVENT
DTSTART;TZID=America/Los_Angeles:20260615T140000
DTEND;TZID=America/Los_Angeles:20260615T150000
DTSTAMP:20260423T195406
CREATED:20250127T200806Z
LAST-MODIFIED:20250127T200806Z
UID:10002959-1781532000-1781535600@www.crestlinechamber.org
SUMMARY:Adult Programs\, Yoga 🧘 🙏
DESCRIPTION:🧘‍♀️ Yoga Sessions:\nFind your inner peace with relaxing and rejuvenating yoga classes. Perfect for beginners and seasoned yogis alike\, these sessions are a great way to unwind and recharge. \n📅 Check the library’s calendar for dates and times. Embrace wellness and learning\, all in one place! ✨
URL:https://www.crestlinechamber.org/event/adult-programs-yoga-%f0%9f%a7%98-%f0%9f%99%8f/2026-06-15/
LOCATION:Crestline Branch Library\, 24105 Lake Gregory Dr\, Crestline\, CA\, 92325
CATEGORIES:Community Event,Family Friendly,Lake Gregory
END:VEVENT
BEGIN:VEVENT
DTSTART;TZID=America/Los_Angeles:20260616T173000
DTEND;TZID=America/Los_Angeles:20260616T183000
DTSTAMP:20260423T195406
CREATED:20250114T204019Z
LAST-MODIFIED:20260421T155143Z
UID:10002051-1781631000-1781634600@www.crestlinechamber.org
SUMMARY:Monthly Open Board Meeting 📆
DESCRIPTION:📢 Join us for the Crestline Chamber of Commerce Monthly Open Board Meeting! 🌟 Connect with local leaders\, share your ideas\, and stay informed about the latest community developments. This is your chance to have your voice heard and play a part in shaping Crestline’s future. Let’s work together to make our town thrive—see you there! 🏞️🤝
URL:https://www.crestlinechamber.org/event/monthly-open-board-meeting-%f0%9f%93%86/2026-06-16/
LOCATION:Crestline Chamber Office\, 24385 Lake Dr\, Crestline\, CA\, 92325\, United States
CATEGORIES:Community Meeting,Crestline Chamber Event,Lake Gregory,Monthly Chamber Meetings
ATTACH;FMTTYPE=image/jpeg:https://www.crestlinechamber.org/wp-content/uploads/2024/04/monthly-meeting.jpg
GEO:34.2437662;-117.2707116
X-APPLE-STRUCTURED-LOCATION;VALUE=URI;X-ADDRESS=Crestline Chamber Office 24385 Lake Dr Crestline CA 92325 United States;X-APPLE-RADIUS=500;X-TITLE=24385 Lake Dr:geo:-117.2707116,34.2437662
END:VEVENT
BEGIN:VEVENT
DTSTART;TZID=America/Los_Angeles:20260617T150000
DTEND;TZID=America/Los_Angeles:20260617T160000
DTSTAMP:20260423T195406
CREATED:20250127T200257Z
LAST-MODIFIED:20250127T201232Z
UID:10002699-1781708400-1781712000@www.crestlinechamber.org
SUMMARY:Kid Zones\, Discovery Time  📚 ✨
DESCRIPTION:“Welcome to Kid Zones: Discovery Time 📚✨—a space where young minds explore\, create\, and discover the wonders of the world! From hands-on activities to captivating stories\, every moment is an opportunity to learn and grow. Let the adventure begin!”
URL:https://www.crestlinechamber.org/event/activate-einsteins-kid-zones-%f0%9f%93%9a-%e2%9c%a8/2026-06-17/
LOCATION:Crestline Branch Library\, 24105 Lake Gregory Dr\, Crestline\, CA\, 92325
CATEGORIES:Community Event,Family Friendly,Lake Gregory
END:VEVENT
BEGIN:VEVENT
DTSTART;TZID=America/Los_Angeles:20260618T170000
DTEND;TZID=America/Los_Angeles:20260618T190000
DTSTAMP:20260423T195406
CREATED:20250127T233534Z
LAST-MODIFIED:20250127T233534Z
UID:10003481-1781802000-1781809200@www.crestlinechamber.org
SUMMARY:VFW Chess Club ♟️
DESCRIPTION:♟️ Checkmate at the VFW Chess Club! \nCalling all chess enthusiasts\, beginners\, and strategists! Join the VFW Chess Club for a fun and engaging experience. Whether you’re mastering the game or just learning the ropes\, this is the perfect place to challenge your mind and connect with fellow players. \n🕰️ When: Check the VFW calendar for meeting times\n📍 Where: Local VFW Post \nSharpen your skills\, make new friends\, and enjoy the timeless game of chess. All ages and skill levels are welcome—let’s make some moves! ♟️✨
URL:https://www.crestlinechamber.org/event/vfw-chess-club-%e2%99%9f%ef%b8%8f/2026-06-18/
LOCATION:Rim of the World VFW Auxiliary 9624\, 21841 Crest Forest Dr.\, Cedarpines Park\, CA\, 92322
CATEGORIES:Community Event,Family Friendly,Lake Gregory
END:VEVENT
BEGIN:VEVENT
DTSTART;TZID=America/Los_Angeles:20260618T180000
DTEND;TZID=America/Los_Angeles:20260618T220000
DTSTAMP:20260423T195406
CREATED:20250127T232001Z
LAST-MODIFIED:20250127T232001Z
UID:10003220-1781805600-1781820000@www.crestlinechamber.org
SUMMARY:Game Nights 🏆🎲♟️🎯🎮
DESCRIPTION:Looking for a fun night out? Join us at San Marzano Wine & Ale Lounge for Game Nights! \n🃏 Play your favorite board games\, card games\, and more while enjoying a night out!  Bring your friends or make new ones—it’s all about good vibes and great times!
URL:https://www.crestlinechamber.org/event/game-nights-%f0%9f%8f%86%f0%9f%8e%b2%e2%99%9f%ef%b8%8f%f0%9f%8e%af%f0%9f%8e%ae/2026-06-18/
LOCATION:The San Marzano Wine & Ale Lounge\, 23575 Lake Dr\, crestline\, CA\, 92325\, United States
CATEGORIES:Community Event,Family Friendly,Lake Gregory
ORGANIZER;CN="San Marzano Wine & Ale Lounge":MAILTO:kenrwilliams@icloud.com
END:VEVENT
BEGIN:VEVENT
DTSTART;TZID=America/Los_Angeles:20260622T140000
DTEND;TZID=America/Los_Angeles:20260622T150000
DTSTAMP:20260423T195406
CREATED:20250127T200806Z
LAST-MODIFIED:20250127T200806Z
UID:10002960-1782136800-1782140400@www.crestlinechamber.org
SUMMARY:Adult Programs\, Yoga 🧘 🙏
DESCRIPTION:🧘‍♀️ Yoga Sessions:\nFind your inner peace with relaxing and rejuvenating yoga classes. Perfect for beginners and seasoned yogis alike\, these sessions are a great way to unwind and recharge. \n📅 Check the library’s calendar for dates and times. Embrace wellness and learning\, all in one place! ✨
URL:https://www.crestlinechamber.org/event/adult-programs-yoga-%f0%9f%a7%98-%f0%9f%99%8f/2026-06-22/
LOCATION:Crestline Branch Library\, 24105 Lake Gregory Dr\, Crestline\, CA\, 92325
CATEGORIES:Community Event,Family Friendly,Lake Gregory
END:VEVENT
BEGIN:VEVENT
DTSTART;TZID=America/Los_Angeles:20260624T150000
DTEND;TZID=America/Los_Angeles:20260624T160000
DTSTAMP:20260423T195406
CREATED:20250127T200257Z
LAST-MODIFIED:20250127T201232Z
UID:10002700-1782313200-1782316800@www.crestlinechamber.org
SUMMARY:Kid Zones\, Discovery Time  📚 ✨
DESCRIPTION:“Welcome to Kid Zones: Discovery Time 📚✨—a space where young minds explore\, create\, and discover the wonders of the world! From hands-on activities to captivating stories\, every moment is an opportunity to learn and grow. Let the adventure begin!”
URL:https://www.crestlinechamber.org/event/activate-einsteins-kid-zones-%f0%9f%93%9a-%e2%9c%a8/2026-06-24/
LOCATION:Crestline Branch Library\, 24105 Lake Gregory Dr\, Crestline\, CA\, 92325
CATEGORIES:Community Event,Family Friendly,Lake Gregory
END:VEVENT
BEGIN:VEVENT
DTSTART;TZID=America/Los_Angeles:20260625T170000
DTEND;TZID=America/Los_Angeles:20260625T190000
DTSTAMP:20260423T195406
CREATED:20250127T233534Z
LAST-MODIFIED:20250127T233534Z
UID:10003482-1782406800-1782414000@www.crestlinechamber.org
SUMMARY:VFW Chess Club ♟️
DESCRIPTION:♟️ Checkmate at the VFW Chess Club! \nCalling all chess enthusiasts\, beginners\, and strategists! Join the VFW Chess Club for a fun and engaging experience. Whether you’re mastering the game or just learning the ropes\, this is the perfect place to challenge your mind and connect with fellow players. \n🕰️ When: Check the VFW calendar for meeting times\n📍 Where: Local VFW Post \nSharpen your skills\, make new friends\, and enjoy the timeless game of chess. All ages and skill levels are welcome—let’s make some moves! ♟️✨
URL:https://www.crestlinechamber.org/event/vfw-chess-club-%e2%99%9f%ef%b8%8f/2026-06-25/
LOCATION:Rim of the World VFW Auxiliary 9624\, 21841 Crest Forest Dr.\, Cedarpines Park\, CA\, 92322
CATEGORIES:Community Event,Family Friendly,Lake Gregory
END:VEVENT
BEGIN:VEVENT
DTSTART;TZID=America/Los_Angeles:20260625T180000
DTEND;TZID=America/Los_Angeles:20260625T220000
DTSTAMP:20260423T195406
CREATED:20250127T232001Z
LAST-MODIFIED:20250127T232001Z
UID:10003221-1782410400-1782424800@www.crestlinechamber.org
SUMMARY:Game Nights 🏆🎲♟️🎯🎮
DESCRIPTION:Looking for a fun night out? Join us at San Marzano Wine & Ale Lounge for Game Nights! \n🃏 Play your favorite board games\, card games\, and more while enjoying a night out!  Bring your friends or make new ones—it’s all about good vibes and great times!
URL:https://www.crestlinechamber.org/event/game-nights-%f0%9f%8f%86%f0%9f%8e%b2%e2%99%9f%ef%b8%8f%f0%9f%8e%af%f0%9f%8e%ae/2026-06-25/
LOCATION:The San Marzano Wine & Ale Lounge\, 23575 Lake Dr\, crestline\, CA\, 92325\, United States
CATEGORIES:Community Event,Family Friendly,Lake Gregory
ORGANIZER;CN="San Marzano Wine & Ale Lounge":MAILTO:kenrwilliams@icloud.com
END:VEVENT
BEGIN:VEVENT
DTSTART;TZID=America/Los_Angeles:20260629T140000
DTEND;TZID=America/Los_Angeles:20260629T150000
DTSTAMP:20260423T195406
CREATED:20250127T200806Z
LAST-MODIFIED:20250127T200806Z
UID:10002961-1782741600-1782745200@www.crestlinechamber.org
SUMMARY:Adult Programs\, Yoga 🧘 🙏
DESCRIPTION:🧘‍♀️ Yoga Sessions:\nFind your inner peace with relaxing and rejuvenating yoga classes. Perfect for beginners and seasoned yogis alike\, these sessions are a great way to unwind and recharge. \n📅 Check the library’s calendar for dates and times. Embrace wellness and learning\, all in one place! ✨
URL:https://www.crestlinechamber.org/event/adult-programs-yoga-%f0%9f%a7%98-%f0%9f%99%8f/2026-06-29/
LOCATION:Crestline Branch Library\, 24105 Lake Gregory Dr\, Crestline\, CA\, 92325
CATEGORIES:Community Event,Family Friendly,Lake Gregory
END:VEVENT
BEGIN:VEVENT
DTSTART;TZID=America/Los_Angeles:20260701T150000
DTEND;TZID=America/Los_Angeles:20260701T160000
DTSTAMP:20260423T195406
CREATED:20250127T200257Z
LAST-MODIFIED:20250127T201232Z
UID:10002701-1782918000-1782921600@www.crestlinechamber.org
SUMMARY:Kid Zones\, Discovery Time  📚 ✨
DESCRIPTION:“Welcome to Kid Zones: Discovery Time 📚✨—a space where young minds explore\, create\, and discover the wonders of the world! From hands-on activities to captivating stories\, every moment is an opportunity to learn and grow. Let the adventure begin!”
URL:https://www.crestlinechamber.org/event/activate-einsteins-kid-zones-%f0%9f%93%9a-%e2%9c%a8/2026-07-01/
LOCATION:Crestline Branch Library\, 24105 Lake Gregory Dr\, Crestline\, CA\, 92325
CATEGORIES:Community Event,Family Friendly,Lake Gregory
END:VEVENT
BEGIN:VEVENT
DTSTART;TZID=America/Los_Angeles:20260702T170000
DTEND;TZID=America/Los_Angeles:20260702T190000
DTSTAMP:20260423T195406
CREATED:20250127T233534Z
LAST-MODIFIED:20250127T233534Z
UID:10003483-1783011600-1783018800@www.crestlinechamber.org
SUMMARY:VFW Chess Club ♟️
DESCRIPTION:♟️ Checkmate at the VFW Chess Club! \nCalling all chess enthusiasts\, beginners\, and strategists! Join the VFW Chess Club for a fun and engaging experience. Whether you’re mastering the game or just learning the ropes\, this is the perfect place to challenge your mind and connect with fellow players. \n🕰️ When: Check the VFW calendar for meeting times\n📍 Where: Local VFW Post \nSharpen your skills\, make new friends\, and enjoy the timeless game of chess. All ages and skill levels are welcome—let’s make some moves! ♟️✨
URL:https://www.crestlinechamber.org/event/vfw-chess-club-%e2%99%9f%ef%b8%8f/2026-07-02/
LOCATION:Rim of the World VFW Auxiliary 9624\, 21841 Crest Forest Dr.\, Cedarpines Park\, CA\, 92322
CATEGORIES:Community Event,Family Friendly,Lake Gregory
END:VEVENT
BEGIN:VEVENT
DTSTART;TZID=America/Los_Angeles:20260702T180000
DTEND;TZID=America/Los_Angeles:20260702T220000
DTSTAMP:20260423T195406
CREATED:20250127T232001Z
LAST-MODIFIED:20250127T232001Z
UID:10003222-1783015200-1783029600@www.crestlinechamber.org
SUMMARY:Game Nights 🏆🎲♟️🎯🎮
DESCRIPTION:Looking for a fun night out? Join us at San Marzano Wine & Ale Lounge for Game Nights! \n🃏 Play your favorite board games\, card games\, and more while enjoying a night out!  Bring your friends or make new ones—it’s all about good vibes and great times!
URL:https://www.crestlinechamber.org/event/game-nights-%f0%9f%8f%86%f0%9f%8e%b2%e2%99%9f%ef%b8%8f%f0%9f%8e%af%f0%9f%8e%ae/2026-07-02/
LOCATION:The San Marzano Wine & Ale Lounge\, 23575 Lake Dr\, crestline\, CA\, 92325\, United States
CATEGORIES:Community Event,Family Friendly,Lake Gregory
ORGANIZER;CN="San Marzano Wine & Ale Lounge":MAILTO:kenrwilliams@icloud.com
END:VEVENT
BEGIN:VEVENT
DTSTART;TZID=America/Los_Angeles:20260703T170000
DTEND;TZID=America/Los_Angeles:20260703T193000
DTSTAMP:20260423T195406
CREATED:20250127T193036Z
LAST-MODIFIED:20250127T193036Z
UID:10002263-1783098000-1783107000@www.crestlinechamber.org
SUMMARY:Leisure Shores: Bingo Night! 🎰
DESCRIPTION:Get ready for an evening of fun\, friends\, and fabulous prizes! Join us for Bingo Night at Leisure Shores\, where the excitement is always just one number away. \nCash prizes\, a snack bar with hot dogs\, lasagna\, chicken tenders\, garlic bread\, and much more! 🌭🍗🍪🥤 \nFor $25\, you’ll get to participate in 10 games and have an opportunity to meet with others within the community! \nDon’t miss your chance to shout “BINGO!” and enjoy a great time with the community. Bring your lucky charm and join the fun—see you there! 🎊✨
URL:https://www.crestlinechamber.org/event/leisure-shores-bingo-night-%f0%9f%8e%b0/2026-07-03/
LOCATION:Crest Forest Senior Citizens Club\, 24658 San Moritz Dr.\, Crestline\, 92325\, United States
CATEGORIES:Community Event,Family Friendly,Lake Gregory
GEO:34.2431624;-117.2610605
X-APPLE-STRUCTURED-LOCATION;VALUE=URI;X-ADDRESS=Crest Forest Senior Citizens Club 24658 San Moritz Dr. Crestline 92325 United States;X-APPLE-RADIUS=500;X-TITLE=24658 San Moritz Dr.:geo:-117.2610605,34.2431624
END:VEVENT
BEGIN:VEVENT
DTSTART;TZID=America/Los_Angeles:20260706T140000
DTEND;TZID=America/Los_Angeles:20260706T150000
DTSTAMP:20260423T195406
CREATED:20250127T200806Z
LAST-MODIFIED:20250127T200806Z
UID:10002962-1783346400-1783350000@www.crestlinechamber.org
SUMMARY:Adult Programs\, Yoga 🧘 🙏
DESCRIPTION:🧘‍♀️ Yoga Sessions:\nFind your inner peace with relaxing and rejuvenating yoga classes. Perfect for beginners and seasoned yogis alike\, these sessions are a great way to unwind and recharge. \n📅 Check the library’s calendar for dates and times. Embrace wellness and learning\, all in one place! ✨
URL:https://www.crestlinechamber.org/event/adult-programs-yoga-%f0%9f%a7%98-%f0%9f%99%8f/2026-07-06/
LOCATION:Crestline Branch Library\, 24105 Lake Gregory Dr\, Crestline\, CA\, 92325
CATEGORIES:Community Event,Family Friendly,Lake Gregory
END:VEVENT
BEGIN:VEVENT
DTSTART;TZID=America/Los_Angeles:20260708T150000
DTEND;TZID=America/Los_Angeles:20260708T160000
DTSTAMP:20260423T195406
CREATED:20250127T200257Z
LAST-MODIFIED:20250127T201232Z
UID:10002702-1783522800-1783526400@www.crestlinechamber.org
SUMMARY:Kid Zones\, Discovery Time  📚 ✨
DESCRIPTION:“Welcome to Kid Zones: Discovery Time 📚✨—a space where young minds explore\, create\, and discover the wonders of the world! From hands-on activities to captivating stories\, every moment is an opportunity to learn and grow. Let the adventure begin!”
URL:https://www.crestlinechamber.org/event/activate-einsteins-kid-zones-%f0%9f%93%9a-%e2%9c%a8/2026-07-08/
LOCATION:Crestline Branch Library\, 24105 Lake Gregory Dr\, Crestline\, CA\, 92325
CATEGORIES:Community Event,Family Friendly,Lake Gregory
END:VEVENT
BEGIN:VEVENT
DTSTART;TZID=America/Los_Angeles:20260709T170000
DTEND;TZID=America/Los_Angeles:20260709T190000
DTSTAMP:20260423T195406
CREATED:20250127T233534Z
LAST-MODIFIED:20250127T233534Z
UID:10003484-1783616400-1783623600@www.crestlinechamber.org
SUMMARY:VFW Chess Club ♟️
DESCRIPTION:♟️ Checkmate at the VFW Chess Club! \nCalling all chess enthusiasts\, beginners\, and strategists! Join the VFW Chess Club for a fun and engaging experience. Whether you’re mastering the game or just learning the ropes\, this is the perfect place to challenge your mind and connect with fellow players. \n🕰️ When: Check the VFW calendar for meeting times\n📍 Where: Local VFW Post \nSharpen your skills\, make new friends\, and enjoy the timeless game of chess. All ages and skill levels are welcome—let’s make some moves! ♟️✨
URL:https://www.crestlinechamber.org/event/vfw-chess-club-%e2%99%9f%ef%b8%8f/2026-07-09/
LOCATION:Rim of the World VFW Auxiliary 9624\, 21841 Crest Forest Dr.\, Cedarpines Park\, CA\, 92322
CATEGORIES:Community Event,Family Friendly,Lake Gregory
END:VEVENT
BEGIN:VEVENT
DTSTART;TZID=America/Los_Angeles:20260709T180000
DTEND;TZID=America/Los_Angeles:20260709T220000
DTSTAMP:20260423T195406
CREATED:20250127T232001Z
LAST-MODIFIED:20250127T232001Z
UID:10003223-1783620000-1783634400@www.crestlinechamber.org
SUMMARY:Game Nights 🏆🎲♟️🎯🎮
DESCRIPTION:Looking for a fun night out? Join us at San Marzano Wine & Ale Lounge for Game Nights! \n🃏 Play your favorite board games\, card games\, and more while enjoying a night out!  Bring your friends or make new ones—it’s all about good vibes and great times!
URL:https://www.crestlinechamber.org/event/game-nights-%f0%9f%8f%86%f0%9f%8e%b2%e2%99%9f%ef%b8%8f%f0%9f%8e%af%f0%9f%8e%ae/2026-07-09/
LOCATION:The San Marzano Wine & Ale Lounge\, 23575 Lake Dr\, crestline\, CA\, 92325\, United States
CATEGORIES:Community Event,Family Friendly,Lake Gregory
ORGANIZER;CN="San Marzano Wine & Ale Lounge":MAILTO:kenrwilliams@icloud.com
END:VEVENT
BEGIN:VEVENT
DTSTART;TZID=America/Los_Angeles:20260713T140000
DTEND;TZID=America/Los_Angeles:20260713T150000
DTSTAMP:20260423T195406
CREATED:20250127T200806Z
LAST-MODIFIED:20250127T200806Z
UID:10002963-1783951200-1783954800@www.crestlinechamber.org
SUMMARY:Adult Programs\, Yoga 🧘 🙏
DESCRIPTION:🧘‍♀️ Yoga Sessions:\nFind your inner peace with relaxing and rejuvenating yoga classes. Perfect for beginners and seasoned yogis alike\, these sessions are a great way to unwind and recharge. \n📅 Check the library’s calendar for dates and times. Embrace wellness and learning\, all in one place! ✨
URL:https://www.crestlinechamber.org/event/adult-programs-yoga-%f0%9f%a7%98-%f0%9f%99%8f/2026-07-13/
LOCATION:Crestline Branch Library\, 24105 Lake Gregory Dr\, Crestline\, CA\, 92325
CATEGORIES:Community Event,Family Friendly,Lake Gregory
END:VEVENT
BEGIN:VEVENT
DTSTART;TZID=America/Los_Angeles:20260715T150000
DTEND;TZID=America/Los_Angeles:20260715T160000
DTSTAMP:20260423T195406
CREATED:20250127T200257Z
LAST-MODIFIED:20250127T201232Z
UID:10002703-1784127600-1784131200@www.crestlinechamber.org
SUMMARY:Kid Zones\, Discovery Time  📚 ✨
DESCRIPTION:“Welcome to Kid Zones: Discovery Time 📚✨—a space where young minds explore\, create\, and discover the wonders of the world! From hands-on activities to captivating stories\, every moment is an opportunity to learn and grow. Let the adventure begin!”
URL:https://www.crestlinechamber.org/event/activate-einsteins-kid-zones-%f0%9f%93%9a-%e2%9c%a8/2026-07-15/
LOCATION:Crestline Branch Library\, 24105 Lake Gregory Dr\, Crestline\, CA\, 92325
CATEGORIES:Community Event,Family Friendly,Lake Gregory
END:VEVENT
BEGIN:VEVENT
DTSTART;TZID=America/Los_Angeles:20260716T170000
DTEND;TZID=America/Los_Angeles:20260716T190000
DTSTAMP:20260423T195406
CREATED:20250127T233534Z
LAST-MODIFIED:20250127T233534Z
UID:10003485-1784221200-1784228400@www.crestlinechamber.org
SUMMARY:VFW Chess Club ♟️
DESCRIPTION:♟️ Checkmate at the VFW Chess Club! \nCalling all chess enthusiasts\, beginners\, and strategists! Join the VFW Chess Club for a fun and engaging experience. Whether you’re mastering the game or just learning the ropes\, this is the perfect place to challenge your mind and connect with fellow players. \n🕰️ When: Check the VFW calendar for meeting times\n📍 Where: Local VFW Post \nSharpen your skills\, make new friends\, and enjoy the timeless game of chess. All ages and skill levels are welcome—let’s make some moves! ♟️✨
URL:https://www.crestlinechamber.org/event/vfw-chess-club-%e2%99%9f%ef%b8%8f/2026-07-16/
LOCATION:Rim of the World VFW Auxiliary 9624\, 21841 Crest Forest Dr.\, Cedarpines Park\, CA\, 92322
CATEGORIES:Community Event,Family Friendly,Lake Gregory
END:VEVENT
BEGIN:VEVENT
DTSTART;TZID=America/Los_Angeles:20260716T180000
DTEND;TZID=America/Los_Angeles:20260716T220000
DTSTAMP:20260423T195406
CREATED:20250127T232001Z
LAST-MODIFIED:20250127T232001Z
UID:10003224-1784224800-1784239200@www.crestlinechamber.org
SUMMARY:Game Nights 🏆🎲♟️🎯🎮
DESCRIPTION:Looking for a fun night out? Join us at San Marzano Wine & Ale Lounge for Game Nights! \n🃏 Play your favorite board games\, card games\, and more while enjoying a night out!  Bring your friends or make new ones—it’s all about good vibes and great times!
URL:https://www.crestlinechamber.org/event/game-nights-%f0%9f%8f%86%f0%9f%8e%b2%e2%99%9f%ef%b8%8f%f0%9f%8e%af%f0%9f%8e%ae/2026-07-16/
LOCATION:The San Marzano Wine & Ale Lounge\, 23575 Lake Dr\, crestline\, CA\, 92325\, United States
CATEGORIES:Community Event,Family Friendly,Lake Gregory
ORGANIZER;CN="San Marzano Wine & Ale Lounge":MAILTO:kenrwilliams@icloud.com
END:VEVENT
END:VCALENDAR