BEGIN:VCALENDAR
VERSION:2.0
PRODID:-//Crestline Chamber of Commerce - ECPv6.15.20//NONSGML v1.0//EN
CALSCALE:GREGORIAN
METHOD:PUBLISH
X-ORIGINAL-URL:https://www.crestlinechamber.org
X-WR-CALDESC:Events for Crestline Chamber of Commerce
REFRESH-INTERVAL;VALUE=DURATION:PT1H
X-Robots-Tag:noindex
X-PUBLISHED-TTL:PT1H
BEGIN:VTIMEZONE
TZID:America/Los_Angeles
BEGIN:DAYLIGHT
TZOFFSETFROM:-0800
TZOFFSETTO:-0700
TZNAME:PDT
DTSTART:20240310T100000
END:DAYLIGHT
BEGIN:STANDARD
TZOFFSETFROM:-0700
TZOFFSETTO:-0800
TZNAME:PST
DTSTART:20241103T090000
END:STANDARD
BEGIN:DAYLIGHT
TZOFFSETFROM:-0800
TZOFFSETTO:-0700
TZNAME:PDT
DTSTART:20250309T100000
END:DAYLIGHT
BEGIN:STANDARD
TZOFFSETFROM:-0700
TZOFFSETTO:-0800
TZNAME:PST
DTSTART:20251102T090000
END:STANDARD
BEGIN:DAYLIGHT
TZOFFSETFROM:-0800
TZOFFSETTO:-0700
TZNAME:PDT
DTSTART:20260308T100000
END:DAYLIGHT
BEGIN:STANDARD
TZOFFSETFROM:-0700
TZOFFSETTO:-0800
TZNAME:PST
DTSTART:20261101T090000
END:STANDARD
END:VTIMEZONE
BEGIN:VEVENT
DTSTART;TZID=America/Los_Angeles:20250828T140000
DTEND;TZID=America/Los_Angeles:20250828T183000
DTSTAMP:20260424T071616
CREATED:20250813T172934Z
LAST-MODIFIED:20250813T173846Z
UID:10006666-1756389600-1756405800@www.crestlinechamber.org
SUMMARY:Twin Peaks Farmers Market 🍏🍊🍋🍉🍓🥦🥒🫑🧄🍞🥖
DESCRIPTION:
URL:https://www.crestlinechamber.org/event/twin-peaks-farmers-market-%f0%9f%8d%8f%f0%9f%8d%8a%f0%9f%8d%8b%f0%9f%8d%89%f0%9f%8d%93%f0%9f%a5%a6%f0%9f%a5%92%f0%9f%ab%91%f0%9f%a7%84%f0%9f%8d%9e%f0%9f%a5%96/2025-08-28/
LOCATION:26012 HWY 189\, Twin Peaks
CATEGORIES:Community Event,Family Friendly,Live Music
ATTACH;FMTTYPE=image/jpeg:https://www.crestlinechamber.org/wp-content/uploads/2025/08/img20250812_15422707-scaled.jpg
ORGANIZER;CN="Twin Peaks Farmers Market":MAILTO:twinpeaksfarmersmarket@gmail.com
END:VEVENT
BEGIN:VEVENT
DTSTART;TZID=America/Los_Angeles:20250827T180000
DTEND;TZID=America/Los_Angeles:20250827T210000
DTSTAMP:20260424T071616
CREATED:20250729T181158Z
LAST-MODIFIED:20250729T181158Z
UID:10005793-1756317600-1756328400@www.crestlinechamber.org
SUMMARY:Karaoke Night at Bizzyland 🌺 🌸 🌹 🎙️
DESCRIPTION:Join us for a fun-filled evening of music and community as we invite you to sing the night away to your favorite karaoke songs! \n🎉 FREE and Open to the Public\nWine and spirits will be available for purchase. Bring your friends\, grab a drink\, and take the stage—whether you’re a seasoned singer or just in it for the fun!
URL:https://www.crestlinechamber.org/event/karaoke-night-at-bizzyland-%f0%9f%8c%ba-%f0%9f%8c%b8-%f0%9f%8c%b9-%f0%9f%8e%99%ef%b8%8f/2025-08-27/
LOCATION:Bizzyland\, 23875 Lake Dr\, Crestline\, 92325\, United States
CATEGORIES:Community Event,Family Friendly,Live Music
ATTACH;FMTTYPE=image/jpeg:https://www.crestlinechamber.org/wp-content/uploads/2025/07/Asset-1.jpg
GEO:34.2430174;-117.2823765
X-APPLE-STRUCTURED-LOCATION;VALUE=URI;X-ADDRESS=Bizzyland 23875 Lake Dr Crestline 92325 United States;X-APPLE-RADIUS=500;X-TITLE=23875 Lake Dr:geo:-117.2823765,34.2430174
END:VEVENT
BEGIN:VEVENT
DTSTART;TZID=America/Los_Angeles:20250824T170000
DTEND;TZID=America/Los_Angeles:20250824T190000
DTSTAMP:20260424T071616
CREATED:20250731T201906Z
LAST-MODIFIED:20250731T201906Z
UID:10006326-1756054800-1756062000@www.crestlinechamber.org
SUMMARY:Mountain Top Strings of California 🎶 🪉 🎻
DESCRIPTION:
URL:https://www.crestlinechamber.org/event/mountain-top-strings-of-california-%f0%9f%8e%b6-%f0%9f%aa%89-%f0%9f%8e%bb/
LOCATION:San Moritz Lodge\, 24640 San Moritz Dr.\, Crestline\, CA\, 92325\, United States
CATEGORIES:Community Event,Family Friendly,Fundraiser,Live Music
ATTACH;FMTTYPE=application/pdf:https://www.crestlinechamber.org/wp-content/uploads/2025/07/8.24.25-2025-San-Moritz-Flyer-5.21.25.pdf
ORGANIZER;CN="Arrowhead Arts Association":MAILTO:arrowhead_arts@yahoo.com
GEO:34.2389643;-117.2661879
X-APPLE-STRUCTURED-LOCATION;VALUE=URI;X-ADDRESS=San Moritz Lodge 24640 San Moritz Dr. Crestline CA 92325 United States;X-APPLE-RADIUS=500;X-TITLE=24640 San Moritz Dr.:geo:-117.2661879,34.2389643
END:VEVENT
BEGIN:VEVENT
DTSTART;TZID=America/Los_Angeles:20250824T170000
DTEND;TZID=America/Los_Angeles:20250824T190000
DTSTAMP:20260424T071616
CREATED:20250619T202321Z
LAST-MODIFIED:20250619T202556Z
UID:10005787-1756054800-1756062000@www.crestlinechamber.org
SUMMARY:Mountain Top Strings Concert 🎵 🎶
DESCRIPTION:
URL:https://www.crestlinechamber.org/event/mountain-top-strings-concert-%f0%9f%8e%b5-%f0%9f%8e%b6/
LOCATION:San Moritz Lodge\, 24640 San Moritz Dr.\, Crestline\, CA\, 92325\, United States
CATEGORIES:Community Event,Family Friendly,Fundraiser,Live Music
ORGANIZER;CN="Arrowhead Arts Association":MAILTO:arrowhead_arts@yahoo.com
GEO:34.2389643;-117.2661879
X-APPLE-STRUCTURED-LOCATION;VALUE=URI;X-ADDRESS=San Moritz Lodge 24640 San Moritz Dr. Crestline CA 92325 United States;X-APPLE-RADIUS=500;X-TITLE=24640 San Moritz Dr.:geo:-117.2661879,34.2389643
END:VEVENT
BEGIN:VEVENT
DTSTART;TZID=America/Los_Angeles:20250823T190000
DTEND;TZID=America/Los_Angeles:20250823T210000
DTSTAMP:20260424T071616
CREATED:20250619T190031Z
LAST-MODIFIED:20250619T190031Z
UID:10005492-1755975600-1755982800@www.crestlinechamber.org
SUMMARY:2025 Saturday Skate Night  🛼
DESCRIPTION:Different themes each week!
URL:https://www.crestlinechamber.org/event/2025-saturday-skate-night-%f0%9f%9b%bc/2025-08-23/
LOCATION:SkyPark Santa’s Village\, 28950 California 18\, Skyforest\, CA\, 92385\, United States
CATEGORIES:Community Event,Family Friendly,Live Music
GEO:34.2324277;-117.1686266
X-APPLE-STRUCTURED-LOCATION;VALUE=URI;X-ADDRESS=SkyPark Santa’s Village 28950 California 18 Skyforest CA 92385 United States;X-APPLE-RADIUS=500;X-TITLE=28950 California 18:geo:-117.1686266,34.2324277
END:VEVENT
BEGIN:VEVENT
DTSTART;TZID=America/Los_Angeles:20250823T170000
DTEND;TZID=America/Los_Angeles:20250823T200000
DTSTAMP:20260424T071616
CREATED:20250731T201522Z
LAST-MODIFIED:20250731T201522Z
UID:10006325-1755968400-1755979200@www.crestlinechamber.org
SUMMARY:Blue Jay Jazz Festival 🎷 🎶 🎼 🎙️
DESCRIPTION:
URL:https://www.crestlinechamber.org/event/blue-jay-jazz-festival-%f0%9f%8e%b7-%f0%9f%8e%b6-%f0%9f%8e%bc-%f0%9f%8e%99%ef%b8%8f/2025-08-23/
LOCATION:Tavern Bay Beach Club and Lake Arrowhead Resort and Spa
CATEGORIES:Community Event,Family Friendly,Live Music
ATTACH;FMTTYPE=image/jpeg:https://www.crestlinechamber.org/wp-content/uploads/2025/07/img20250723_15254912-Medium.jpeg
END:VEVENT
BEGIN:VEVENT
DTSTART;TZID=America/Los_Angeles:20250823T160000
DTEND;TZID=America/Los_Angeles:20250823T210000
DTSTAMP:20260424T071616
CREATED:20250813T174317Z
LAST-MODIFIED:20250813T174317Z
UID:10006925-1755964800-1755982800@www.crestlinechamber.org
SUMMARY:Miami Comes to the Mountains 🌴💃 🕺 🍹 🏖️
DESCRIPTION:The CFSCC members at Leisure Shores are all very excited to announce our August Fundraiser that will help support our Seniors and the MOPS (Mountain of Promise) physically & mentally challenged adults up here in the hills . \nOf course we are hoping you will attend this entertaining event to share in the fun but if you can not ~ PLEASE feel free to donate to our honorable cause. Every dollar will be dedicated to providing a safe and inviting environment to socialize and grow for all our loyal members ! \nThanks in advance for your enthusiastic support in achieving this goal . Watch for details every weekend on our page and many others .
URL:https://www.crestlinechamber.org/event/miami-comes-to-the-mountains-%f0%9f%8c%b4%f0%9f%92%83-%f0%9f%95%ba-%f0%9f%8d%b9-%f0%9f%8f%96%ef%b8%8f/
LOCATION:Crest Forest Senior Citizens Club\, 24658 San Moritz Dr.\, Crestline\, 92325\, United States
CATEGORIES:Community Event,Fundraiser,Live Music
ATTACH;FMTTYPE=image/png:https://www.crestlinechamber.org/wp-content/uploads/2025/08/Purple-And-Pink-Colorful-Neon-Night-Party-Instagram-Post-4.png
GEO:34.2431624;-117.2610605
X-APPLE-STRUCTURED-LOCATION;VALUE=URI;X-ADDRESS=Crest Forest Senior Citizens Club 24658 San Moritz Dr. Crestline 92325 United States;X-APPLE-RADIUS=500;X-TITLE=24658 San Moritz Dr.:geo:-117.2610605,34.2431624
END:VEVENT
BEGIN:VEVENT
DTSTART;TZID=America/Los_Angeles:20250823T160000
DTEND;TZID=America/Los_Angeles:20250823T210000
DTSTAMP:20260424T071616
CREATED:20250731T191154Z
LAST-MODIFIED:20250731T191631Z
UID:10006319-1755964800-1755982800@www.crestlinechamber.org
SUMMARY:Taste of the Peaks 🍓
DESCRIPTION:
URL:https://www.crestlinechamber.org/event/taste-of-the-peaks/2025-08-23/
LOCATION:26012 HWY 189\, Twin Peaks
CATEGORIES:Community Event,Family Friendly,Live Music
ATTACH;FMTTYPE=image/jpeg:https://www.crestlinechamber.org/wp-content/uploads/2025/07/img20250722_09195152.jpg
END:VEVENT
BEGIN:VEVENT
DTSTART;TZID=America/Los_Angeles:20250823T160000
DTEND;TZID=America/Los_Angeles:20250823T190000
DTSTAMP:20260424T071616
CREATED:20250813T174932Z
LAST-MODIFIED:20250813T175034Z
UID:10006927-1755964800-1755975600@www.crestlinechamber.org
SUMMARY:Brawling Brews 🤼 🥊 🍻
DESCRIPTION:
URL:https://www.crestlinechamber.org/event/brawling-brews-%f0%9f%a4%bc-%f0%9f%a5%8a-%f0%9f%8d%bb/2025-08-23/
LOCATION:The Tudor House\, Lake Arrowhead\, 850 Arrowhead Villa Road\, Lake Arrowhead\, 92352\, United States
CATEGORIES:Community Event,Family Friendly,Live Music
ATTACH;FMTTYPE=image/jpeg:https://www.crestlinechamber.org/wp-content/uploads/2025/08/Open-brawl_poster_Aug23Oct18_forprint.jpeg
END:VEVENT
BEGIN:VEVENT
DTSTART;TZID=America/Los_Angeles:20250823T130000
DTEND;TZID=America/Los_Angeles:20250823T210000
DTSTAMP:20260424T071616
CREATED:20250619T174936Z
LAST-MODIFIED:20250619T174936Z
UID:10005474-1755954000-1755982800@www.crestlinechamber.org
SUMMARY:Brawlin Brews 🍻 🤼
DESCRIPTION:
URL:https://www.crestlinechamber.org/event/brawlin-brews-%f0%9f%8d%bb-%f0%9f%a4%bc/
LOCATION:The Tudor House\, Lake Arrowhead\, 850 Arrowhead Villa Road\, Lake Arrowhead\, 92352\, United States
CATEGORIES:Community Event,Family Friendly,Live Music
END:VEVENT
BEGIN:VEVENT
DTSTART;TZID=America/Los_Angeles:20250822T190000
DTEND;TZID=America/Los_Angeles:20250822T230000
DTSTAMP:20260424T071616
CREATED:20250731T204051Z
LAST-MODIFIED:20250731T204220Z
UID:10006338-1755889200-1755903600@www.crestlinechamber.org
SUMMARY:Friday Night Karaoke! 🎤 🎼 🎸
DESCRIPTION:
URL:https://www.crestlinechamber.org/event/friday-night-karaoke-%f0%9f%8e%a4-%f0%9f%8e%bc-%f0%9f%8e%b8/2025-08-22/
LOCATION:The Tudor House\, Lake Arrowhead\, 850 Arrowhead Villa Road\, Lake Arrowhead\, 92352\, United States
CATEGORIES:Community Event,Family Friendly,Live Music
ATTACH;FMTTYPE=image/jpeg:https://www.crestlinechamber.org/wp-content/uploads/2025/07/THKaraokeWebsiteImage-1640-x-924-px.jpg
END:VEVENT
BEGIN:VEVENT
DTSTART;TZID=America/Los_Angeles:20250822T190000
DTEND;TZID=America/Los_Angeles:20250822T210000
DTSTAMP:20260424T071616
CREATED:20250619T190412Z
LAST-MODIFIED:20250812T223603Z
UID:10006603-1755889200-1755896400@www.crestlinechamber.org
SUMMARY:Tunes in the Trees 🌲 🎶
DESCRIPTION:Make sure to go to their website to see which artists and bands are playing that week!
URL:https://www.crestlinechamber.org/event/tunes-in-the-trees-%f0%9f%8c%b2-%f0%9f%8e%b6/2025-08-22/
LOCATION:SkyPark Santa’s Village\, 28950 California 18\, Skyforest\, CA\, 92385\, United States
CATEGORIES:Community Event,Family Friendly,Live Music
GEO:34.2324277;-117.1686266
X-APPLE-STRUCTURED-LOCATION;VALUE=URI;X-ADDRESS=SkyPark Santa’s Village 28950 California 18 Skyforest CA 92385 United States;X-APPLE-RADIUS=500;X-TITLE=28950 California 18:geo:-117.1686266,34.2324277
END:VEVENT
BEGIN:VEVENT
DTSTART;TZID=America/Los_Angeles:20250822T170000
DTEND;TZID=America/Los_Angeles:20250822T190000
DTSTAMP:20260424T071616
CREATED:20250731T201522Z
LAST-MODIFIED:20250731T201522Z
UID:10006324-1755882000-1755889200@www.crestlinechamber.org
SUMMARY:Blue Jay Jazz Festival 🎷 🎶 🎼 🎙️
DESCRIPTION:
URL:https://www.crestlinechamber.org/event/blue-jay-jazz-festival-%f0%9f%8e%b7-%f0%9f%8e%b6-%f0%9f%8e%bc-%f0%9f%8e%99%ef%b8%8f/2025-08-22/
LOCATION:Tavern Bay Beach Club and Lake Arrowhead Resort and Spa
CATEGORIES:Community Event,Family Friendly,Live Music
ATTACH;FMTTYPE=image/jpeg:https://www.crestlinechamber.org/wp-content/uploads/2025/07/img20250723_15254912-Medium.jpeg
END:VEVENT
BEGIN:VEVENT
DTSTART;TZID=America/Los_Angeles:20250822T160000
DTEND;TZID=America/Los_Angeles:20250822T200000
DTSTAMP:20260424T071616
CREATED:20250619T170044Z
LAST-MODIFIED:20250619T170205Z
UID:10005454-1755878400-1755892800@www.crestlinechamber.org
SUMMARY:The Market at Lake Gregory ✨
DESCRIPTION:
URL:https://www.crestlinechamber.org/event/the-market-at-lake-gregory-7/2025-08-22/
LOCATION:Lake Gregory\, Crestline\, CA\, 92325\, United States
CATEGORIES:Community Event,Family Friendly,Lake Gregory,Live Music
GEO:34.2429169;-117.2752583
END:VEVENT
BEGIN:VEVENT
DTSTART;TZID=America/Los_Angeles:20250821T170000
DTEND;TZID=America/Los_Angeles:20250821T190000
DTSTAMP:20260424T071616
CREATED:20250731T201522Z
LAST-MODIFIED:20250731T201522Z
UID:10006323-1755795600-1755802800@www.crestlinechamber.org
SUMMARY:Blue Jay Jazz Festival 🎷 🎶 🎼 🎙️
DESCRIPTION:
URL:https://www.crestlinechamber.org/event/blue-jay-jazz-festival-%f0%9f%8e%b7-%f0%9f%8e%b6-%f0%9f%8e%bc-%f0%9f%8e%99%ef%b8%8f/2025-08-21/
LOCATION:Tavern Bay Beach Club and Lake Arrowhead Resort and Spa
CATEGORIES:Community Event,Family Friendly,Live Music
ATTACH;FMTTYPE=image/jpeg:https://www.crestlinechamber.org/wp-content/uploads/2025/07/img20250723_15254912-Medium.jpeg
END:VEVENT
BEGIN:VEVENT
DTSTART;TZID=America/Los_Angeles:20250821T140000
DTEND;TZID=America/Los_Angeles:20250821T183000
DTSTAMP:20260424T071616
CREATED:20250813T172934Z
LAST-MODIFIED:20250813T173846Z
UID:10006665-1755784800-1755801000@www.crestlinechamber.org
SUMMARY:Twin Peaks Farmers Market 🍏🍊🍋🍉🍓🥦🥒🫑🧄🍞🥖
DESCRIPTION:
URL:https://www.crestlinechamber.org/event/twin-peaks-farmers-market-%f0%9f%8d%8f%f0%9f%8d%8a%f0%9f%8d%8b%f0%9f%8d%89%f0%9f%8d%93%f0%9f%a5%a6%f0%9f%a5%92%f0%9f%ab%91%f0%9f%a7%84%f0%9f%8d%9e%f0%9f%a5%96/2025-08-21/
LOCATION:26012 HWY 189\, Twin Peaks
CATEGORIES:Community Event,Family Friendly,Live Music
ATTACH;FMTTYPE=image/jpeg:https://www.crestlinechamber.org/wp-content/uploads/2025/08/img20250812_15422707-scaled.jpg
ORGANIZER;CN="Twin Peaks Farmers Market":MAILTO:twinpeaksfarmersmarket@gmail.com
END:VEVENT
BEGIN:VEVENT
DTSTART;TZID=America/Los_Angeles:20250820T180000
DTEND;TZID=America/Los_Angeles:20250820T210000
DTSTAMP:20260424T071616
CREATED:20250729T181158Z
LAST-MODIFIED:20250729T181158Z
UID:10005792-1755712800-1755723600@www.crestlinechamber.org
SUMMARY:Karaoke Night at Bizzyland 🌺 🌸 🌹 🎙️
DESCRIPTION:Join us for a fun-filled evening of music and community as we invite you to sing the night away to your favorite karaoke songs! \n🎉 FREE and Open to the Public\nWine and spirits will be available for purchase. Bring your friends\, grab a drink\, and take the stage—whether you’re a seasoned singer or just in it for the fun!
URL:https://www.crestlinechamber.org/event/karaoke-night-at-bizzyland-%f0%9f%8c%ba-%f0%9f%8c%b8-%f0%9f%8c%b9-%f0%9f%8e%99%ef%b8%8f/2025-08-20/
LOCATION:Bizzyland\, 23875 Lake Dr\, Crestline\, 92325\, United States
CATEGORIES:Community Event,Family Friendly,Live Music
ATTACH;FMTTYPE=image/jpeg:https://www.crestlinechamber.org/wp-content/uploads/2025/07/Asset-1.jpg
GEO:34.2430174;-117.2823765
X-APPLE-STRUCTURED-LOCATION;VALUE=URI;X-ADDRESS=Bizzyland 23875 Lake Dr Crestline 92325 United States;X-APPLE-RADIUS=500;X-TITLE=23875 Lake Dr:geo:-117.2823765,34.2430174
END:VEVENT
BEGIN:VEVENT
DTSTART;TZID=America/Los_Angeles:20250816T190000
DTEND;TZID=America/Los_Angeles:20250816T210000
DTSTAMP:20260424T071616
CREATED:20250619T190031Z
LAST-MODIFIED:20250619T190031Z
UID:10005491-1755370800-1755378000@www.crestlinechamber.org
SUMMARY:2025 Saturday Skate Night  🛼
DESCRIPTION:Different themes each week!
URL:https://www.crestlinechamber.org/event/2025-saturday-skate-night-%f0%9f%9b%bc/2025-08-16/
LOCATION:SkyPark Santa’s Village\, 28950 California 18\, Skyforest\, CA\, 92385\, United States
CATEGORIES:Community Event,Family Friendly,Live Music
GEO:34.2324277;-117.1686266
X-APPLE-STRUCTURED-LOCATION;VALUE=URI;X-ADDRESS=SkyPark Santa’s Village 28950 California 18 Skyforest CA 92385 United States;X-APPLE-RADIUS=500;X-TITLE=28950 California 18:geo:-117.1686266,34.2324277
END:VEVENT
BEGIN:VEVENT
DTSTART;TZID=America/Los_Angeles:20250816T160000
DTEND;TZID=America/Los_Angeles:20250816T210000
DTSTAMP:20260424T071616
CREATED:20250731T191154Z
LAST-MODIFIED:20250731T191631Z
UID:10006318-1755360000-1755378000@www.crestlinechamber.org
SUMMARY:Taste of the Peaks 🍓
DESCRIPTION:
URL:https://www.crestlinechamber.org/event/taste-of-the-peaks/2025-08-16/
LOCATION:26012 HWY 189\, Twin Peaks
CATEGORIES:Community Event,Family Friendly,Live Music
ATTACH;FMTTYPE=image/jpeg:https://www.crestlinechamber.org/wp-content/uploads/2025/07/img20250722_09195152.jpg
END:VEVENT
BEGIN:VEVENT
DTSTART;TZID=America/Los_Angeles:20250815T190000
DTEND;TZID=America/Los_Angeles:20250815T230000
DTSTAMP:20260424T071616
CREATED:20250731T204051Z
LAST-MODIFIED:20250731T204220Z
UID:10006337-1755284400-1755298800@www.crestlinechamber.org
SUMMARY:Friday Night Karaoke! 🎤 🎼 🎸
DESCRIPTION:
URL:https://www.crestlinechamber.org/event/friday-night-karaoke-%f0%9f%8e%a4-%f0%9f%8e%bc-%f0%9f%8e%b8/2025-08-15/
LOCATION:The Tudor House\, Lake Arrowhead\, 850 Arrowhead Villa Road\, Lake Arrowhead\, 92352\, United States
CATEGORIES:Community Event,Family Friendly,Live Music
ATTACH;FMTTYPE=image/jpeg:https://www.crestlinechamber.org/wp-content/uploads/2025/07/THKaraokeWebsiteImage-1640-x-924-px.jpg
END:VEVENT
BEGIN:VEVENT
DTSTART;TZID=America/Los_Angeles:20250815T190000
DTEND;TZID=America/Los_Angeles:20250815T210000
DTSTAMP:20260424T071616
CREATED:20250619T190412Z
LAST-MODIFIED:20250812T223603Z
UID:10006602-1755284400-1755291600@www.crestlinechamber.org
SUMMARY:Tunes in the Trees 🌲 🎶
DESCRIPTION:Make sure to go to their website to see which artists and bands are playing that week!
URL:https://www.crestlinechamber.org/event/tunes-in-the-trees-%f0%9f%8c%b2-%f0%9f%8e%b6/2025-08-15/
LOCATION:SkyPark Santa’s Village\, 28950 California 18\, Skyforest\, CA\, 92385\, United States
CATEGORIES:Community Event,Family Friendly,Live Music
GEO:34.2324277;-117.1686266
X-APPLE-STRUCTURED-LOCATION;VALUE=URI;X-ADDRESS=SkyPark Santa’s Village 28950 California 18 Skyforest CA 92385 United States;X-APPLE-RADIUS=500;X-TITLE=28950 California 18:geo:-117.1686266,34.2324277
END:VEVENT
BEGIN:VEVENT
DTSTART;TZID=America/Los_Angeles:20250815T160000
DTEND;TZID=America/Los_Angeles:20250815T200000
DTSTAMP:20260424T071616
CREATED:20250619T170044Z
LAST-MODIFIED:20250619T170205Z
UID:10005453-1755273600-1755288000@www.crestlinechamber.org
SUMMARY:The Market at Lake Gregory ✨
DESCRIPTION:
URL:https://www.crestlinechamber.org/event/the-market-at-lake-gregory-7/2025-08-15/
LOCATION:Lake Gregory\, Crestline\, CA\, 92325\, United States
CATEGORIES:Community Event,Family Friendly,Lake Gregory,Live Music
GEO:34.2429169;-117.2752583
END:VEVENT
BEGIN:VEVENT
DTSTART;TZID=America/Los_Angeles:20250814T190000
DTEND;TZID=America/Los_Angeles:20250814T220000
DTSTAMP:20260424T071616
CREATED:20250729T181703Z
LAST-MODIFIED:20250731T181416Z
UID:10006050-1755198000-1755208800@www.crestlinechamber.org
SUMMARY:80's Dance Night! 🪩 💃 🕺
DESCRIPTION:80’s Dance Party – Totally Rad Night of Dancing! \nGet ready to dance the night away at our 1980’s Themed Dance Party!\nThrow on your best retro outfit—think neon\, leg warmers\, big hair\, and shoulder pads—and come ready to party like it’s 1985! \n🎉 FREE and Open to the Public\nWine and spirits will be available for purchase.\nLet’s rewind the clock and light up the dance floor—80’s style!
URL:https://www.crestlinechamber.org/event/80s-dance-night-%f0%9f%aa%a9-%f0%9f%92%83-%f0%9f%95%ba/
LOCATION:Bizzyland\, 23875 Lake Dr\, Crestline\, 92325\, United States
CATEGORIES:Community Event,Family Friendly,Live Music
ATTACH;FMTTYPE=image/jpeg:https://www.crestlinechamber.org/wp-content/uploads/2025/07/Asset-1.jpg
GEO:34.2430174;-117.2823765
X-APPLE-STRUCTURED-LOCATION;VALUE=URI;X-ADDRESS=Bizzyland 23875 Lake Dr Crestline 92325 United States;X-APPLE-RADIUS=500;X-TITLE=23875 Lake Dr:geo:-117.2823765,34.2430174
END:VEVENT
BEGIN:VEVENT
DTSTART;TZID=America/Los_Angeles:20250814T140000
DTEND;TZID=America/Los_Angeles:20250814T183000
DTSTAMP:20260424T071616
CREATED:20250813T172934Z
LAST-MODIFIED:20250813T173846Z
UID:10006664-1755180000-1755196200@www.crestlinechamber.org
SUMMARY:Twin Peaks Farmers Market 🍏🍊🍋🍉🍓🥦🥒🫑🧄🍞🥖
DESCRIPTION:
URL:https://www.crestlinechamber.org/event/twin-peaks-farmers-market-%f0%9f%8d%8f%f0%9f%8d%8a%f0%9f%8d%8b%f0%9f%8d%89%f0%9f%8d%93%f0%9f%a5%a6%f0%9f%a5%92%f0%9f%ab%91%f0%9f%a7%84%f0%9f%8d%9e%f0%9f%a5%96/2025-08-14/
LOCATION:26012 HWY 189\, Twin Peaks
CATEGORIES:Community Event,Family Friendly,Live Music
ATTACH;FMTTYPE=image/jpeg:https://www.crestlinechamber.org/wp-content/uploads/2025/08/img20250812_15422707-scaled.jpg
ORGANIZER;CN="Twin Peaks Farmers Market":MAILTO:twinpeaksfarmersmarket@gmail.com
END:VEVENT
BEGIN:VEVENT
DTSTART;TZID=America/Los_Angeles:20250813T180000
DTEND;TZID=America/Los_Angeles:20250813T210000
DTSTAMP:20260424T071616
CREATED:20250729T181158Z
LAST-MODIFIED:20250729T181158Z
UID:10005791-1755108000-1755118800@www.crestlinechamber.org
SUMMARY:Karaoke Night at Bizzyland 🌺 🌸 🌹 🎙️
DESCRIPTION:Join us for a fun-filled evening of music and community as we invite you to sing the night away to your favorite karaoke songs! \n🎉 FREE and Open to the Public\nWine and spirits will be available for purchase. Bring your friends\, grab a drink\, and take the stage—whether you’re a seasoned singer or just in it for the fun!
URL:https://www.crestlinechamber.org/event/karaoke-night-at-bizzyland-%f0%9f%8c%ba-%f0%9f%8c%b8-%f0%9f%8c%b9-%f0%9f%8e%99%ef%b8%8f/2025-08-13/
LOCATION:Bizzyland\, 23875 Lake Dr\, Crestline\, 92325\, United States
CATEGORIES:Community Event,Family Friendly,Live Music
ATTACH;FMTTYPE=image/jpeg:https://www.crestlinechamber.org/wp-content/uploads/2025/07/Asset-1.jpg
GEO:34.2430174;-117.2823765
X-APPLE-STRUCTURED-LOCATION;VALUE=URI;X-ADDRESS=Bizzyland 23875 Lake Dr Crestline 92325 United States;X-APPLE-RADIUS=500;X-TITLE=23875 Lake Dr:geo:-117.2823765,34.2430174
END:VEVENT
BEGIN:VEVENT
DTSTART;TZID=America/Los_Angeles:20250809T190000
DTEND;TZID=America/Los_Angeles:20250809T210000
DTSTAMP:20260424T071616
CREATED:20250619T190031Z
LAST-MODIFIED:20250619T190031Z
UID:10005490-1754766000-1754773200@www.crestlinechamber.org
SUMMARY:2025 Saturday Skate Night  🛼
DESCRIPTION:Different themes each week!
URL:https://www.crestlinechamber.org/event/2025-saturday-skate-night-%f0%9f%9b%bc/2025-08-09/
LOCATION:SkyPark Santa’s Village\, 28950 California 18\, Skyforest\, CA\, 92385\, United States
CATEGORIES:Community Event,Family Friendly,Live Music
GEO:34.2324277;-117.1686266
X-APPLE-STRUCTURED-LOCATION;VALUE=URI;X-ADDRESS=SkyPark Santa’s Village 28950 California 18 Skyforest CA 92385 United States;X-APPLE-RADIUS=500;X-TITLE=28950 California 18:geo:-117.1686266,34.2324277
END:VEVENT
BEGIN:VEVENT
DTSTART;TZID=America/Los_Angeles:20250809T160000
DTEND;TZID=America/Los_Angeles:20250809T210000
DTSTAMP:20260424T071616
CREATED:20250731T191154Z
LAST-MODIFIED:20250731T191631Z
UID:10006317-1754755200-1754773200@www.crestlinechamber.org
SUMMARY:Taste of the Peaks 🍓
DESCRIPTION:
URL:https://www.crestlinechamber.org/event/taste-of-the-peaks/2025-08-09/
LOCATION:26012 HWY 189\, Twin Peaks
CATEGORIES:Community Event,Family Friendly,Live Music
ATTACH;FMTTYPE=image/jpeg:https://www.crestlinechamber.org/wp-content/uploads/2025/07/img20250722_09195152.jpg
END:VEVENT
BEGIN:VEVENT
DTSTART;TZID=America/Los_Angeles:20250809T100000
DTEND;TZID=America/Los_Angeles:20250809T170000
DTSTAMP:20260424T071616
CREATED:20250729T181858Z
LAST-MODIFIED:20250729T181858Z
UID:10006051-1754733600-1754758800@www.crestlinechamber.org
SUMMARY:Enchanted Garden Market ✨ 🧚
DESCRIPTION:Step into a magical potpourri of handcrafted gifts\, unique creations\, and mystical treasures at our Notions & Potions Pop-Up!\nFrom charming curiosities to artisan goods\, there’s a little something for everyone. \n🎉 FREE and Open to the Public\nWine and spirits will be available for purchase.\nCome sip\, shop\, and explore the magic of handmade!
URL:https://www.crestlinechamber.org/event/enchanted-garden-market-%e2%9c%a8-%f0%9f%a7%9a/
LOCATION:Bizzyland\, 23875 Lake Dr\, Crestline\, 92325\, United States
CATEGORIES:Community Event,Family Friendly,Live Music
ATTACH;FMTTYPE=image/jpeg:https://www.crestlinechamber.org/wp-content/uploads/2025/07/Asset-1.jpg
GEO:34.2430174;-117.2823765
X-APPLE-STRUCTURED-LOCATION;VALUE=URI;X-ADDRESS=Bizzyland 23875 Lake Dr Crestline 92325 United States;X-APPLE-RADIUS=500;X-TITLE=23875 Lake Dr:geo:-117.2823765,34.2430174
END:VEVENT
BEGIN:VEVENT
DTSTART;TZID=America/Los_Angeles:20250808T190000
DTEND;TZID=America/Los_Angeles:20250808T230000
DTSTAMP:20260424T071616
CREATED:20250731T204051Z
LAST-MODIFIED:20250731T204220Z
UID:10006336-1754679600-1754694000@www.crestlinechamber.org
SUMMARY:Friday Night Karaoke! 🎤 🎼 🎸
DESCRIPTION:
URL:https://www.crestlinechamber.org/event/friday-night-karaoke-%f0%9f%8e%a4-%f0%9f%8e%bc-%f0%9f%8e%b8/2025-08-08/
LOCATION:The Tudor House\, Lake Arrowhead\, 850 Arrowhead Villa Road\, Lake Arrowhead\, 92352\, United States
CATEGORIES:Community Event,Family Friendly,Live Music
ATTACH;FMTTYPE=image/jpeg:https://www.crestlinechamber.org/wp-content/uploads/2025/07/THKaraokeWebsiteImage-1640-x-924-px.jpg
END:VEVENT
BEGIN:VEVENT
DTSTART;TZID=America/Los_Angeles:20250808T190000
DTEND;TZID=America/Los_Angeles:20250808T210000
DTSTAMP:20260424T071616
CREATED:20250619T190412Z
LAST-MODIFIED:20250812T223603Z
UID:10005502-1754679600-1754686800@www.crestlinechamber.org
SUMMARY:Tunes in the Trees 🌲 🎶
DESCRIPTION:Make sure to go to their website to see which artists and bands are playing that week!
URL:https://www.crestlinechamber.org/event/tunes-in-the-trees-%f0%9f%8c%b2-%f0%9f%8e%b6/2025-08-08/
LOCATION:SkyPark Santa’s Village\, 28950 California 18\, Skyforest\, CA\, 92385\, United States
CATEGORIES:Community Event,Family Friendly,Live Music
GEO:34.2324277;-117.1686266
X-APPLE-STRUCTURED-LOCATION;VALUE=URI;X-ADDRESS=SkyPark Santa’s Village 28950 California 18 Skyforest CA 92385 United States;X-APPLE-RADIUS=500;X-TITLE=28950 California 18:geo:-117.1686266,34.2324277
END:VEVENT
END:VCALENDAR