BEGIN:VCALENDAR
VERSION:2.0
PRODID:-//Crestline Chamber of Commerce - ECPv6.15.20//NONSGML v1.0//EN
CALSCALE:GREGORIAN
METHOD:PUBLISH
X-ORIGINAL-URL:https://www.crestlinechamber.org
X-WR-CALDESC:Events for Crestline Chamber of Commerce
REFRESH-INTERVAL;VALUE=DURATION:PT1H
X-Robots-Tag:noindex
X-PUBLISHED-TTL:PT1H
BEGIN:VTIMEZONE
TZID:America/Los_Angeles
BEGIN:DAYLIGHT
TZOFFSETFROM:-0800
TZOFFSETTO:-0700
TZNAME:PDT
DTSTART:20280312T100000
END:DAYLIGHT
BEGIN:STANDARD
TZOFFSETFROM:-0700
TZOFFSETTO:-0800
TZNAME:PST
DTSTART:20281105T090000
END:STANDARD
BEGIN:DAYLIGHT
TZOFFSETFROM:-0800
TZOFFSETTO:-0700
TZNAME:PDT
DTSTART:20290311T100000
END:DAYLIGHT
BEGIN:STANDARD
TZOFFSETFROM:-0700
TZOFFSETTO:-0800
TZNAME:PST
DTSTART:20291104T090000
END:STANDARD
BEGIN:DAYLIGHT
TZOFFSETFROM:-0800
TZOFFSETTO:-0700
TZNAME:PDT
DTSTART:20300310T100000
END:DAYLIGHT
BEGIN:STANDARD
TZOFFSETFROM:-0700
TZOFFSETTO:-0800
TZNAME:PST
DTSTART:20301103T090000
END:STANDARD
END:VTIMEZONE
BEGIN:VEVENT
DTSTART;TZID=America/Los_Angeles:20290412T140000
DTEND;TZID=America/Los_Angeles:20290412T183000
DTSTAMP:20260425T071515
CREATED:20250813T172934Z
LAST-MODIFIED:20250813T173846Z
UID:10006855-1870696800-1870713000@www.crestlinechamber.org
SUMMARY:Twin Peaks Farmers Market 🍏🍊🍋🍉🍓🥦🥒🫑🧄🍞🥖
DESCRIPTION:
URL:https://www.crestlinechamber.org/event/twin-peaks-farmers-market-%f0%9f%8d%8f%f0%9f%8d%8a%f0%9f%8d%8b%f0%9f%8d%89%f0%9f%8d%93%f0%9f%a5%a6%f0%9f%a5%92%f0%9f%ab%91%f0%9f%a7%84%f0%9f%8d%9e%f0%9f%a5%96/2029-04-12/
LOCATION:26012 HWY 189\, Twin Peaks
CATEGORIES:Community Event,Family Friendly,Live Music
ATTACH;FMTTYPE=image/jpeg:https://www.crestlinechamber.org/wp-content/uploads/2025/08/img20250812_15422707-scaled.jpg
ORGANIZER;CN="Twin Peaks Farmers Market":MAILTO:twinpeaksfarmersmarket@gmail.com
END:VEVENT
BEGIN:VEVENT
DTSTART;TZID=America/Los_Angeles:20290413T190000
DTEND;TZID=America/Los_Angeles:20290413T230000
DTSTAMP:20260425T071515
CREATED:20250731T204051Z
LAST-MODIFIED:20250731T204220Z
UID:10006528-1870801200-1870815600@www.crestlinechamber.org
SUMMARY:Friday Night Karaoke! 🎤 🎼 🎸
DESCRIPTION:
URL:https://www.crestlinechamber.org/event/friday-night-karaoke-%f0%9f%8e%a4-%f0%9f%8e%bc-%f0%9f%8e%b8/2029-04-13/
LOCATION:The Tudor House\, Lake Arrowhead\, 850 Arrowhead Villa Road\, Lake Arrowhead\, 92352\, United States
CATEGORIES:Community Event,Family Friendly,Live Music
ATTACH;FMTTYPE=image/jpeg:https://www.crestlinechamber.org/wp-content/uploads/2025/07/THKaraokeWebsiteImage-1640-x-924-px.jpg
END:VEVENT
BEGIN:VEVENT
DTSTART;TZID=America/Los_Angeles:20290419T140000
DTEND;TZID=America/Los_Angeles:20290419T183000
DTSTAMP:20260425T071515
CREATED:20250813T172934Z
LAST-MODIFIED:20250813T173846Z
UID:10006856-1871301600-1871317800@www.crestlinechamber.org
SUMMARY:Twin Peaks Farmers Market 🍏🍊🍋🍉🍓🥦🥒🫑🧄🍞🥖
DESCRIPTION:
URL:https://www.crestlinechamber.org/event/twin-peaks-farmers-market-%f0%9f%8d%8f%f0%9f%8d%8a%f0%9f%8d%8b%f0%9f%8d%89%f0%9f%8d%93%f0%9f%a5%a6%f0%9f%a5%92%f0%9f%ab%91%f0%9f%a7%84%f0%9f%8d%9e%f0%9f%a5%96/2029-04-19/
LOCATION:26012 HWY 189\, Twin Peaks
CATEGORIES:Community Event,Family Friendly,Live Music
ATTACH;FMTTYPE=image/jpeg:https://www.crestlinechamber.org/wp-content/uploads/2025/08/img20250812_15422707-scaled.jpg
ORGANIZER;CN="Twin Peaks Farmers Market":MAILTO:twinpeaksfarmersmarket@gmail.com
END:VEVENT
BEGIN:VEVENT
DTSTART;TZID=America/Los_Angeles:20290420T190000
DTEND;TZID=America/Los_Angeles:20290420T230000
DTSTAMP:20260425T071515
CREATED:20250731T204051Z
LAST-MODIFIED:20250731T204220Z
UID:10006529-1871406000-1871420400@www.crestlinechamber.org
SUMMARY:Friday Night Karaoke! 🎤 🎼 🎸
DESCRIPTION:
URL:https://www.crestlinechamber.org/event/friday-night-karaoke-%f0%9f%8e%a4-%f0%9f%8e%bc-%f0%9f%8e%b8/2029-04-20/
LOCATION:The Tudor House\, Lake Arrowhead\, 850 Arrowhead Villa Road\, Lake Arrowhead\, 92352\, United States
CATEGORIES:Community Event,Family Friendly,Live Music
ATTACH;FMTTYPE=image/jpeg:https://www.crestlinechamber.org/wp-content/uploads/2025/07/THKaraokeWebsiteImage-1640-x-924-px.jpg
END:VEVENT
BEGIN:VEVENT
DTSTART;TZID=America/Los_Angeles:20290426T140000
DTEND;TZID=America/Los_Angeles:20290426T183000
DTSTAMP:20260425T071515
CREATED:20250813T172934Z
LAST-MODIFIED:20250813T173846Z
UID:10006857-1871906400-1871922600@www.crestlinechamber.org
SUMMARY:Twin Peaks Farmers Market 🍏🍊🍋🍉🍓🥦🥒🫑🧄🍞🥖
DESCRIPTION:
URL:https://www.crestlinechamber.org/event/twin-peaks-farmers-market-%f0%9f%8d%8f%f0%9f%8d%8a%f0%9f%8d%8b%f0%9f%8d%89%f0%9f%8d%93%f0%9f%a5%a6%f0%9f%a5%92%f0%9f%ab%91%f0%9f%a7%84%f0%9f%8d%9e%f0%9f%a5%96/2029-04-26/
LOCATION:26012 HWY 189\, Twin Peaks
CATEGORIES:Community Event,Family Friendly,Live Music
ATTACH;FMTTYPE=image/jpeg:https://www.crestlinechamber.org/wp-content/uploads/2025/08/img20250812_15422707-scaled.jpg
ORGANIZER;CN="Twin Peaks Farmers Market":MAILTO:twinpeaksfarmersmarket@gmail.com
END:VEVENT
BEGIN:VEVENT
DTSTART;TZID=America/Los_Angeles:20290427T190000
DTEND;TZID=America/Los_Angeles:20290427T230000
DTSTAMP:20260425T071515
CREATED:20250731T204051Z
LAST-MODIFIED:20250731T204220Z
UID:10006530-1872010800-1872025200@www.crestlinechamber.org
SUMMARY:Friday Night Karaoke! 🎤 🎼 🎸
DESCRIPTION:
URL:https://www.crestlinechamber.org/event/friday-night-karaoke-%f0%9f%8e%a4-%f0%9f%8e%bc-%f0%9f%8e%b8/2029-04-27/
LOCATION:The Tudor House\, Lake Arrowhead\, 850 Arrowhead Villa Road\, Lake Arrowhead\, 92352\, United States
CATEGORIES:Community Event,Family Friendly,Live Music
ATTACH;FMTTYPE=image/jpeg:https://www.crestlinechamber.org/wp-content/uploads/2025/07/THKaraokeWebsiteImage-1640-x-924-px.jpg
END:VEVENT
BEGIN:VEVENT
DTSTART;TZID=America/Los_Angeles:20290503T140000
DTEND;TZID=America/Los_Angeles:20290503T183000
DTSTAMP:20260425T071515
CREATED:20250813T172934Z
LAST-MODIFIED:20250813T173846Z
UID:10006858-1872511200-1872527400@www.crestlinechamber.org
SUMMARY:Twin Peaks Farmers Market 🍏🍊🍋🍉🍓🥦🥒🫑🧄🍞🥖
DESCRIPTION:
URL:https://www.crestlinechamber.org/event/twin-peaks-farmers-market-%f0%9f%8d%8f%f0%9f%8d%8a%f0%9f%8d%8b%f0%9f%8d%89%f0%9f%8d%93%f0%9f%a5%a6%f0%9f%a5%92%f0%9f%ab%91%f0%9f%a7%84%f0%9f%8d%9e%f0%9f%a5%96/2029-05-03/
LOCATION:26012 HWY 189\, Twin Peaks
CATEGORIES:Community Event,Family Friendly,Live Music
ATTACH;FMTTYPE=image/jpeg:https://www.crestlinechamber.org/wp-content/uploads/2025/08/img20250812_15422707-scaled.jpg
ORGANIZER;CN="Twin Peaks Farmers Market":MAILTO:twinpeaksfarmersmarket@gmail.com
END:VEVENT
BEGIN:VEVENT
DTSTART;TZID=America/Los_Angeles:20290504T190000
DTEND;TZID=America/Los_Angeles:20290504T230000
DTSTAMP:20260425T071515
CREATED:20250731T204051Z
LAST-MODIFIED:20250731T204220Z
UID:10006531-1872615600-1872630000@www.crestlinechamber.org
SUMMARY:Friday Night Karaoke! 🎤 🎼 🎸
DESCRIPTION:
URL:https://www.crestlinechamber.org/event/friday-night-karaoke-%f0%9f%8e%a4-%f0%9f%8e%bc-%f0%9f%8e%b8/2029-05-04/
LOCATION:The Tudor House\, Lake Arrowhead\, 850 Arrowhead Villa Road\, Lake Arrowhead\, 92352\, United States
CATEGORIES:Community Event,Family Friendly,Live Music
ATTACH;FMTTYPE=image/jpeg:https://www.crestlinechamber.org/wp-content/uploads/2025/07/THKaraokeWebsiteImage-1640-x-924-px.jpg
END:VEVENT
BEGIN:VEVENT
DTSTART;TZID=America/Los_Angeles:20290510T140000
DTEND;TZID=America/Los_Angeles:20290510T183000
DTSTAMP:20260425T071515
CREATED:20250813T172934Z
LAST-MODIFIED:20250813T173846Z
UID:10006859-1873116000-1873132200@www.crestlinechamber.org
SUMMARY:Twin Peaks Farmers Market 🍏🍊🍋🍉🍓🥦🥒🫑🧄🍞🥖
DESCRIPTION:
URL:https://www.crestlinechamber.org/event/twin-peaks-farmers-market-%f0%9f%8d%8f%f0%9f%8d%8a%f0%9f%8d%8b%f0%9f%8d%89%f0%9f%8d%93%f0%9f%a5%a6%f0%9f%a5%92%f0%9f%ab%91%f0%9f%a7%84%f0%9f%8d%9e%f0%9f%a5%96/2029-05-10/
LOCATION:26012 HWY 189\, Twin Peaks
CATEGORIES:Community Event,Family Friendly,Live Music
ATTACH;FMTTYPE=image/jpeg:https://www.crestlinechamber.org/wp-content/uploads/2025/08/img20250812_15422707-scaled.jpg
ORGANIZER;CN="Twin Peaks Farmers Market":MAILTO:twinpeaksfarmersmarket@gmail.com
END:VEVENT
BEGIN:VEVENT
DTSTART;TZID=America/Los_Angeles:20290511T190000
DTEND;TZID=America/Los_Angeles:20290511T230000
DTSTAMP:20260425T071515
CREATED:20250731T204051Z
LAST-MODIFIED:20250731T204220Z
UID:10006532-1873220400-1873234800@www.crestlinechamber.org
SUMMARY:Friday Night Karaoke! 🎤 🎼 🎸
DESCRIPTION:
URL:https://www.crestlinechamber.org/event/friday-night-karaoke-%f0%9f%8e%a4-%f0%9f%8e%bc-%f0%9f%8e%b8/2029-05-11/
LOCATION:The Tudor House\, Lake Arrowhead\, 850 Arrowhead Villa Road\, Lake Arrowhead\, 92352\, United States
CATEGORIES:Community Event,Family Friendly,Live Music
ATTACH;FMTTYPE=image/jpeg:https://www.crestlinechamber.org/wp-content/uploads/2025/07/THKaraokeWebsiteImage-1640-x-924-px.jpg
END:VEVENT
BEGIN:VEVENT
DTSTART;TZID=America/Los_Angeles:20290517T140000
DTEND;TZID=America/Los_Angeles:20290517T183000
DTSTAMP:20260425T071515
CREATED:20250813T172934Z
LAST-MODIFIED:20250813T173846Z
UID:10006860-1873720800-1873737000@www.crestlinechamber.org
SUMMARY:Twin Peaks Farmers Market 🍏🍊🍋🍉🍓🥦🥒🫑🧄🍞🥖
DESCRIPTION:
URL:https://www.crestlinechamber.org/event/twin-peaks-farmers-market-%f0%9f%8d%8f%f0%9f%8d%8a%f0%9f%8d%8b%f0%9f%8d%89%f0%9f%8d%93%f0%9f%a5%a6%f0%9f%a5%92%f0%9f%ab%91%f0%9f%a7%84%f0%9f%8d%9e%f0%9f%a5%96/2029-05-17/
LOCATION:26012 HWY 189\, Twin Peaks
CATEGORIES:Community Event,Family Friendly,Live Music
ATTACH;FMTTYPE=image/jpeg:https://www.crestlinechamber.org/wp-content/uploads/2025/08/img20250812_15422707-scaled.jpg
ORGANIZER;CN="Twin Peaks Farmers Market":MAILTO:twinpeaksfarmersmarket@gmail.com
END:VEVENT
BEGIN:VEVENT
DTSTART;TZID=America/Los_Angeles:20290518T190000
DTEND;TZID=America/Los_Angeles:20290518T230000
DTSTAMP:20260425T071515
CREATED:20250731T204051Z
LAST-MODIFIED:20250731T204220Z
UID:10006533-1873825200-1873839600@www.crestlinechamber.org
SUMMARY:Friday Night Karaoke! 🎤 🎼 🎸
DESCRIPTION:
URL:https://www.crestlinechamber.org/event/friday-night-karaoke-%f0%9f%8e%a4-%f0%9f%8e%bc-%f0%9f%8e%b8/2029-05-18/
LOCATION:The Tudor House\, Lake Arrowhead\, 850 Arrowhead Villa Road\, Lake Arrowhead\, 92352\, United States
CATEGORIES:Community Event,Family Friendly,Live Music
ATTACH;FMTTYPE=image/jpeg:https://www.crestlinechamber.org/wp-content/uploads/2025/07/THKaraokeWebsiteImage-1640-x-924-px.jpg
END:VEVENT
BEGIN:VEVENT
DTSTART;TZID=America/Los_Angeles:20290524T140000
DTEND;TZID=America/Los_Angeles:20290524T183000
DTSTAMP:20260425T071515
CREATED:20250813T172934Z
LAST-MODIFIED:20250813T173846Z
UID:10006861-1874325600-1874341800@www.crestlinechamber.org
SUMMARY:Twin Peaks Farmers Market 🍏🍊🍋🍉🍓🥦🥒🫑🧄🍞🥖
DESCRIPTION:
URL:https://www.crestlinechamber.org/event/twin-peaks-farmers-market-%f0%9f%8d%8f%f0%9f%8d%8a%f0%9f%8d%8b%f0%9f%8d%89%f0%9f%8d%93%f0%9f%a5%a6%f0%9f%a5%92%f0%9f%ab%91%f0%9f%a7%84%f0%9f%8d%9e%f0%9f%a5%96/2029-05-24/
LOCATION:26012 HWY 189\, Twin Peaks
CATEGORIES:Community Event,Family Friendly,Live Music
ATTACH;FMTTYPE=image/jpeg:https://www.crestlinechamber.org/wp-content/uploads/2025/08/img20250812_15422707-scaled.jpg
ORGANIZER;CN="Twin Peaks Farmers Market":MAILTO:twinpeaksfarmersmarket@gmail.com
END:VEVENT
BEGIN:VEVENT
DTSTART;TZID=America/Los_Angeles:20290525T190000
DTEND;TZID=America/Los_Angeles:20290525T230000
DTSTAMP:20260425T071515
CREATED:20250731T204051Z
LAST-MODIFIED:20250731T204220Z
UID:10006534-1874430000-1874444400@www.crestlinechamber.org
SUMMARY:Friday Night Karaoke! 🎤 🎼 🎸
DESCRIPTION:
URL:https://www.crestlinechamber.org/event/friday-night-karaoke-%f0%9f%8e%a4-%f0%9f%8e%bc-%f0%9f%8e%b8/2029-05-25/
LOCATION:The Tudor House\, Lake Arrowhead\, 850 Arrowhead Villa Road\, Lake Arrowhead\, 92352\, United States
CATEGORIES:Community Event,Family Friendly,Live Music
ATTACH;FMTTYPE=image/jpeg:https://www.crestlinechamber.org/wp-content/uploads/2025/07/THKaraokeWebsiteImage-1640-x-924-px.jpg
END:VEVENT
BEGIN:VEVENT
DTSTART;TZID=America/Los_Angeles:20290531T140000
DTEND;TZID=America/Los_Angeles:20290531T183000
DTSTAMP:20260425T071515
CREATED:20250813T172934Z
LAST-MODIFIED:20250813T173846Z
UID:10006862-1874930400-1874946600@www.crestlinechamber.org
SUMMARY:Twin Peaks Farmers Market 🍏🍊🍋🍉🍓🥦🥒🫑🧄🍞🥖
DESCRIPTION:
URL:https://www.crestlinechamber.org/event/twin-peaks-farmers-market-%f0%9f%8d%8f%f0%9f%8d%8a%f0%9f%8d%8b%f0%9f%8d%89%f0%9f%8d%93%f0%9f%a5%a6%f0%9f%a5%92%f0%9f%ab%91%f0%9f%a7%84%f0%9f%8d%9e%f0%9f%a5%96/2029-05-31/
LOCATION:26012 HWY 189\, Twin Peaks
CATEGORIES:Community Event,Family Friendly,Live Music
ATTACH;FMTTYPE=image/jpeg:https://www.crestlinechamber.org/wp-content/uploads/2025/08/img20250812_15422707-scaled.jpg
ORGANIZER;CN="Twin Peaks Farmers Market":MAILTO:twinpeaksfarmersmarket@gmail.com
END:VEVENT
BEGIN:VEVENT
DTSTART;TZID=America/Los_Angeles:20290601T190000
DTEND;TZID=America/Los_Angeles:20290601T230000
DTSTAMP:20260425T071515
CREATED:20250731T204051Z
LAST-MODIFIED:20250731T204220Z
UID:10006535-1875034800-1875049200@www.crestlinechamber.org
SUMMARY:Friday Night Karaoke! 🎤 🎼 🎸
DESCRIPTION:
URL:https://www.crestlinechamber.org/event/friday-night-karaoke-%f0%9f%8e%a4-%f0%9f%8e%bc-%f0%9f%8e%b8/2029-06-01/
LOCATION:The Tudor House\, Lake Arrowhead\, 850 Arrowhead Villa Road\, Lake Arrowhead\, 92352\, United States
CATEGORIES:Community Event,Family Friendly,Live Music
ATTACH;FMTTYPE=image/jpeg:https://www.crestlinechamber.org/wp-content/uploads/2025/07/THKaraokeWebsiteImage-1640-x-924-px.jpg
END:VEVENT
BEGIN:VEVENT
DTSTART;TZID=America/Los_Angeles:20290607T140000
DTEND;TZID=America/Los_Angeles:20290607T183000
DTSTAMP:20260425T071515
CREATED:20250813T172934Z
LAST-MODIFIED:20250813T173846Z
UID:10006863-1875535200-1875551400@www.crestlinechamber.org
SUMMARY:Twin Peaks Farmers Market 🍏🍊🍋🍉🍓🥦🥒🫑🧄🍞🥖
DESCRIPTION:
URL:https://www.crestlinechamber.org/event/twin-peaks-farmers-market-%f0%9f%8d%8f%f0%9f%8d%8a%f0%9f%8d%8b%f0%9f%8d%89%f0%9f%8d%93%f0%9f%a5%a6%f0%9f%a5%92%f0%9f%ab%91%f0%9f%a7%84%f0%9f%8d%9e%f0%9f%a5%96/2029-06-07/
LOCATION:26012 HWY 189\, Twin Peaks
CATEGORIES:Community Event,Family Friendly,Live Music
ATTACH;FMTTYPE=image/jpeg:https://www.crestlinechamber.org/wp-content/uploads/2025/08/img20250812_15422707-scaled.jpg
ORGANIZER;CN="Twin Peaks Farmers Market":MAILTO:twinpeaksfarmersmarket@gmail.com
END:VEVENT
BEGIN:VEVENT
DTSTART;TZID=America/Los_Angeles:20290608T190000
DTEND;TZID=America/Los_Angeles:20290608T230000
DTSTAMP:20260425T071515
CREATED:20250731T204051Z
LAST-MODIFIED:20250731T204220Z
UID:10006536-1875639600-1875654000@www.crestlinechamber.org
SUMMARY:Friday Night Karaoke! 🎤 🎼 🎸
DESCRIPTION:
URL:https://www.crestlinechamber.org/event/friday-night-karaoke-%f0%9f%8e%a4-%f0%9f%8e%bc-%f0%9f%8e%b8/2029-06-08/
LOCATION:The Tudor House\, Lake Arrowhead\, 850 Arrowhead Villa Road\, Lake Arrowhead\, 92352\, United States
CATEGORIES:Community Event,Family Friendly,Live Music
ATTACH;FMTTYPE=image/jpeg:https://www.crestlinechamber.org/wp-content/uploads/2025/07/THKaraokeWebsiteImage-1640-x-924-px.jpg
END:VEVENT
BEGIN:VEVENT
DTSTART;TZID=America/Los_Angeles:20290614T140000
DTEND;TZID=America/Los_Angeles:20290614T183000
DTSTAMP:20260425T071515
CREATED:20250813T172934Z
LAST-MODIFIED:20250813T173846Z
UID:10006864-1876140000-1876156200@www.crestlinechamber.org
SUMMARY:Twin Peaks Farmers Market 🍏🍊🍋🍉🍓🥦🥒🫑🧄🍞🥖
DESCRIPTION:
URL:https://www.crestlinechamber.org/event/twin-peaks-farmers-market-%f0%9f%8d%8f%f0%9f%8d%8a%f0%9f%8d%8b%f0%9f%8d%89%f0%9f%8d%93%f0%9f%a5%a6%f0%9f%a5%92%f0%9f%ab%91%f0%9f%a7%84%f0%9f%8d%9e%f0%9f%a5%96/2029-06-14/
LOCATION:26012 HWY 189\, Twin Peaks
CATEGORIES:Community Event,Family Friendly,Live Music
ATTACH;FMTTYPE=image/jpeg:https://www.crestlinechamber.org/wp-content/uploads/2025/08/img20250812_15422707-scaled.jpg
ORGANIZER;CN="Twin Peaks Farmers Market":MAILTO:twinpeaksfarmersmarket@gmail.com
END:VEVENT
BEGIN:VEVENT
DTSTART;TZID=America/Los_Angeles:20290615T190000
DTEND;TZID=America/Los_Angeles:20290615T230000
DTSTAMP:20260425T071515
CREATED:20250731T204051Z
LAST-MODIFIED:20250731T204220Z
UID:10006537-1876244400-1876258800@www.crestlinechamber.org
SUMMARY:Friday Night Karaoke! 🎤 🎼 🎸
DESCRIPTION:
URL:https://www.crestlinechamber.org/event/friday-night-karaoke-%f0%9f%8e%a4-%f0%9f%8e%bc-%f0%9f%8e%b8/2029-06-15/
LOCATION:The Tudor House\, Lake Arrowhead\, 850 Arrowhead Villa Road\, Lake Arrowhead\, 92352\, United States
CATEGORIES:Community Event,Family Friendly,Live Music
ATTACH;FMTTYPE=image/jpeg:https://www.crestlinechamber.org/wp-content/uploads/2025/07/THKaraokeWebsiteImage-1640-x-924-px.jpg
END:VEVENT
BEGIN:VEVENT
DTSTART;TZID=America/Los_Angeles:20290621T140000
DTEND;TZID=America/Los_Angeles:20290621T183000
DTSTAMP:20260425T071515
CREATED:20250813T172934Z
LAST-MODIFIED:20250813T173846Z
UID:10006865-1876744800-1876761000@www.crestlinechamber.org
SUMMARY:Twin Peaks Farmers Market 🍏🍊🍋🍉🍓🥦🥒🫑🧄🍞🥖
DESCRIPTION:
URL:https://www.crestlinechamber.org/event/twin-peaks-farmers-market-%f0%9f%8d%8f%f0%9f%8d%8a%f0%9f%8d%8b%f0%9f%8d%89%f0%9f%8d%93%f0%9f%a5%a6%f0%9f%a5%92%f0%9f%ab%91%f0%9f%a7%84%f0%9f%8d%9e%f0%9f%a5%96/2029-06-21/
LOCATION:26012 HWY 189\, Twin Peaks
CATEGORIES:Community Event,Family Friendly,Live Music
ATTACH;FMTTYPE=image/jpeg:https://www.crestlinechamber.org/wp-content/uploads/2025/08/img20250812_15422707-scaled.jpg
ORGANIZER;CN="Twin Peaks Farmers Market":MAILTO:twinpeaksfarmersmarket@gmail.com
END:VEVENT
BEGIN:VEVENT
DTSTART;TZID=America/Los_Angeles:20290622T190000
DTEND;TZID=America/Los_Angeles:20290622T230000
DTSTAMP:20260425T071515
CREATED:20250731T204051Z
LAST-MODIFIED:20250731T204220Z
UID:10006538-1876849200-1876863600@www.crestlinechamber.org
SUMMARY:Friday Night Karaoke! 🎤 🎼 🎸
DESCRIPTION:
URL:https://www.crestlinechamber.org/event/friday-night-karaoke-%f0%9f%8e%a4-%f0%9f%8e%bc-%f0%9f%8e%b8/2029-06-22/
LOCATION:The Tudor House\, Lake Arrowhead\, 850 Arrowhead Villa Road\, Lake Arrowhead\, 92352\, United States
CATEGORIES:Community Event,Family Friendly,Live Music
ATTACH;FMTTYPE=image/jpeg:https://www.crestlinechamber.org/wp-content/uploads/2025/07/THKaraokeWebsiteImage-1640-x-924-px.jpg
END:VEVENT
BEGIN:VEVENT
DTSTART;TZID=America/Los_Angeles:20290628T140000
DTEND;TZID=America/Los_Angeles:20290628T183000
DTSTAMP:20260425T071515
CREATED:20250813T172934Z
LAST-MODIFIED:20250813T173846Z
UID:10006866-1877349600-1877365800@www.crestlinechamber.org
SUMMARY:Twin Peaks Farmers Market 🍏🍊🍋🍉🍓🥦🥒🫑🧄🍞🥖
DESCRIPTION:
URL:https://www.crestlinechamber.org/event/twin-peaks-farmers-market-%f0%9f%8d%8f%f0%9f%8d%8a%f0%9f%8d%8b%f0%9f%8d%89%f0%9f%8d%93%f0%9f%a5%a6%f0%9f%a5%92%f0%9f%ab%91%f0%9f%a7%84%f0%9f%8d%9e%f0%9f%a5%96/2029-06-28/
LOCATION:26012 HWY 189\, Twin Peaks
CATEGORIES:Community Event,Family Friendly,Live Music
ATTACH;FMTTYPE=image/jpeg:https://www.crestlinechamber.org/wp-content/uploads/2025/08/img20250812_15422707-scaled.jpg
ORGANIZER;CN="Twin Peaks Farmers Market":MAILTO:twinpeaksfarmersmarket@gmail.com
END:VEVENT
BEGIN:VEVENT
DTSTART;TZID=America/Los_Angeles:20290629T190000
DTEND;TZID=America/Los_Angeles:20290629T230000
DTSTAMP:20260425T071515
CREATED:20250731T204051Z
LAST-MODIFIED:20250731T204220Z
UID:10006539-1877454000-1877468400@www.crestlinechamber.org
SUMMARY:Friday Night Karaoke! 🎤 🎼 🎸
DESCRIPTION:
URL:https://www.crestlinechamber.org/event/friday-night-karaoke-%f0%9f%8e%a4-%f0%9f%8e%bc-%f0%9f%8e%b8/2029-06-29/
LOCATION:The Tudor House\, Lake Arrowhead\, 850 Arrowhead Villa Road\, Lake Arrowhead\, 92352\, United States
CATEGORIES:Community Event,Family Friendly,Live Music
ATTACH;FMTTYPE=image/jpeg:https://www.crestlinechamber.org/wp-content/uploads/2025/07/THKaraokeWebsiteImage-1640-x-924-px.jpg
END:VEVENT
BEGIN:VEVENT
DTSTART;TZID=America/Los_Angeles:20290705T140000
DTEND;TZID=America/Los_Angeles:20290705T183000
DTSTAMP:20260425T071515
CREATED:20250813T172934Z
LAST-MODIFIED:20250813T173846Z
UID:10006867-1877954400-1877970600@www.crestlinechamber.org
SUMMARY:Twin Peaks Farmers Market 🍏🍊🍋🍉🍓🥦🥒🫑🧄🍞🥖
DESCRIPTION:
URL:https://www.crestlinechamber.org/event/twin-peaks-farmers-market-%f0%9f%8d%8f%f0%9f%8d%8a%f0%9f%8d%8b%f0%9f%8d%89%f0%9f%8d%93%f0%9f%a5%a6%f0%9f%a5%92%f0%9f%ab%91%f0%9f%a7%84%f0%9f%8d%9e%f0%9f%a5%96/2029-07-05/
LOCATION:26012 HWY 189\, Twin Peaks
CATEGORIES:Community Event,Family Friendly,Live Music
ATTACH;FMTTYPE=image/jpeg:https://www.crestlinechamber.org/wp-content/uploads/2025/08/img20250812_15422707-scaled.jpg
ORGANIZER;CN="Twin Peaks Farmers Market":MAILTO:twinpeaksfarmersmarket@gmail.com
END:VEVENT
BEGIN:VEVENT
DTSTART;TZID=America/Los_Angeles:20290706T190000
DTEND;TZID=America/Los_Angeles:20290706T230000
DTSTAMP:20260425T071515
CREATED:20250731T204051Z
LAST-MODIFIED:20250731T204220Z
UID:10006540-1878058800-1878073200@www.crestlinechamber.org
SUMMARY:Friday Night Karaoke! 🎤 🎼 🎸
DESCRIPTION:
URL:https://www.crestlinechamber.org/event/friday-night-karaoke-%f0%9f%8e%a4-%f0%9f%8e%bc-%f0%9f%8e%b8/2029-07-06/
LOCATION:The Tudor House\, Lake Arrowhead\, 850 Arrowhead Villa Road\, Lake Arrowhead\, 92352\, United States
CATEGORIES:Community Event,Family Friendly,Live Music
ATTACH;FMTTYPE=image/jpeg:https://www.crestlinechamber.org/wp-content/uploads/2025/07/THKaraokeWebsiteImage-1640-x-924-px.jpg
END:VEVENT
BEGIN:VEVENT
DTSTART;TZID=America/Los_Angeles:20290712T140000
DTEND;TZID=America/Los_Angeles:20290712T183000
DTSTAMP:20260425T071515
CREATED:20250813T172934Z
LAST-MODIFIED:20250813T173846Z
UID:10006868-1878559200-1878575400@www.crestlinechamber.org
SUMMARY:Twin Peaks Farmers Market 🍏🍊🍋🍉🍓🥦🥒🫑🧄🍞🥖
DESCRIPTION:
URL:https://www.crestlinechamber.org/event/twin-peaks-farmers-market-%f0%9f%8d%8f%f0%9f%8d%8a%f0%9f%8d%8b%f0%9f%8d%89%f0%9f%8d%93%f0%9f%a5%a6%f0%9f%a5%92%f0%9f%ab%91%f0%9f%a7%84%f0%9f%8d%9e%f0%9f%a5%96/2029-07-12/
LOCATION:26012 HWY 189\, Twin Peaks
CATEGORIES:Community Event,Family Friendly,Live Music
ATTACH;FMTTYPE=image/jpeg:https://www.crestlinechamber.org/wp-content/uploads/2025/08/img20250812_15422707-scaled.jpg
ORGANIZER;CN="Twin Peaks Farmers Market":MAILTO:twinpeaksfarmersmarket@gmail.com
END:VEVENT
BEGIN:VEVENT
DTSTART;TZID=America/Los_Angeles:20290713T190000
DTEND;TZID=America/Los_Angeles:20290713T230000
DTSTAMP:20260425T071515
CREATED:20250731T204051Z
LAST-MODIFIED:20250731T204220Z
UID:10006541-1878663600-1878678000@www.crestlinechamber.org
SUMMARY:Friday Night Karaoke! 🎤 🎼 🎸
DESCRIPTION:
URL:https://www.crestlinechamber.org/event/friday-night-karaoke-%f0%9f%8e%a4-%f0%9f%8e%bc-%f0%9f%8e%b8/2029-07-13/
LOCATION:The Tudor House\, Lake Arrowhead\, 850 Arrowhead Villa Road\, Lake Arrowhead\, 92352\, United States
CATEGORIES:Community Event,Family Friendly,Live Music
ATTACH;FMTTYPE=image/jpeg:https://www.crestlinechamber.org/wp-content/uploads/2025/07/THKaraokeWebsiteImage-1640-x-924-px.jpg
END:VEVENT
BEGIN:VEVENT
DTSTART;TZID=America/Los_Angeles:20290719T140000
DTEND;TZID=America/Los_Angeles:20290719T183000
DTSTAMP:20260425T071515
CREATED:20250813T172934Z
LAST-MODIFIED:20250813T173846Z
UID:10006869-1879164000-1879180200@www.crestlinechamber.org
SUMMARY:Twin Peaks Farmers Market 🍏🍊🍋🍉🍓🥦🥒🫑🧄🍞🥖
DESCRIPTION:
URL:https://www.crestlinechamber.org/event/twin-peaks-farmers-market-%f0%9f%8d%8f%f0%9f%8d%8a%f0%9f%8d%8b%f0%9f%8d%89%f0%9f%8d%93%f0%9f%a5%a6%f0%9f%a5%92%f0%9f%ab%91%f0%9f%a7%84%f0%9f%8d%9e%f0%9f%a5%96/2029-07-19/
LOCATION:26012 HWY 189\, Twin Peaks
CATEGORIES:Community Event,Family Friendly,Live Music
ATTACH;FMTTYPE=image/jpeg:https://www.crestlinechamber.org/wp-content/uploads/2025/08/img20250812_15422707-scaled.jpg
ORGANIZER;CN="Twin Peaks Farmers Market":MAILTO:twinpeaksfarmersmarket@gmail.com
END:VEVENT
BEGIN:VEVENT
DTSTART;TZID=America/Los_Angeles:20290720T190000
DTEND;TZID=America/Los_Angeles:20290720T230000
DTSTAMP:20260425T071515
CREATED:20250731T204051Z
LAST-MODIFIED:20250731T204220Z
UID:10006542-1879268400-1879282800@www.crestlinechamber.org
SUMMARY:Friday Night Karaoke! 🎤 🎼 🎸
DESCRIPTION:
URL:https://www.crestlinechamber.org/event/friday-night-karaoke-%f0%9f%8e%a4-%f0%9f%8e%bc-%f0%9f%8e%b8/2029-07-20/
LOCATION:The Tudor House\, Lake Arrowhead\, 850 Arrowhead Villa Road\, Lake Arrowhead\, 92352\, United States
CATEGORIES:Community Event,Family Friendly,Live Music
ATTACH;FMTTYPE=image/jpeg:https://www.crestlinechamber.org/wp-content/uploads/2025/07/THKaraokeWebsiteImage-1640-x-924-px.jpg
END:VEVENT
END:VCALENDAR