BEGIN:VCALENDAR
VERSION:2.0
PRODID:-//Crestline Chamber of Commerce - ECPv6.15.20//NONSGML v1.0//EN
CALSCALE:GREGORIAN
METHOD:PUBLISH
X-ORIGINAL-URL:https://www.crestlinechamber.org
X-WR-CALDESC:Events for Crestline Chamber of Commerce
REFRESH-INTERVAL;VALUE=DURATION:PT1H
X-Robots-Tag:noindex
X-PUBLISHED-TTL:PT1H
BEGIN:VTIMEZONE
TZID:America/Los_Angeles
BEGIN:DAYLIGHT
TZOFFSETFROM:-0800
TZOFFSETTO:-0700
TZNAME:PDT
DTSTART:20240310T100000
END:DAYLIGHT
BEGIN:STANDARD
TZOFFSETFROM:-0700
TZOFFSETTO:-0800
TZNAME:PST
DTSTART:20241103T090000
END:STANDARD
BEGIN:DAYLIGHT
TZOFFSETFROM:-0800
TZOFFSETTO:-0700
TZNAME:PDT
DTSTART:20250309T100000
END:DAYLIGHT
BEGIN:STANDARD
TZOFFSETFROM:-0700
TZOFFSETTO:-0800
TZNAME:PST
DTSTART:20251102T090000
END:STANDARD
BEGIN:DAYLIGHT
TZOFFSETFROM:-0800
TZOFFSETTO:-0700
TZNAME:PDT
DTSTART:20260308T100000
END:DAYLIGHT
BEGIN:STANDARD
TZOFFSETFROM:-0700
TZOFFSETTO:-0800
TZNAME:PST
DTSTART:20261101T090000
END:STANDARD
BEGIN:DAYLIGHT
TZOFFSETFROM:-0800
TZOFFSETTO:-0700
TZNAME:PDT
DTSTART:20270314T100000
END:DAYLIGHT
BEGIN:STANDARD
TZOFFSETFROM:-0700
TZOFFSETTO:-0800
TZNAME:PST
DTSTART:20271107T090000
END:STANDARD
END:VTIMEZONE
BEGIN:VEVENT
DTSTART;TZID=America/Los_Angeles:20251114T190000
DTEND;TZID=America/Los_Angeles:20251114T230000
DTSTAMP:20260423T214033
CREATED:20250731T204051Z
LAST-MODIFIED:20250731T204220Z
UID:10006350-1763146800-1763161200@www.crestlinechamber.org
SUMMARY:Friday Night Karaoke! 🎤 🎼 🎸
DESCRIPTION:
URL:https://www.crestlinechamber.org/event/friday-night-karaoke-%f0%9f%8e%a4-%f0%9f%8e%bc-%f0%9f%8e%b8/2025-11-14/
LOCATION:The Tudor House\, Lake Arrowhead\, 850 Arrowhead Villa Road\, Lake Arrowhead\, 92352\, United States
CATEGORIES:Community Event,Family Friendly,Live Music
ATTACH;FMTTYPE=image/jpeg:https://www.crestlinechamber.org/wp-content/uploads/2025/07/THKaraokeWebsiteImage-1640-x-924-px.jpg
END:VEVENT
BEGIN:VEVENT
DTSTART;TZID=America/Los_Angeles:20251114T190000
DTEND;TZID=America/Los_Angeles:20251114T210000
DTSTAMP:20260423T214033
CREATED:20250619T190412Z
LAST-MODIFIED:20250812T223603Z
UID:10006615-1763146800-1763154000@www.crestlinechamber.org
SUMMARY:Tunes in the Trees 🌲 🎶
DESCRIPTION:Make sure to go to their website to see which artists and bands are playing that week!
URL:https://www.crestlinechamber.org/event/tunes-in-the-trees-%f0%9f%8c%b2-%f0%9f%8e%b6/2025-11-14/
LOCATION:SkyPark Santa’s Village\, 28950 California 18\, Skyforest\, CA\, 92385\, United States
CATEGORIES:Community Event,Family Friendly,Live Music
GEO:34.2324277;-117.1686266
X-APPLE-STRUCTURED-LOCATION;VALUE=URI;X-ADDRESS=SkyPark Santa’s Village 28950 California 18 Skyforest CA 92385 United States;X-APPLE-RADIUS=500;X-TITLE=28950 California 18:geo:-117.1686266,34.2324277
END:VEVENT
BEGIN:VEVENT
DTSTART;TZID=America/Los_Angeles:20251113T140000
DTEND;TZID=America/Los_Angeles:20251113T183000
DTSTAMP:20260423T214033
CREATED:20250813T172934Z
LAST-MODIFIED:20250813T173846Z
UID:10006677-1763042400-1763058600@www.crestlinechamber.org
SUMMARY:Twin Peaks Farmers Market 🍏🍊🍋🍉🍓🥦🥒🫑🧄🍞🥖
DESCRIPTION:
URL:https://www.crestlinechamber.org/event/twin-peaks-farmers-market-%f0%9f%8d%8f%f0%9f%8d%8a%f0%9f%8d%8b%f0%9f%8d%89%f0%9f%8d%93%f0%9f%a5%a6%f0%9f%a5%92%f0%9f%ab%91%f0%9f%a7%84%f0%9f%8d%9e%f0%9f%a5%96/2025-11-13/
LOCATION:26012 HWY 189\, Twin Peaks
CATEGORIES:Community Event,Family Friendly,Live Music
ATTACH;FMTTYPE=image/jpeg:https://www.crestlinechamber.org/wp-content/uploads/2025/08/img20250812_15422707-scaled.jpg
ORGANIZER;CN="Twin Peaks Farmers Market":MAILTO:twinpeaksfarmersmarket@gmail.com
END:VEVENT
BEGIN:VEVENT
DTSTART;VALUE=DATE:20251113
DTEND;VALUE=DATE:20260105
DTSTAMP:20260423T214033
CREATED:20251120T194123Z
LAST-MODIFIED:20251120T194123Z
UID:10007350-1762992000-1767571199@www.crestlinechamber.org
SUMMARY:Skypark at Santa's Village
DESCRIPTION:Santa’s Village is a magical place year-round\, but something extra special happens when we get close to the holiday season: the entire village transforms into a dazzling Christmas Wonderland!
URL:https://www.crestlinechamber.org/event/skypark-at-santas-village/
LOCATION:SkyPark Santa’s Village\, 28950 California 18\, Skyforest\, CA\, 92385\, United States
CATEGORIES:Community Event,Family Friendly,Live Music
GEO:34.2324277;-117.1686266
X-APPLE-STRUCTURED-LOCATION;VALUE=URI;X-ADDRESS=SkyPark Santa’s Village 28950 California 18 Skyforest CA 92385 United States;X-APPLE-RADIUS=500;X-TITLE=28950 California 18:geo:-117.1686266,34.2324277
END:VEVENT
BEGIN:VEVENT
DTSTART;TZID=America/Los_Angeles:20251112T180000
DTEND;TZID=America/Los_Angeles:20251112T210000
DTSTAMP:20260423T214033
CREATED:20250729T181158Z
LAST-MODIFIED:20250729T181158Z
UID:10005804-1762970400-1762981200@www.crestlinechamber.org
SUMMARY:Karaoke Night at Bizzyland 🌺 🌸 🌹 🎙️
DESCRIPTION:Join us for a fun-filled evening of music and community as we invite you to sing the night away to your favorite karaoke songs! \n🎉 FREE and Open to the Public\nWine and spirits will be available for purchase. Bring your friends\, grab a drink\, and take the stage—whether you’re a seasoned singer or just in it for the fun!
URL:https://www.crestlinechamber.org/event/karaoke-night-at-bizzyland-%f0%9f%8c%ba-%f0%9f%8c%b8-%f0%9f%8c%b9-%f0%9f%8e%99%ef%b8%8f/2025-11-12/
LOCATION:Bizzyland\, 23875 Lake Dr\, Crestline\, 92325\, United States
CATEGORIES:Community Event,Family Friendly,Live Music
ATTACH;FMTTYPE=image/jpeg:https://www.crestlinechamber.org/wp-content/uploads/2025/07/Asset-1.jpg
GEO:34.2430174;-117.2823765
X-APPLE-STRUCTURED-LOCATION;VALUE=URI;X-ADDRESS=Bizzyland 23875 Lake Dr Crestline 92325 United States;X-APPLE-RADIUS=500;X-TITLE=23875 Lake Dr:geo:-117.2823765,34.2430174
END:VEVENT
BEGIN:VEVENT
DTSTART;TZID=America/Los_Angeles:20251108T130000
DTEND;TZID=America/Los_Angeles:20251108T160000
DTSTAMP:20260423T214033
CREATED:20250731T202729Z
LAST-MODIFIED:20250731T202800Z
UID:10006327-1762606800-1762617600@www.crestlinechamber.org
SUMMARY:Top Town Fall Fest 🍁 🍂 🎃 🍎🍏
DESCRIPTION:
URL:https://www.crestlinechamber.org/event/top-town-fall-fest-%f0%9f%8d%81-%f0%9f%8d%82-%f0%9f%8e%83-%f0%9f%8d%8e%f0%9f%8d%8f/
LOCATION:Historical Top Town
CATEGORIES:Community Event,Crestline Chamber Event,Family Friendly,Live Music
ATTACH;FMTTYPE=image/jpeg:https://www.crestlinechamber.org/wp-content/uploads/2025/07/001cbc81-a21b-2942-61c7-a3e20d37619c-2.jpeg
END:VEVENT
BEGIN:VEVENT
DTSTART;TZID=America/Los_Angeles:20251107T190000
DTEND;TZID=America/Los_Angeles:20251107T230000
DTSTAMP:20260423T214033
CREATED:20250731T204051Z
LAST-MODIFIED:20250731T204220Z
UID:10006349-1762542000-1762556400@www.crestlinechamber.org
SUMMARY:Friday Night Karaoke! 🎤 🎼 🎸
DESCRIPTION:
URL:https://www.crestlinechamber.org/event/friday-night-karaoke-%f0%9f%8e%a4-%f0%9f%8e%bc-%f0%9f%8e%b8/2025-11-07/
LOCATION:The Tudor House\, Lake Arrowhead\, 850 Arrowhead Villa Road\, Lake Arrowhead\, 92352\, United States
CATEGORIES:Community Event,Family Friendly,Live Music
ATTACH;FMTTYPE=image/jpeg:https://www.crestlinechamber.org/wp-content/uploads/2025/07/THKaraokeWebsiteImage-1640-x-924-px.jpg
END:VEVENT
BEGIN:VEVENT
DTSTART;TZID=America/Los_Angeles:20251107T190000
DTEND;TZID=America/Los_Angeles:20251107T210000
DTSTAMP:20260423T214033
CREATED:20250619T190412Z
LAST-MODIFIED:20250812T223603Z
UID:10006614-1762542000-1762549200@www.crestlinechamber.org
SUMMARY:Tunes in the Trees 🌲 🎶
DESCRIPTION:Make sure to go to their website to see which artists and bands are playing that week!
URL:https://www.crestlinechamber.org/event/tunes-in-the-trees-%f0%9f%8c%b2-%f0%9f%8e%b6/2025-11-07/
LOCATION:SkyPark Santa’s Village\, 28950 California 18\, Skyforest\, CA\, 92385\, United States
CATEGORIES:Community Event,Family Friendly,Live Music
GEO:34.2324277;-117.1686266
X-APPLE-STRUCTURED-LOCATION;VALUE=URI;X-ADDRESS=SkyPark Santa’s Village 28950 California 18 Skyforest CA 92385 United States;X-APPLE-RADIUS=500;X-TITLE=28950 California 18:geo:-117.1686266,34.2324277
END:VEVENT
BEGIN:VEVENT
DTSTART;TZID=America/Los_Angeles:20251106T140000
DTEND;TZID=America/Los_Angeles:20251106T183000
DTSTAMP:20260423T214033
CREATED:20250813T172934Z
LAST-MODIFIED:20250813T173846Z
UID:10006676-1762437600-1762453800@www.crestlinechamber.org
SUMMARY:Twin Peaks Farmers Market 🍏🍊🍋🍉🍓🥦🥒🫑🧄🍞🥖
DESCRIPTION:
URL:https://www.crestlinechamber.org/event/twin-peaks-farmers-market-%f0%9f%8d%8f%f0%9f%8d%8a%f0%9f%8d%8b%f0%9f%8d%89%f0%9f%8d%93%f0%9f%a5%a6%f0%9f%a5%92%f0%9f%ab%91%f0%9f%a7%84%f0%9f%8d%9e%f0%9f%a5%96/2025-11-06/
LOCATION:26012 HWY 189\, Twin Peaks
CATEGORIES:Community Event,Family Friendly,Live Music
ATTACH;FMTTYPE=image/jpeg:https://www.crestlinechamber.org/wp-content/uploads/2025/08/img20250812_15422707-scaled.jpg
ORGANIZER;CN="Twin Peaks Farmers Market":MAILTO:twinpeaksfarmersmarket@gmail.com
END:VEVENT
BEGIN:VEVENT
DTSTART;TZID=America/Los_Angeles:20251105T180000
DTEND;TZID=America/Los_Angeles:20251105T210000
DTSTAMP:20260423T214033
CREATED:20250729T181158Z
LAST-MODIFIED:20250729T181158Z
UID:10005803-1762365600-1762376400@www.crestlinechamber.org
SUMMARY:Karaoke Night at Bizzyland 🌺 🌸 🌹 🎙️
DESCRIPTION:Join us for a fun-filled evening of music and community as we invite you to sing the night away to your favorite karaoke songs! \n🎉 FREE and Open to the Public\nWine and spirits will be available for purchase. Bring your friends\, grab a drink\, and take the stage—whether you’re a seasoned singer or just in it for the fun!
URL:https://www.crestlinechamber.org/event/karaoke-night-at-bizzyland-%f0%9f%8c%ba-%f0%9f%8c%b8-%f0%9f%8c%b9-%f0%9f%8e%99%ef%b8%8f/2025-11-05/
LOCATION:Bizzyland\, 23875 Lake Dr\, Crestline\, 92325\, United States
CATEGORIES:Community Event,Family Friendly,Live Music
ATTACH;FMTTYPE=image/jpeg:https://www.crestlinechamber.org/wp-content/uploads/2025/07/Asset-1.jpg
GEO:34.2430174;-117.2823765
X-APPLE-STRUCTURED-LOCATION;VALUE=URI;X-ADDRESS=Bizzyland 23875 Lake Dr Crestline 92325 United States;X-APPLE-RADIUS=500;X-TITLE=23875 Lake Dr:geo:-117.2823765,34.2430174
END:VEVENT
BEGIN:VEVENT
DTSTART;TZID=America/Los_Angeles:20251031T190000
DTEND;TZID=America/Los_Angeles:20251031T230000
DTSTAMP:20260423T214033
CREATED:20250731T204051Z
LAST-MODIFIED:20250731T204220Z
UID:10006348-1761937200-1761951600@www.crestlinechamber.org
SUMMARY:Friday Night Karaoke! 🎤 🎼 🎸
DESCRIPTION:
URL:https://www.crestlinechamber.org/event/friday-night-karaoke-%f0%9f%8e%a4-%f0%9f%8e%bc-%f0%9f%8e%b8/2025-10-31/
LOCATION:The Tudor House\, Lake Arrowhead\, 850 Arrowhead Villa Road\, Lake Arrowhead\, 92352\, United States
CATEGORIES:Community Event,Family Friendly,Live Music
ATTACH;FMTTYPE=image/jpeg:https://www.crestlinechamber.org/wp-content/uploads/2025/07/THKaraokeWebsiteImage-1640-x-924-px.jpg
END:VEVENT
BEGIN:VEVENT
DTSTART;TZID=America/Los_Angeles:20251031T190000
DTEND;TZID=America/Los_Angeles:20251031T210000
DTSTAMP:20260423T214033
CREATED:20250619T190412Z
LAST-MODIFIED:20250812T223603Z
UID:10006613-1761937200-1761944400@www.crestlinechamber.org
SUMMARY:Tunes in the Trees 🌲 🎶
DESCRIPTION:Make sure to go to their website to see which artists and bands are playing that week!
URL:https://www.crestlinechamber.org/event/tunes-in-the-trees-%f0%9f%8c%b2-%f0%9f%8e%b6/2025-10-31/
LOCATION:SkyPark Santa’s Village\, 28950 California 18\, Skyforest\, CA\, 92385\, United States
CATEGORIES:Community Event,Family Friendly,Live Music
GEO:34.2324277;-117.1686266
X-APPLE-STRUCTURED-LOCATION;VALUE=URI;X-ADDRESS=SkyPark Santa’s Village 28950 California 18 Skyforest CA 92385 United States;X-APPLE-RADIUS=500;X-TITLE=28950 California 18:geo:-117.1686266,34.2324277
END:VEVENT
BEGIN:VEVENT
DTSTART;TZID=America/Los_Angeles:20251030T140000
DTEND;TZID=America/Los_Angeles:20251030T183000
DTSTAMP:20260423T214033
CREATED:20250813T172934Z
LAST-MODIFIED:20250813T173846Z
UID:10006675-1761832800-1761849000@www.crestlinechamber.org
SUMMARY:Twin Peaks Farmers Market 🍏🍊🍋🍉🍓🥦🥒🫑🧄🍞🥖
DESCRIPTION:
URL:https://www.crestlinechamber.org/event/twin-peaks-farmers-market-%f0%9f%8d%8f%f0%9f%8d%8a%f0%9f%8d%8b%f0%9f%8d%89%f0%9f%8d%93%f0%9f%a5%a6%f0%9f%a5%92%f0%9f%ab%91%f0%9f%a7%84%f0%9f%8d%9e%f0%9f%a5%96/2025-10-30/
LOCATION:26012 HWY 189\, Twin Peaks
CATEGORIES:Community Event,Family Friendly,Live Music
ATTACH;FMTTYPE=image/jpeg:https://www.crestlinechamber.org/wp-content/uploads/2025/08/img20250812_15422707-scaled.jpg
ORGANIZER;CN="Twin Peaks Farmers Market":MAILTO:twinpeaksfarmersmarket@gmail.com
END:VEVENT
BEGIN:VEVENT
DTSTART;TZID=America/Los_Angeles:20251029T180000
DTEND;TZID=America/Los_Angeles:20251029T210000
DTSTAMP:20260423T214033
CREATED:20250729T181158Z
LAST-MODIFIED:20250729T181158Z
UID:10005802-1761760800-1761771600@www.crestlinechamber.org
SUMMARY:Karaoke Night at Bizzyland 🌺 🌸 🌹 🎙️
DESCRIPTION:Join us for a fun-filled evening of music and community as we invite you to sing the night away to your favorite karaoke songs! \n🎉 FREE and Open to the Public\nWine and spirits will be available for purchase. Bring your friends\, grab a drink\, and take the stage—whether you’re a seasoned singer or just in it for the fun!
URL:https://www.crestlinechamber.org/event/karaoke-night-at-bizzyland-%f0%9f%8c%ba-%f0%9f%8c%b8-%f0%9f%8c%b9-%f0%9f%8e%99%ef%b8%8f/2025-10-29/
LOCATION:Bizzyland\, 23875 Lake Dr\, Crestline\, 92325\, United States
CATEGORIES:Community Event,Family Friendly,Live Music
ATTACH;FMTTYPE=image/jpeg:https://www.crestlinechamber.org/wp-content/uploads/2025/07/Asset-1.jpg
GEO:34.2430174;-117.2823765
X-APPLE-STRUCTURED-LOCATION;VALUE=URI;X-ADDRESS=Bizzyland 23875 Lake Dr Crestline 92325 United States;X-APPLE-RADIUS=500;X-TITLE=23875 Lake Dr:geo:-117.2823765,34.2430174
END:VEVENT
BEGIN:VEVENT
DTSTART;TZID=America/Los_Angeles:20251025T190000
DTEND;TZID=America/Los_Angeles:20251025T210000
DTSTAMP:20260423T214033
CREATED:20250619T190031Z
LAST-MODIFIED:20250619T190031Z
UID:10005501-1761418800-1761426000@www.crestlinechamber.org
SUMMARY:2025 Saturday Skate Night  🛼
DESCRIPTION:Different themes each week!
URL:https://www.crestlinechamber.org/event/2025-saturday-skate-night-%f0%9f%9b%bc/2025-10-25/
LOCATION:SkyPark Santa’s Village\, 28950 California 18\, Skyforest\, CA\, 92385\, United States
CATEGORIES:Community Event,Family Friendly,Live Music
GEO:34.2324277;-117.1686266
X-APPLE-STRUCTURED-LOCATION;VALUE=URI;X-ADDRESS=SkyPark Santa’s Village 28950 California 18 Skyforest CA 92385 United States;X-APPLE-RADIUS=500;X-TITLE=28950 California 18:geo:-117.1686266,34.2324277
END:VEVENT
BEGIN:VEVENT
DTSTART;TZID=America/Los_Angeles:20251024T190000
DTEND;TZID=America/Los_Angeles:20251024T230000
DTSTAMP:20260423T214033
CREATED:20250731T204051Z
LAST-MODIFIED:20250731T204220Z
UID:10006347-1761332400-1761346800@www.crestlinechamber.org
SUMMARY:Friday Night Karaoke! 🎤 🎼 🎸
DESCRIPTION:
URL:https://www.crestlinechamber.org/event/friday-night-karaoke-%f0%9f%8e%a4-%f0%9f%8e%bc-%f0%9f%8e%b8/2025-10-24/
LOCATION:The Tudor House\, Lake Arrowhead\, 850 Arrowhead Villa Road\, Lake Arrowhead\, 92352\, United States
CATEGORIES:Community Event,Family Friendly,Live Music
ATTACH;FMTTYPE=image/jpeg:https://www.crestlinechamber.org/wp-content/uploads/2025/07/THKaraokeWebsiteImage-1640-x-924-px.jpg
END:VEVENT
BEGIN:VEVENT
DTSTART;TZID=America/Los_Angeles:20251024T190000
DTEND;TZID=America/Los_Angeles:20251024T210000
DTSTAMP:20260423T214033
CREATED:20250619T190412Z
LAST-MODIFIED:20250812T223603Z
UID:10006612-1761332400-1761339600@www.crestlinechamber.org
SUMMARY:Tunes in the Trees 🌲 🎶
DESCRIPTION:Make sure to go to their website to see which artists and bands are playing that week!
URL:https://www.crestlinechamber.org/event/tunes-in-the-trees-%f0%9f%8c%b2-%f0%9f%8e%b6/2025-10-24/
LOCATION:SkyPark Santa’s Village\, 28950 California 18\, Skyforest\, CA\, 92385\, United States
CATEGORIES:Community Event,Family Friendly,Live Music
GEO:34.2324277;-117.1686266
X-APPLE-STRUCTURED-LOCATION;VALUE=URI;X-ADDRESS=SkyPark Santa’s Village 28950 California 18 Skyforest CA 92385 United States;X-APPLE-RADIUS=500;X-TITLE=28950 California 18:geo:-117.1686266,34.2324277
END:VEVENT
BEGIN:VEVENT
DTSTART;TZID=America/Los_Angeles:20251023T140000
DTEND;TZID=America/Los_Angeles:20251023T183000
DTSTAMP:20260423T214033
CREATED:20250813T172934Z
LAST-MODIFIED:20250813T173846Z
UID:10006674-1761228000-1761244200@www.crestlinechamber.org
SUMMARY:Twin Peaks Farmers Market 🍏🍊🍋🍉🍓🥦🥒🫑🧄🍞🥖
DESCRIPTION:
URL:https://www.crestlinechamber.org/event/twin-peaks-farmers-market-%f0%9f%8d%8f%f0%9f%8d%8a%f0%9f%8d%8b%f0%9f%8d%89%f0%9f%8d%93%f0%9f%a5%a6%f0%9f%a5%92%f0%9f%ab%91%f0%9f%a7%84%f0%9f%8d%9e%f0%9f%a5%96/2025-10-23/
LOCATION:26012 HWY 189\, Twin Peaks
CATEGORIES:Community Event,Family Friendly,Live Music
ATTACH;FMTTYPE=image/jpeg:https://www.crestlinechamber.org/wp-content/uploads/2025/08/img20250812_15422707-scaled.jpg
ORGANIZER;CN="Twin Peaks Farmers Market":MAILTO:twinpeaksfarmersmarket@gmail.com
END:VEVENT
BEGIN:VEVENT
DTSTART;TZID=America/Los_Angeles:20251022T180000
DTEND;TZID=America/Los_Angeles:20251022T210000
DTSTAMP:20260423T214033
CREATED:20250729T181158Z
LAST-MODIFIED:20250729T181158Z
UID:10005801-1761156000-1761166800@www.crestlinechamber.org
SUMMARY:Karaoke Night at Bizzyland 🌺 🌸 🌹 🎙️
DESCRIPTION:Join us for a fun-filled evening of music and community as we invite you to sing the night away to your favorite karaoke songs! \n🎉 FREE and Open to the Public\nWine and spirits will be available for purchase. Bring your friends\, grab a drink\, and take the stage—whether you’re a seasoned singer or just in it for the fun!
URL:https://www.crestlinechamber.org/event/karaoke-night-at-bizzyland-%f0%9f%8c%ba-%f0%9f%8c%b8-%f0%9f%8c%b9-%f0%9f%8e%99%ef%b8%8f/2025-10-22/
LOCATION:Bizzyland\, 23875 Lake Dr\, Crestline\, 92325\, United States
CATEGORIES:Community Event,Family Friendly,Live Music
ATTACH;FMTTYPE=image/jpeg:https://www.crestlinechamber.org/wp-content/uploads/2025/07/Asset-1.jpg
GEO:34.2430174;-117.2823765
X-APPLE-STRUCTURED-LOCATION;VALUE=URI;X-ADDRESS=Bizzyland 23875 Lake Dr Crestline 92325 United States;X-APPLE-RADIUS=500;X-TITLE=23875 Lake Dr:geo:-117.2823765,34.2430174
END:VEVENT
BEGIN:VEVENT
DTSTART;TZID=America/Los_Angeles:20251018T190000
DTEND;TZID=America/Los_Angeles:20251018T210000
DTSTAMP:20260423T214033
CREATED:20250619T190031Z
LAST-MODIFIED:20250619T190031Z
UID:10005500-1760814000-1760821200@www.crestlinechamber.org
SUMMARY:2025 Saturday Skate Night  🛼
DESCRIPTION:Different themes each week!
URL:https://www.crestlinechamber.org/event/2025-saturday-skate-night-%f0%9f%9b%bc/2025-10-18/
LOCATION:SkyPark Santa’s Village\, 28950 California 18\, Skyforest\, CA\, 92385\, United States
CATEGORIES:Community Event,Family Friendly,Live Music
GEO:34.2324277;-117.1686266
X-APPLE-STRUCTURED-LOCATION;VALUE=URI;X-ADDRESS=SkyPark Santa’s Village 28950 California 18 Skyforest CA 92385 United States;X-APPLE-RADIUS=500;X-TITLE=28950 California 18:geo:-117.1686266,34.2324277
END:VEVENT
BEGIN:VEVENT
DTSTART;TZID=America/Los_Angeles:20251018T160000
DTEND;TZID=America/Los_Angeles:20251018T190000
DTSTAMP:20260423T214033
CREATED:20250813T174932Z
LAST-MODIFIED:20250813T175034Z
UID:10006928-1760803200-1760814000@www.crestlinechamber.org
SUMMARY:Brawling Brews 🤼 🥊 🍻
DESCRIPTION:
URL:https://www.crestlinechamber.org/event/brawling-brews-%f0%9f%a4%bc-%f0%9f%a5%8a-%f0%9f%8d%bb/2025-10-18/
LOCATION:The Tudor House\, Lake Arrowhead\, 850 Arrowhead Villa Road\, Lake Arrowhead\, 92352\, United States
CATEGORIES:Community Event,Family Friendly,Live Music
ATTACH;FMTTYPE=image/jpeg:https://www.crestlinechamber.org/wp-content/uploads/2025/08/Open-brawl_poster_Aug23Oct18_forprint.jpeg
END:VEVENT
BEGIN:VEVENT
DTSTART;TZID=America/Los_Angeles:20251017T190000
DTEND;TZID=America/Los_Angeles:20251017T230000
DTSTAMP:20260423T214033
CREATED:20250731T204051Z
LAST-MODIFIED:20250731T204220Z
UID:10006346-1760727600-1760742000@www.crestlinechamber.org
SUMMARY:Friday Night Karaoke! 🎤 🎼 🎸
DESCRIPTION:
URL:https://www.crestlinechamber.org/event/friday-night-karaoke-%f0%9f%8e%a4-%f0%9f%8e%bc-%f0%9f%8e%b8/2025-10-17/
LOCATION:The Tudor House\, Lake Arrowhead\, 850 Arrowhead Villa Road\, Lake Arrowhead\, 92352\, United States
CATEGORIES:Community Event,Family Friendly,Live Music
ATTACH;FMTTYPE=image/jpeg:https://www.crestlinechamber.org/wp-content/uploads/2025/07/THKaraokeWebsiteImage-1640-x-924-px.jpg
END:VEVENT
BEGIN:VEVENT
DTSTART;TZID=America/Los_Angeles:20251017T190000
DTEND;TZID=America/Los_Angeles:20251017T210000
DTSTAMP:20260423T214033
CREATED:20251120T171819Z
LAST-MODIFIED:20251120T172113Z
UID:10007345-1760727600-1760734800@www.crestlinechamber.org
SUMMARY:Tunes in the Trees 🌲 🎶
DESCRIPTION:Make sure to go to their website to see which artists and bands are playing that week!
URL:https://www.crestlinechamber.org/event/tunes-in-the-trees-%f0%9f%8c%b2-%f0%9f%8e%b6-2/2025-10-17/
LOCATION:SkyPark Santa’s Village\, 28950 California 18\, Skyforest\, CA\, 92385\, United States
CATEGORIES:Community Event,Family Friendly,Live Music
GEO:34.2324277;-117.1686266
X-APPLE-STRUCTURED-LOCATION;VALUE=URI;X-ADDRESS=SkyPark Santa’s Village 28950 California 18 Skyforest CA 92385 United States;X-APPLE-RADIUS=500;X-TITLE=28950 California 18:geo:-117.1686266,34.2324277
END:VEVENT
BEGIN:VEVENT
DTSTART;TZID=America/Los_Angeles:20251017T190000
DTEND;TZID=America/Los_Angeles:20251017T210000
DTSTAMP:20260423T214033
CREATED:20250619T190412Z
LAST-MODIFIED:20250812T223603Z
UID:10006611-1760727600-1760734800@www.crestlinechamber.org
SUMMARY:Tunes in the Trees 🌲 🎶
DESCRIPTION:Make sure to go to their website to see which artists and bands are playing that week!
URL:https://www.crestlinechamber.org/event/tunes-in-the-trees-%f0%9f%8c%b2-%f0%9f%8e%b6/2025-10-17/
LOCATION:SkyPark Santa’s Village\, 28950 California 18\, Skyforest\, CA\, 92385\, United States
CATEGORIES:Community Event,Family Friendly,Live Music
GEO:34.2324277;-117.1686266
X-APPLE-STRUCTURED-LOCATION;VALUE=URI;X-ADDRESS=SkyPark Santa’s Village 28950 California 18 Skyforest CA 92385 United States;X-APPLE-RADIUS=500;X-TITLE=28950 California 18:geo:-117.1686266,34.2324277
END:VEVENT
BEGIN:VEVENT
DTSTART;TZID=America/Los_Angeles:20251016T140000
DTEND;TZID=America/Los_Angeles:20251016T183000
DTSTAMP:20260423T214033
CREATED:20250813T172934Z
LAST-MODIFIED:20250813T173846Z
UID:10006673-1760623200-1760639400@www.crestlinechamber.org
SUMMARY:Twin Peaks Farmers Market 🍏🍊🍋🍉🍓🥦🥒🫑🧄🍞🥖
DESCRIPTION:
URL:https://www.crestlinechamber.org/event/twin-peaks-farmers-market-%f0%9f%8d%8f%f0%9f%8d%8a%f0%9f%8d%8b%f0%9f%8d%89%f0%9f%8d%93%f0%9f%a5%a6%f0%9f%a5%92%f0%9f%ab%91%f0%9f%a7%84%f0%9f%8d%9e%f0%9f%a5%96/2025-10-16/
LOCATION:26012 HWY 189\, Twin Peaks
CATEGORIES:Community Event,Family Friendly,Live Music
ATTACH;FMTTYPE=image/jpeg:https://www.crestlinechamber.org/wp-content/uploads/2025/08/img20250812_15422707-scaled.jpg
ORGANIZER;CN="Twin Peaks Farmers Market":MAILTO:twinpeaksfarmersmarket@gmail.com
END:VEVENT
BEGIN:VEVENT
DTSTART;TZID=America/Los_Angeles:20251015T180000
DTEND;TZID=America/Los_Angeles:20251015T210000
DTSTAMP:20260423T214033
CREATED:20250729T181158Z
LAST-MODIFIED:20250729T181158Z
UID:10005800-1760551200-1760562000@www.crestlinechamber.org
SUMMARY:Karaoke Night at Bizzyland 🌺 🌸 🌹 🎙️
DESCRIPTION:Join us for a fun-filled evening of music and community as we invite you to sing the night away to your favorite karaoke songs! \n🎉 FREE and Open to the Public\nWine and spirits will be available for purchase. Bring your friends\, grab a drink\, and take the stage—whether you’re a seasoned singer or just in it for the fun!
URL:https://www.crestlinechamber.org/event/karaoke-night-at-bizzyland-%f0%9f%8c%ba-%f0%9f%8c%b8-%f0%9f%8c%b9-%f0%9f%8e%99%ef%b8%8f/2025-10-15/
LOCATION:Bizzyland\, 23875 Lake Dr\, Crestline\, 92325\, United States
CATEGORIES:Community Event,Family Friendly,Live Music
ATTACH;FMTTYPE=image/jpeg:https://www.crestlinechamber.org/wp-content/uploads/2025/07/Asset-1.jpg
GEO:34.2430174;-117.2823765
X-APPLE-STRUCTURED-LOCATION;VALUE=URI;X-ADDRESS=Bizzyland 23875 Lake Dr Crestline 92325 United States;X-APPLE-RADIUS=500;X-TITLE=23875 Lake Dr:geo:-117.2823765,34.2430174
END:VEVENT
BEGIN:VEVENT
DTSTART;TZID=America/Los_Angeles:20251011T190000
DTEND;TZID=America/Los_Angeles:20251011T210000
DTSTAMP:20260423T214033
CREATED:20250619T190031Z
LAST-MODIFIED:20250619T190031Z
UID:10005499-1760209200-1760216400@www.crestlinechamber.org
SUMMARY:2025 Saturday Skate Night  🛼
DESCRIPTION:Different themes each week!
URL:https://www.crestlinechamber.org/event/2025-saturday-skate-night-%f0%9f%9b%bc/2025-10-11/
LOCATION:SkyPark Santa’s Village\, 28950 California 18\, Skyforest\, CA\, 92385\, United States
CATEGORIES:Community Event,Family Friendly,Live Music
GEO:34.2324277;-117.1686266
X-APPLE-STRUCTURED-LOCATION;VALUE=URI;X-ADDRESS=SkyPark Santa’s Village 28950 California 18 Skyforest CA 92385 United States;X-APPLE-RADIUS=500;X-TITLE=28950 California 18:geo:-117.1686266,34.2324277
END:VEVENT
BEGIN:VEVENT
DTSTART;TZID=America/Los_Angeles:20251010T190000
DTEND;TZID=America/Los_Angeles:20251010T230000
DTSTAMP:20260423T214033
CREATED:20250731T204051Z
LAST-MODIFIED:20250731T204220Z
UID:10006345-1760122800-1760137200@www.crestlinechamber.org
SUMMARY:Friday Night Karaoke! 🎤 🎼 🎸
DESCRIPTION:
URL:https://www.crestlinechamber.org/event/friday-night-karaoke-%f0%9f%8e%a4-%f0%9f%8e%bc-%f0%9f%8e%b8/2025-10-10/
LOCATION:The Tudor House\, Lake Arrowhead\, 850 Arrowhead Villa Road\, Lake Arrowhead\, 92352\, United States
CATEGORIES:Community Event,Family Friendly,Live Music
ATTACH;FMTTYPE=image/jpeg:https://www.crestlinechamber.org/wp-content/uploads/2025/07/THKaraokeWebsiteImage-1640-x-924-px.jpg
END:VEVENT
BEGIN:VEVENT
DTSTART;TZID=America/Los_Angeles:20251010T190000
DTEND;TZID=America/Los_Angeles:20251010T210000
DTSTAMP:20260423T214033
CREATED:20251120T171819Z
LAST-MODIFIED:20251120T172113Z
UID:10007344-1760122800-1760130000@www.crestlinechamber.org
SUMMARY:Tunes in the Trees 🌲 🎶
DESCRIPTION:Make sure to go to their website to see which artists and bands are playing that week!
URL:https://www.crestlinechamber.org/event/tunes-in-the-trees-%f0%9f%8c%b2-%f0%9f%8e%b6-2/2025-10-10/
LOCATION:SkyPark Santa’s Village\, 28950 California 18\, Skyforest\, CA\, 92385\, United States
CATEGORIES:Community Event,Family Friendly,Live Music
GEO:34.2324277;-117.1686266
X-APPLE-STRUCTURED-LOCATION;VALUE=URI;X-ADDRESS=SkyPark Santa’s Village 28950 California 18 Skyforest CA 92385 United States;X-APPLE-RADIUS=500;X-TITLE=28950 California 18:geo:-117.1686266,34.2324277
END:VEVENT
BEGIN:VEVENT
DTSTART;TZID=America/Los_Angeles:20251010T190000
DTEND;TZID=America/Los_Angeles:20251010T210000
DTSTAMP:20260423T214033
CREATED:20250619T190412Z
LAST-MODIFIED:20250812T223603Z
UID:10006610-1760122800-1760130000@www.crestlinechamber.org
SUMMARY:Tunes in the Trees 🌲 🎶
DESCRIPTION:Make sure to go to their website to see which artists and bands are playing that week!
URL:https://www.crestlinechamber.org/event/tunes-in-the-trees-%f0%9f%8c%b2-%f0%9f%8e%b6/2025-10-10/
LOCATION:SkyPark Santa’s Village\, 28950 California 18\, Skyforest\, CA\, 92385\, United States
CATEGORIES:Community Event,Family Friendly,Live Music
GEO:34.2324277;-117.1686266
X-APPLE-STRUCTURED-LOCATION;VALUE=URI;X-ADDRESS=SkyPark Santa’s Village 28950 California 18 Skyforest CA 92385 United States;X-APPLE-RADIUS=500;X-TITLE=28950 California 18:geo:-117.1686266,34.2324277
END:VEVENT
END:VCALENDAR