BEGIN:VCALENDAR
VERSION:2.0
PRODID:-//Crestline Chamber of Commerce - ECPv6.15.20//NONSGML v1.0//EN
CALSCALE:GREGORIAN
METHOD:PUBLISH
X-WR-CALNAME:Crestline Chamber of Commerce
X-ORIGINAL-URL:https://www.crestlinechamber.org
X-WR-CALDESC:Events for Crestline Chamber of Commerce
REFRESH-INTERVAL;VALUE=DURATION:PT1H
X-Robots-Tag:noindex
X-PUBLISHED-TTL:PT1H
BEGIN:VTIMEZONE
TZID:America/Los_Angeles
BEGIN:DAYLIGHT
TZOFFSETFROM:-0800
TZOFFSETTO:-0700
TZNAME:PDT
DTSTART:20210314T100000
END:DAYLIGHT
BEGIN:STANDARD
TZOFFSETFROM:-0700
TZOFFSETTO:-0800
TZNAME:PST
DTSTART:20211107T090000
END:STANDARD
BEGIN:DAYLIGHT
TZOFFSETFROM:-0800
TZOFFSETTO:-0700
TZNAME:PDT
DTSTART:20220313T100000
END:DAYLIGHT
BEGIN:STANDARD
TZOFFSETFROM:-0700
TZOFFSETTO:-0800
TZNAME:PST
DTSTART:20221106T090000
END:STANDARD
BEGIN:DAYLIGHT
TZOFFSETFROM:-0800
TZOFFSETTO:-0700
TZNAME:PDT
DTSTART:20230312T100000
END:DAYLIGHT
BEGIN:STANDARD
TZOFFSETFROM:-0700
TZOFFSETTO:-0800
TZNAME:PST
DTSTART:20231105T090000
END:STANDARD
BEGIN:DAYLIGHT
TZOFFSETFROM:-0800
TZOFFSETTO:-0700
TZNAME:PDT
DTSTART:20240310T100000
END:DAYLIGHT
BEGIN:STANDARD
TZOFFSETFROM:-0700
TZOFFSETTO:-0800
TZNAME:PST
DTSTART:20241103T090000
END:STANDARD
BEGIN:DAYLIGHT
TZOFFSETFROM:-0800
TZOFFSETTO:-0700
TZNAME:PDT
DTSTART:20250309T100000
END:DAYLIGHT
BEGIN:STANDARD
TZOFFSETFROM:-0700
TZOFFSETTO:-0800
TZNAME:PST
DTSTART:20251102T090000
END:STANDARD
END:VTIMEZONE
BEGIN:VEVENT
DTSTART;TZID=America/Los_Angeles:20240116T173000
DTEND;TZID=America/Los_Angeles:20240116T190000
DTSTAMP:20260423T184403
CREATED:20220124T193247Z
LAST-MODIFIED:20220130T032248Z
UID:10000095-1705426200-1705431600@www.crestlinechamber.org
SUMMARY:Chamber Board Meeting
DESCRIPTION:All are welcome to attend our monthly board meetings the third Tuesday of every month beginning at 5:30PM at the chamber office.
URL:https://www.crestlinechamber.org/event/chamber-board-meeting/2024-01-16/
LOCATION:Crestline Chamber Office\, 24385 Lake Dr\, Crestline\, CA\, 92325\, United States
CATEGORIES:Monthly Chamber Meetings
GEO:34.2437662;-117.2707116
X-APPLE-STRUCTURED-LOCATION;VALUE=URI;X-ADDRESS=Crestline Chamber Office 24385 Lake Dr Crestline CA 92325 United States;X-APPLE-RADIUS=500;X-TITLE=24385 Lake Dr:geo:-117.2707116,34.2437662
END:VEVENT
BEGIN:VEVENT
DTSTART;TZID=America/Los_Angeles:20231219T173000
DTEND;TZID=America/Los_Angeles:20231219T190000
DTSTAMP:20260423T184403
CREATED:20220124T193247Z
LAST-MODIFIED:20220130T032248Z
UID:10000094-1703007000-1703012400@www.crestlinechamber.org
SUMMARY:Chamber Board Meeting
DESCRIPTION:All are welcome to attend our monthly board meetings the third Tuesday of every month beginning at 5:30PM at the chamber office.
URL:https://www.crestlinechamber.org/event/chamber-board-meeting/2023-12-19/
LOCATION:Crestline Chamber Office\, 24385 Lake Dr\, Crestline\, CA\, 92325\, United States
CATEGORIES:Monthly Chamber Meetings
GEO:34.2437662;-117.2707116
X-APPLE-STRUCTURED-LOCATION;VALUE=URI;X-ADDRESS=Crestline Chamber Office 24385 Lake Dr Crestline CA 92325 United States;X-APPLE-RADIUS=500;X-TITLE=24385 Lake Dr:geo:-117.2707116,34.2437662
END:VEVENT
BEGIN:VEVENT
DTSTART;TZID=America/Los_Angeles:20231121T173000
DTEND;TZID=America/Los_Angeles:20231121T190000
DTSTAMP:20260423T184403
CREATED:20231120T231614Z
LAST-MODIFIED:20231120T231616Z
UID:10000093-1700587800-1700593200@www.crestlinechamber.org
SUMMARY:Chamber Board Meeting - Postponed until 12/19/23
DESCRIPTION:All are welcome to attend our monthly board meetings the third Tuesday of every month beginning at 5:30PM at the chamber office.
URL:https://www.crestlinechamber.org/event/chamber-board-meeting-2/
LOCATION:Crestline Chamber Office\, 24385 Lake Dr\, Crestline\, CA\, 92325\, United States
CATEGORIES:Monthly Chamber Meetings
GEO:34.2437662;-117.2707116
X-APPLE-STRUCTURED-LOCATION;VALUE=URI;X-ADDRESS=Crestline Chamber Office 24385 Lake Dr Crestline CA 92325 United States;X-APPLE-RADIUS=500;X-TITLE=24385 Lake Dr:geo:-117.2707116,34.2437662
END:VEVENT
BEGIN:VEVENT
DTSTART;TZID=America/Los_Angeles:20231017T173000
DTEND;TZID=America/Los_Angeles:20231017T190000
DTSTAMP:20260423T184403
CREATED:20220124T193247Z
LAST-MODIFIED:20220130T032248Z
UID:10000092-1697563800-1697569200@www.crestlinechamber.org
SUMMARY:Chamber Board Meeting
DESCRIPTION:All are welcome to attend our monthly board meetings the third Tuesday of every month beginning at 5:30PM at the chamber office.
URL:https://www.crestlinechamber.org/event/chamber-board-meeting/2023-10-17/
LOCATION:Crestline Chamber Office\, 24385 Lake Dr\, Crestline\, CA\, 92325\, United States
CATEGORIES:Monthly Chamber Meetings
GEO:34.2437662;-117.2707116
X-APPLE-STRUCTURED-LOCATION;VALUE=URI;X-ADDRESS=Crestline Chamber Office 24385 Lake Dr Crestline CA 92325 United States;X-APPLE-RADIUS=500;X-TITLE=24385 Lake Dr:geo:-117.2707116,34.2437662
END:VEVENT
BEGIN:VEVENT
DTSTART;TZID=America/Los_Angeles:20230919T173000
DTEND;TZID=America/Los_Angeles:20230919T190000
DTSTAMP:20260423T184403
CREATED:20220124T193247Z
LAST-MODIFIED:20220130T032248Z
UID:10000091-1695144600-1695150000@www.crestlinechamber.org
SUMMARY:Chamber Board Meeting
DESCRIPTION:All are welcome to attend our monthly board meetings the third Tuesday of every month beginning at 5:30PM at the chamber office.
URL:https://www.crestlinechamber.org/event/chamber-board-meeting/2023-09-19/
LOCATION:Crestline Chamber Office\, 24385 Lake Dr\, Crestline\, CA\, 92325\, United States
CATEGORIES:Monthly Chamber Meetings
GEO:34.2437662;-117.2707116
X-APPLE-STRUCTURED-LOCATION;VALUE=URI;X-ADDRESS=Crestline Chamber Office 24385 Lake Dr Crestline CA 92325 United States;X-APPLE-RADIUS=500;X-TITLE=24385 Lake Dr:geo:-117.2707116,34.2437662
END:VEVENT
BEGIN:VEVENT
DTSTART;TZID=America/Los_Angeles:20230815T173000
DTEND;TZID=America/Los_Angeles:20230815T190000
DTSTAMP:20260423T184403
CREATED:20220124T193247Z
LAST-MODIFIED:20220130T032248Z
UID:10000090-1692120600-1692126000@www.crestlinechamber.org
SUMMARY:Chamber Board Meeting
DESCRIPTION:All are welcome to attend our monthly board meetings the third Tuesday of every month beginning at 5:30PM at the chamber office.
URL:https://www.crestlinechamber.org/event/chamber-board-meeting/2023-08-15/
LOCATION:Crestline Chamber Office\, 24385 Lake Dr\, Crestline\, CA\, 92325\, United States
CATEGORIES:Monthly Chamber Meetings
GEO:34.2437662;-117.2707116
X-APPLE-STRUCTURED-LOCATION;VALUE=URI;X-ADDRESS=Crestline Chamber Office 24385 Lake Dr Crestline CA 92325 United States;X-APPLE-RADIUS=500;X-TITLE=24385 Lake Dr:geo:-117.2707116,34.2437662
END:VEVENT
BEGIN:VEVENT
DTSTART;TZID=America/Los_Angeles:20230718T173000
DTEND;TZID=America/Los_Angeles:20230718T190000
DTSTAMP:20260423T184403
CREATED:20220124T193247Z
LAST-MODIFIED:20220130T032248Z
UID:10000089-1689701400-1689706800@www.crestlinechamber.org
SUMMARY:Chamber Board Meeting
DESCRIPTION:All are welcome to attend our monthly board meetings the third Tuesday of every month beginning at 5:30PM at the chamber office.
URL:https://www.crestlinechamber.org/event/chamber-board-meeting/2023-07-18/
LOCATION:Crestline Chamber Office\, 24385 Lake Dr\, Crestline\, CA\, 92325\, United States
CATEGORIES:Monthly Chamber Meetings
GEO:34.2437662;-117.2707116
X-APPLE-STRUCTURED-LOCATION;VALUE=URI;X-ADDRESS=Crestline Chamber Office 24385 Lake Dr Crestline CA 92325 United States;X-APPLE-RADIUS=500;X-TITLE=24385 Lake Dr:geo:-117.2707116,34.2437662
END:VEVENT
BEGIN:VEVENT
DTSTART;TZID=America/Los_Angeles:20230620T173000
DTEND;TZID=America/Los_Angeles:20230620T190000
DTSTAMP:20260423T184403
CREATED:20220124T193247Z
LAST-MODIFIED:20220130T032248Z
UID:10000088-1687282200-1687287600@www.crestlinechamber.org
SUMMARY:Chamber Board Meeting
DESCRIPTION:All are welcome to attend our monthly board meetings the third Tuesday of every month beginning at 5:30PM at the chamber office.
URL:https://www.crestlinechamber.org/event/chamber-board-meeting/2023-06-20/
LOCATION:Crestline Chamber Office\, 24385 Lake Dr\, Crestline\, CA\, 92325\, United States
CATEGORIES:Monthly Chamber Meetings
GEO:34.2437662;-117.2707116
X-APPLE-STRUCTURED-LOCATION;VALUE=URI;X-ADDRESS=Crestline Chamber Office 24385 Lake Dr Crestline CA 92325 United States;X-APPLE-RADIUS=500;X-TITLE=24385 Lake Dr:geo:-117.2707116,34.2437662
END:VEVENT
BEGIN:VEVENT
DTSTART;TZID=America/Los_Angeles:20230516T173000
DTEND;TZID=America/Los_Angeles:20230516T190000
DTSTAMP:20260423T184403
CREATED:20220124T193247Z
LAST-MODIFIED:20220130T032248Z
UID:10000087-1684258200-1684263600@www.crestlinechamber.org
SUMMARY:Chamber Board Meeting
DESCRIPTION:All are welcome to attend our monthly board meetings the third Tuesday of every month beginning at 5:30PM at the chamber office.
URL:https://www.crestlinechamber.org/event/chamber-board-meeting/2023-05-16/
LOCATION:Crestline Chamber Office\, 24385 Lake Dr\, Crestline\, CA\, 92325\, United States
CATEGORIES:Monthly Chamber Meetings
GEO:34.2437662;-117.2707116
X-APPLE-STRUCTURED-LOCATION;VALUE=URI;X-ADDRESS=Crestline Chamber Office 24385 Lake Dr Crestline CA 92325 United States;X-APPLE-RADIUS=500;X-TITLE=24385 Lake Dr:geo:-117.2707116,34.2437662
END:VEVENT
BEGIN:VEVENT
DTSTART;TZID=America/Los_Angeles:20230418T173000
DTEND;TZID=America/Los_Angeles:20230418T190000
DTSTAMP:20260423T184403
CREATED:20220124T193247Z
LAST-MODIFIED:20220130T032248Z
UID:10000086-1681839000-1681844400@www.crestlinechamber.org
SUMMARY:Chamber Board Meeting
DESCRIPTION:All are welcome to attend our monthly board meetings the third Tuesday of every month beginning at 5:30PM at the chamber office.
URL:https://www.crestlinechamber.org/event/chamber-board-meeting/2023-04-18/
LOCATION:Crestline Chamber Office\, 24385 Lake Dr\, Crestline\, CA\, 92325\, United States
CATEGORIES:Monthly Chamber Meetings
GEO:34.2437662;-117.2707116
X-APPLE-STRUCTURED-LOCATION;VALUE=URI;X-ADDRESS=Crestline Chamber Office 24385 Lake Dr Crestline CA 92325 United States;X-APPLE-RADIUS=500;X-TITLE=24385 Lake Dr:geo:-117.2707116,34.2437662
END:VEVENT
BEGIN:VEVENT
DTSTART;TZID=America/Los_Angeles:20230321T173000
DTEND;TZID=America/Los_Angeles:20230321T190000
DTSTAMP:20260423T184403
CREATED:20220124T193247Z
LAST-MODIFIED:20220130T032248Z
UID:10000085-1679419800-1679425200@www.crestlinechamber.org
SUMMARY:Chamber Board Meeting
DESCRIPTION:All are welcome to attend our monthly board meetings the third Tuesday of every month beginning at 5:30PM at the chamber office.
URL:https://www.crestlinechamber.org/event/chamber-board-meeting/2023-03-21/
LOCATION:Crestline Chamber Office\, 24385 Lake Dr\, Crestline\, CA\, 92325\, United States
CATEGORIES:Monthly Chamber Meetings
GEO:34.2437662;-117.2707116
X-APPLE-STRUCTURED-LOCATION;VALUE=URI;X-ADDRESS=Crestline Chamber Office 24385 Lake Dr Crestline CA 92325 United States;X-APPLE-RADIUS=500;X-TITLE=24385 Lake Dr:geo:-117.2707116,34.2437662
END:VEVENT
BEGIN:VEVENT
DTSTART;TZID=America/Los_Angeles:20230221T173000
DTEND;TZID=America/Los_Angeles:20230221T190000
DTSTAMP:20260423T184403
CREATED:20220124T193247Z
LAST-MODIFIED:20220130T032248Z
UID:10000084-1677000600-1677006000@www.crestlinechamber.org
SUMMARY:Chamber Board Meeting
DESCRIPTION:All are welcome to attend our monthly board meetings the third Tuesday of every month beginning at 5:30PM at the chamber office.
URL:https://www.crestlinechamber.org/event/chamber-board-meeting/2023-02-21/
LOCATION:Crestline Chamber Office\, 24385 Lake Dr\, Crestline\, CA\, 92325\, United States
CATEGORIES:Monthly Chamber Meetings
GEO:34.2437662;-117.2707116
X-APPLE-STRUCTURED-LOCATION;VALUE=URI;X-ADDRESS=Crestline Chamber Office 24385 Lake Dr Crestline CA 92325 United States;X-APPLE-RADIUS=500;X-TITLE=24385 Lake Dr:geo:-117.2707116,34.2437662
END:VEVENT
BEGIN:VEVENT
DTSTART;TZID=America/Los_Angeles:20230117T173000
DTEND;TZID=America/Los_Angeles:20230117T190000
DTSTAMP:20260423T184403
CREATED:20220124T193247Z
LAST-MODIFIED:20220130T032248Z
UID:10000083-1673976600-1673982000@www.crestlinechamber.org
SUMMARY:Chamber Board Meeting
DESCRIPTION:All are welcome to attend our monthly board meetings the third Tuesday of every month beginning at 5:30PM at the chamber office.
URL:https://www.crestlinechamber.org/event/chamber-board-meeting/2023-01-17/
LOCATION:Crestline Chamber Office\, 24385 Lake Dr\, Crestline\, CA\, 92325\, United States
CATEGORIES:Monthly Chamber Meetings
GEO:34.2437662;-117.2707116
X-APPLE-STRUCTURED-LOCATION;VALUE=URI;X-ADDRESS=Crestline Chamber Office 24385 Lake Dr Crestline CA 92325 United States;X-APPLE-RADIUS=500;X-TITLE=24385 Lake Dr:geo:-117.2707116,34.2437662
END:VEVENT
BEGIN:VEVENT
DTSTART;TZID=America/Los_Angeles:20221115T173000
DTEND;TZID=America/Los_Angeles:20221115T190000
DTSTAMP:20260423T184403
CREATED:20220124T193247Z
LAST-MODIFIED:20220130T032248Z
UID:10000081-1668533400-1668538800@www.crestlinechamber.org
SUMMARY:Chamber Board Meeting
DESCRIPTION:All are welcome to attend our monthly board meetings the third Tuesday of every month beginning at 5:30PM at the chamber office.
URL:https://www.crestlinechamber.org/event/chamber-board-meeting/2022-11-15/
LOCATION:Crestline Chamber Office\, 24385 Lake Dr\, Crestline\, CA\, 92325\, United States
CATEGORIES:Monthly Chamber Meetings
GEO:34.2437662;-117.2707116
X-APPLE-STRUCTURED-LOCATION;VALUE=URI;X-ADDRESS=Crestline Chamber Office 24385 Lake Dr Crestline CA 92325 United States;X-APPLE-RADIUS=500;X-TITLE=24385 Lake Dr:geo:-117.2707116,34.2437662
END:VEVENT
BEGIN:VEVENT
DTSTART;TZID=America/Los_Angeles:20221018T173000
DTEND;TZID=America/Los_Angeles:20221018T190000
DTSTAMP:20260423T184403
CREATED:20220124T193247Z
LAST-MODIFIED:20220130T032248Z
UID:10000080-1666114200-1666119600@www.crestlinechamber.org
SUMMARY:Chamber Board Meeting
DESCRIPTION:All are welcome to attend our monthly board meetings the third Tuesday of every month beginning at 5:30PM at the chamber office.
URL:https://www.crestlinechamber.org/event/chamber-board-meeting/2022-10-18/
LOCATION:Crestline Chamber Office\, 24385 Lake Dr\, Crestline\, CA\, 92325\, United States
CATEGORIES:Monthly Chamber Meetings
GEO:34.2437662;-117.2707116
X-APPLE-STRUCTURED-LOCATION;VALUE=URI;X-ADDRESS=Crestline Chamber Office 24385 Lake Dr Crestline CA 92325 United States;X-APPLE-RADIUS=500;X-TITLE=24385 Lake Dr:geo:-117.2707116,34.2437662
END:VEVENT
BEGIN:VEVENT
DTSTART;TZID=America/Los_Angeles:20220920T173000
DTEND;TZID=America/Los_Angeles:20220920T190000
DTSTAMP:20260423T184403
CREATED:20220124T193247Z
LAST-MODIFIED:20220130T032248Z
UID:10000079-1663695000-1663700400@www.crestlinechamber.org
SUMMARY:Chamber Board Meeting
DESCRIPTION:All are welcome to attend our monthly board meetings the third Tuesday of every month beginning at 5:30PM at the chamber office.
URL:https://www.crestlinechamber.org/event/chamber-board-meeting/2022-09-20/
LOCATION:Crestline Chamber Office\, 24385 Lake Dr\, Crestline\, CA\, 92325\, United States
CATEGORIES:Monthly Chamber Meetings
GEO:34.2437662;-117.2707116
X-APPLE-STRUCTURED-LOCATION;VALUE=URI;X-ADDRESS=Crestline Chamber Office 24385 Lake Dr Crestline CA 92325 United States;X-APPLE-RADIUS=500;X-TITLE=24385 Lake Dr:geo:-117.2707116,34.2437662
END:VEVENT
BEGIN:VEVENT
DTSTART;TZID=America/Los_Angeles:20220816T173000
DTEND;TZID=America/Los_Angeles:20220816T190000
DTSTAMP:20260423T184403
CREATED:20220124T193247Z
LAST-MODIFIED:20220130T032248Z
UID:10000078-1660671000-1660676400@www.crestlinechamber.org
SUMMARY:Chamber Board Meeting
DESCRIPTION:All are welcome to attend our monthly board meetings the third Tuesday of every month beginning at 5:30PM at the chamber office.
URL:https://www.crestlinechamber.org/event/chamber-board-meeting/2022-08-16/
LOCATION:Crestline Chamber Office\, 24385 Lake Dr\, Crestline\, CA\, 92325\, United States
CATEGORIES:Monthly Chamber Meetings
GEO:34.2437662;-117.2707116
X-APPLE-STRUCTURED-LOCATION;VALUE=URI;X-ADDRESS=Crestline Chamber Office 24385 Lake Dr Crestline CA 92325 United States;X-APPLE-RADIUS=500;X-TITLE=24385 Lake Dr:geo:-117.2707116,34.2437662
END:VEVENT
BEGIN:VEVENT
DTSTART;TZID=America/Los_Angeles:20220719T173000
DTEND;TZID=America/Los_Angeles:20220719T190000
DTSTAMP:20260423T184403
CREATED:20220124T193247Z
LAST-MODIFIED:20220130T032248Z
UID:10000077-1658251800-1658257200@www.crestlinechamber.org
SUMMARY:Chamber Board Meeting
DESCRIPTION:All are welcome to attend our monthly board meetings the third Tuesday of every month beginning at 5:30PM at the chamber office.
URL:https://www.crestlinechamber.org/event/chamber-board-meeting/2022-07-19/
LOCATION:Crestline Chamber Office\, 24385 Lake Dr\, Crestline\, CA\, 92325\, United States
CATEGORIES:Monthly Chamber Meetings
GEO:34.2437662;-117.2707116
X-APPLE-STRUCTURED-LOCATION;VALUE=URI;X-ADDRESS=Crestline Chamber Office 24385 Lake Dr Crestline CA 92325 United States;X-APPLE-RADIUS=500;X-TITLE=24385 Lake Dr:geo:-117.2707116,34.2437662
END:VEVENT
BEGIN:VEVENT
DTSTART;TZID=America/Los_Angeles:20220621T173000
DTEND;TZID=America/Los_Angeles:20220621T190000
DTSTAMP:20260423T184403
CREATED:20220124T193247Z
LAST-MODIFIED:20220130T032248Z
UID:10000076-1655832600-1655838000@www.crestlinechamber.org
SUMMARY:Chamber Board Meeting
DESCRIPTION:All are welcome to attend our monthly board meetings the third Tuesday of every month beginning at 5:30PM at the chamber office.
URL:https://www.crestlinechamber.org/event/chamber-board-meeting/2022-06-21/
LOCATION:Crestline Chamber Office\, 24385 Lake Dr\, Crestline\, CA\, 92325\, United States
CATEGORIES:Monthly Chamber Meetings
GEO:34.2437662;-117.2707116
X-APPLE-STRUCTURED-LOCATION;VALUE=URI;X-ADDRESS=Crestline Chamber Office 24385 Lake Dr Crestline CA 92325 United States;X-APPLE-RADIUS=500;X-TITLE=24385 Lake Dr:geo:-117.2707116,34.2437662
END:VEVENT
BEGIN:VEVENT
DTSTART;TZID=America/Los_Angeles:20220517T173000
DTEND;TZID=America/Los_Angeles:20220517T190000
DTSTAMP:20260423T184403
CREATED:20220124T193247Z
LAST-MODIFIED:20220130T032248Z
UID:10000075-1652808600-1652814000@www.crestlinechamber.org
SUMMARY:Chamber Board Meeting
DESCRIPTION:All are welcome to attend our monthly board meetings the third Tuesday of every month beginning at 5:30PM at the chamber office.
URL:https://www.crestlinechamber.org/event/chamber-board-meeting/2022-05-17/
LOCATION:Crestline Chamber Office\, 24385 Lake Dr\, Crestline\, CA\, 92325\, United States
CATEGORIES:Monthly Chamber Meetings
GEO:34.2437662;-117.2707116
X-APPLE-STRUCTURED-LOCATION;VALUE=URI;X-ADDRESS=Crestline Chamber Office 24385 Lake Dr Crestline CA 92325 United States;X-APPLE-RADIUS=500;X-TITLE=24385 Lake Dr:geo:-117.2707116,34.2437662
END:VEVENT
BEGIN:VEVENT
DTSTART;TZID=America/Los_Angeles:20220419T173000
DTEND;TZID=America/Los_Angeles:20220419T190000
DTSTAMP:20260423T184403
CREATED:20220124T193247Z
LAST-MODIFIED:20220130T032248Z
UID:10000074-1650389400-1650394800@www.crestlinechamber.org
SUMMARY:Chamber Board Meeting
DESCRIPTION:All are welcome to attend our monthly board meetings the third Tuesday of every month beginning at 5:30PM at the chamber office.
URL:https://www.crestlinechamber.org/event/chamber-board-meeting/2022-04-19/
LOCATION:Crestline Chamber Office\, 24385 Lake Dr\, Crestline\, CA\, 92325\, United States
CATEGORIES:Monthly Chamber Meetings
GEO:34.2437662;-117.2707116
X-APPLE-STRUCTURED-LOCATION;VALUE=URI;X-ADDRESS=Crestline Chamber Office 24385 Lake Dr Crestline CA 92325 United States;X-APPLE-RADIUS=500;X-TITLE=24385 Lake Dr:geo:-117.2707116,34.2437662
END:VEVENT
BEGIN:VEVENT
DTSTART;TZID=America/Los_Angeles:20220315T173000
DTEND;TZID=America/Los_Angeles:20220315T190000
DTSTAMP:20260423T184403
CREATED:20220124T193247Z
LAST-MODIFIED:20220130T032248Z
UID:10000073-1647365400-1647370800@www.crestlinechamber.org
SUMMARY:Chamber Board Meeting
DESCRIPTION:All are welcome to attend our monthly board meetings the third Tuesday of every month beginning at 5:30PM at the chamber office.
URL:https://www.crestlinechamber.org/event/chamber-board-meeting/2022-03-15/
LOCATION:Crestline Chamber Office\, 24385 Lake Dr\, Crestline\, CA\, 92325\, United States
CATEGORIES:Monthly Chamber Meetings
GEO:34.2437662;-117.2707116
X-APPLE-STRUCTURED-LOCATION;VALUE=URI;X-ADDRESS=Crestline Chamber Office 24385 Lake Dr Crestline CA 92325 United States;X-APPLE-RADIUS=500;X-TITLE=24385 Lake Dr:geo:-117.2707116,34.2437662
END:VEVENT
BEGIN:VEVENT
DTSTART;TZID=America/Los_Angeles:20220215T173000
DTEND;TZID=America/Los_Angeles:20220215T190000
DTSTAMP:20260423T184403
CREATED:20220124T193247Z
LAST-MODIFIED:20220130T032248Z
UID:10000072-1644946200-1644951600@www.crestlinechamber.org
SUMMARY:Chamber Board Meeting
DESCRIPTION:All are welcome to attend our monthly board meetings the third Tuesday of every month beginning at 5:30PM at the chamber office.
URL:https://www.crestlinechamber.org/event/chamber-board-meeting/2022-02-15/
LOCATION:Crestline Chamber Office\, 24385 Lake Dr\, Crestline\, CA\, 92325\, United States
CATEGORIES:Monthly Chamber Meetings
GEO:34.2437662;-117.2707116
X-APPLE-STRUCTURED-LOCATION;VALUE=URI;X-ADDRESS=Crestline Chamber Office 24385 Lake Dr Crestline CA 92325 United States;X-APPLE-RADIUS=500;X-TITLE=24385 Lake Dr:geo:-117.2707116,34.2437662
END:VEVENT
END:VCALENDAR