BEGIN:VCALENDAR
VERSION:2.0
PRODID:-//Crestline Chamber of Commerce - ECPv6.15.20//NONSGML v1.0//EN
CALSCALE:GREGORIAN
METHOD:PUBLISH
X-ORIGINAL-URL:https://www.crestlinechamber.org
X-WR-CALDESC:Events for Crestline Chamber of Commerce
REFRESH-INTERVAL;VALUE=DURATION:PT1H
X-Robots-Tag:noindex
X-PUBLISHED-TTL:PT1H
BEGIN:VTIMEZONE
TZID:America/Los_Angeles
BEGIN:DAYLIGHT
TZOFFSETFROM:-0800
TZOFFSETTO:-0700
TZNAME:PDT
DTSTART:20220313T100000
END:DAYLIGHT
BEGIN:STANDARD
TZOFFSETFROM:-0700
TZOFFSETTO:-0800
TZNAME:PST
DTSTART:20221106T090000
END:STANDARD
BEGIN:DAYLIGHT
TZOFFSETFROM:-0800
TZOFFSETTO:-0700
TZNAME:PDT
DTSTART:20230312T100000
END:DAYLIGHT
BEGIN:STANDARD
TZOFFSETFROM:-0700
TZOFFSETTO:-0800
TZNAME:PST
DTSTART:20231105T090000
END:STANDARD
BEGIN:DAYLIGHT
TZOFFSETFROM:-0800
TZOFFSETTO:-0700
TZNAME:PDT
DTSTART:20240310T100000
END:DAYLIGHT
BEGIN:STANDARD
TZOFFSETFROM:-0700
TZOFFSETTO:-0800
TZNAME:PST
DTSTART:20241103T090000
END:STANDARD
BEGIN:DAYLIGHT
TZOFFSETFROM:-0800
TZOFFSETTO:-0700
TZNAME:PDT
DTSTART:20250309T100000
END:DAYLIGHT
BEGIN:STANDARD
TZOFFSETFROM:-0700
TZOFFSETTO:-0800
TZNAME:PST
DTSTART:20251102T090000
END:STANDARD
BEGIN:DAYLIGHT
TZOFFSETFROM:-0800
TZOFFSETTO:-0700
TZNAME:PDT
DTSTART:20260308T100000
END:DAYLIGHT
BEGIN:STANDARD
TZOFFSETFROM:-0700
TZOFFSETTO:-0800
TZNAME:PST
DTSTART:20261101T090000
END:STANDARD
END:VTIMEZONE
BEGIN:VEVENT
DTSTART;VALUE=DATE:20251215
DTEND;VALUE=DATE:20251216
DTSTAMP:20260423T165206
CREATED:20251215T121131Z
LAST-MODIFIED:20251215T121131Z
UID:10007356-1765756800-1765843199@www.crestlinechamber.org
SUMMARY:2nd International Meet on Power and Energy Engineering (POWERMEET2026)
DESCRIPTION:The 2nd International Meet & Expo on Power and Energy Engineering 2026 (POWERMEET2026) is a premier international conference convening in Kuala Lumpur\, Malaysia. This exciting event will unite global experts from academia\, industry\, research\, and government to explore the latest innovations\, challenges\, and advancements in power and energy systems.
URL:https://www.crestlinechamber.org/event/2nd-international-meet-on-power-and-energy-engineering-powermeet2026-2/
CATEGORIES:Community Event,Crestline Chamber Event,seminar
END:VEVENT
BEGIN:VEVENT
DTSTART;TZID=America/Los_Angeles:20241010T190000
DTEND;TZID=America/Los_Angeles:20241010T203000
DTSTAMP:20260423T165206
CREATED:20231213T213015Z
LAST-MODIFIED:20231213T213531Z
UID:10000905-1728586800-1728592200@www.crestlinechamber.org
SUMMARY:How Money Works Women 's Master Class
DESCRIPTION:Free seminar for Women. Every 2nd Thursday 7:00pm \nMaster Your Money Mindset. Learn through each Character what to do at each time zone of your life. Hear live from women financial literacy advocates including Rose Macias\, Ontwanet Moran and Dominique Pachero
URL:https://www.crestlinechamber.org/event/how-money-works-women-s-master-class/2024-10-10/
LOCATION:How Money Works\, 23798 Lake Drive\, Crestline\, CA\, 92325
CATEGORIES:seminar
ORGANIZER;CN="How Money Works Learning Center":MAILTO:sararosereality@gmail.com
END:VEVENT
BEGIN:VEVENT
DTSTART;TZID=America/Los_Angeles:20240912T190000
DTEND;TZID=America/Los_Angeles:20240912T203000
DTSTAMP:20260423T165206
CREATED:20231213T213015Z
LAST-MODIFIED:20231213T213531Z
UID:10000904-1726167600-1726173000@www.crestlinechamber.org
SUMMARY:How Money Works Women 's Master Class
DESCRIPTION:Free seminar for Women. Every 2nd Thursday 7:00pm \nMaster Your Money Mindset. Learn through each Character what to do at each time zone of your life. Hear live from women financial literacy advocates including Rose Macias\, Ontwanet Moran and Dominique Pachero
URL:https://www.crestlinechamber.org/event/how-money-works-women-s-master-class/2024-09-12/
LOCATION:How Money Works\, 23798 Lake Drive\, Crestline\, CA\, 92325
CATEGORIES:seminar
ORGANIZER;CN="How Money Works Learning Center":MAILTO:sararosereality@gmail.com
END:VEVENT
BEGIN:VEVENT
DTSTART;TZID=America/Los_Angeles:20240808T190000
DTEND;TZID=America/Los_Angeles:20240808T203000
DTSTAMP:20260423T165206
CREATED:20231213T213015Z
LAST-MODIFIED:20231213T213531Z
UID:10000903-1723143600-1723149000@www.crestlinechamber.org
SUMMARY:How Money Works Women 's Master Class
DESCRIPTION:Free seminar for Women. Every 2nd Thursday 7:00pm \nMaster Your Money Mindset. Learn through each Character what to do at each time zone of your life. Hear live from women financial literacy advocates including Rose Macias\, Ontwanet Moran and Dominique Pachero
URL:https://www.crestlinechamber.org/event/how-money-works-women-s-master-class/2024-08-08/
LOCATION:How Money Works\, 23798 Lake Drive\, Crestline\, CA\, 92325
CATEGORIES:seminar
ORGANIZER;CN="How Money Works Learning Center":MAILTO:sararosereality@gmail.com
END:VEVENT
BEGIN:VEVENT
DTSTART;TZID=America/Los_Angeles:20240711T190000
DTEND;TZID=America/Los_Angeles:20240711T203000
DTSTAMP:20260423T165206
CREATED:20231213T213015Z
LAST-MODIFIED:20231213T213531Z
UID:10000902-1720724400-1720729800@www.crestlinechamber.org
SUMMARY:How Money Works Women 's Master Class
DESCRIPTION:Free seminar for Women. Every 2nd Thursday 7:00pm \nMaster Your Money Mindset. Learn through each Character what to do at each time zone of your life. Hear live from women financial literacy advocates including Rose Macias\, Ontwanet Moran and Dominique Pachero
URL:https://www.crestlinechamber.org/event/how-money-works-women-s-master-class/2024-07-11/
LOCATION:How Money Works\, 23798 Lake Drive\, Crestline\, CA\, 92325
CATEGORIES:seminar
ORGANIZER;CN="How Money Works Learning Center":MAILTO:sararosereality@gmail.com
END:VEVENT
BEGIN:VEVENT
DTSTART;TZID=America/Los_Angeles:20240613T190000
DTEND;TZID=America/Los_Angeles:20240613T203000
DTSTAMP:20260423T165206
CREATED:20231213T213015Z
LAST-MODIFIED:20231213T213531Z
UID:10000901-1718305200-1718310600@www.crestlinechamber.org
SUMMARY:How Money Works Women 's Master Class
DESCRIPTION:Free seminar for Women. Every 2nd Thursday 7:00pm \nMaster Your Money Mindset. Learn through each Character what to do at each time zone of your life. Hear live from women financial literacy advocates including Rose Macias\, Ontwanet Moran and Dominique Pachero
URL:https://www.crestlinechamber.org/event/how-money-works-women-s-master-class/2024-06-13/
LOCATION:How Money Works\, 23798 Lake Drive\, Crestline\, CA\, 92325
CATEGORIES:seminar
ORGANIZER;CN="How Money Works Learning Center":MAILTO:sararosereality@gmail.com
END:VEVENT
BEGIN:VEVENT
DTSTART;TZID=America/Los_Angeles:20240511T150000
DTEND;TZID=America/Los_Angeles:20240511T170000
DTSTAMP:20260423T165206
CREATED:20240419T214528Z
LAST-MODIFIED:20240419T215808Z
UID:10001298-1715439600-1715446800@www.crestlinechamber.org
SUMMARY:3rd Wellness & Health Presentation featuring Nutrition and Yoga Wellness
DESCRIPTION:SOROPTIMIST INTERNATIONAL OF RIM OF THE WORLD \nsponsored by San Manuel band of Mission Indians \nJoin us for our 3rd Wellness & Health Presentation featuring \nNutrition and Yoga Wellness \nDate: Saturday\, May 11 \nTime: 3 pm \nLocation: Saint Richard’s Episcopal Church \n28708 Hwy 18\, Skyforest\, CA \nAcross the street from Skyview Inn \nEast of Kuffel Canyon \n~Refreshments will be served~ \nThe speakers will discuss Nutrition as we get older and an Introduction to Easy Chair Movement for Adults. \nOUR SPEAKERS \nDelacey Foster MS RD – Nutritional Services Manager & Registered Dietitian \nBio – Delacey is a Registered Dietitian with a Bachelor’s degree in Nutrition and Food Sciences and a Master’s degree in Dietetics. Delacey is the Nutritional Services Manager and Registered Dietitian at Mountains Community Hospital. She is also a part-time lecturer at California State University San Bernardino in the Nutritional Sciences and Dietetics department. She is passionate about educating the community and future generations of dietitians\, sharing her knowledge and experience with others in ways that empower and motivate them. Everyone should have basic understanding of nutrition. It is one of the most important aspects of our health and wellness. \nTopic – Strong Diet for a Strong Body and Mind. \nThe secrets out! Age is changing our bodies and the outcome may not be as desirable as we’d like. So what \nour minds? How do we maintain our sharp\, witty\, clever selves? Delve into the nutritional science of aging with grace and strength. \nSamantha Patterson – Music and Movement Therapist \nBio – Samantha holds a Master’s degree in Music and Movement Therapy and a Sports Movement degree and has worked for many YMCA locations\, retiring in 2015. Each YMCA involved extensive training in particular elements of fitness and well-being\, such as yoga\, Pilates\, aerobics\, weight training and Healthy Back programs. The Riverside YMCA afforded an opportunity to collaborate with the Arthritis Foundation in programs such as Chair Aerobics\, Water Tai Chi and Chair Yoga. She currently offers yoga classes in Blue Jay and Strength Training classes in Running Springs. \nTopic – Introduction to Easy Chair Movements for Adults. \nSamantha will be talking about movement as a life enhancer and demonstrate Chair Aerobics and Stretching. \nParticipants will have the opportunity to follow along. The activity is very soft and gentle with a short meditation
URL:https://www.crestlinechamber.org/event/3rd-wellness-health-presentation-featuring-nutrition-and-yoga-wellness/
LOCATION:St Richard’s Episcopal Church\, Address: 28708 CA-18\,\, Skyforest\,\, CA\, 92385
CATEGORIES:Community Meeting,seminar
ORGANIZER;CN="Soroptimist International RIM of the World":MAILTO:virgiekay@outlook.com
END:VEVENT
BEGIN:VEVENT
DTSTART;TZID=America/Los_Angeles:20240509T190000
DTEND;TZID=America/Los_Angeles:20240509T203000
DTSTAMP:20260423T165206
CREATED:20231213T213015Z
LAST-MODIFIED:20231213T213531Z
UID:10000900-1715281200-1715286600@www.crestlinechamber.org
SUMMARY:How Money Works Women 's Master Class
DESCRIPTION:Free seminar for Women. Every 2nd Thursday 7:00pm \nMaster Your Money Mindset. Learn through each Character what to do at each time zone of your life. Hear live from women financial literacy advocates including Rose Macias\, Ontwanet Moran and Dominique Pachero
URL:https://www.crestlinechamber.org/event/how-money-works-women-s-master-class/2024-05-09/
LOCATION:How Money Works\, 23798 Lake Drive\, Crestline\, CA\, 92325
CATEGORIES:seminar
ORGANIZER;CN="How Money Works Learning Center":MAILTO:sararosereality@gmail.com
END:VEVENT
BEGIN:VEVENT
DTSTART;TZID=America/Los_Angeles:20240411T190000
DTEND;TZID=America/Los_Angeles:20240411T203000
DTSTAMP:20260423T165206
CREATED:20231213T213015Z
LAST-MODIFIED:20231213T213531Z
UID:10000899-1712862000-1712867400@www.crestlinechamber.org
SUMMARY:How Money Works Women 's Master Class
DESCRIPTION:Free seminar for Women. Every 2nd Thursday 7:00pm \nMaster Your Money Mindset. Learn through each Character what to do at each time zone of your life. Hear live from women financial literacy advocates including Rose Macias\, Ontwanet Moran and Dominique Pachero
URL:https://www.crestlinechamber.org/event/how-money-works-women-s-master-class/2024-04-11/
LOCATION:How Money Works\, 23798 Lake Drive\, Crestline\, CA\, 92325
CATEGORIES:seminar
ORGANIZER;CN="How Money Works Learning Center":MAILTO:sararosereality@gmail.com
END:VEVENT
BEGIN:VEVENT
DTSTART;TZID=America/Los_Angeles:20240314T190000
DTEND;TZID=America/Los_Angeles:20240314T203000
DTSTAMP:20260423T165206
CREATED:20231213T213015Z
LAST-MODIFIED:20231213T213531Z
UID:10000898-1710442800-1710448200@www.crestlinechamber.org
SUMMARY:How Money Works Women 's Master Class
DESCRIPTION:Free seminar for Women. Every 2nd Thursday 7:00pm \nMaster Your Money Mindset. Learn through each Character what to do at each time zone of your life. Hear live from women financial literacy advocates including Rose Macias\, Ontwanet Moran and Dominique Pachero
URL:https://www.crestlinechamber.org/event/how-money-works-women-s-master-class/2024-03-14/
LOCATION:How Money Works\, 23798 Lake Drive\, Crestline\, CA\, 92325
CATEGORIES:seminar
ORGANIZER;CN="How Money Works Learning Center":MAILTO:sararosereality@gmail.com
END:VEVENT
BEGIN:VEVENT
DTSTART;TZID=America/Los_Angeles:20240208T190000
DTEND;TZID=America/Los_Angeles:20240208T203000
DTSTAMP:20260423T165206
CREATED:20231213T213015Z
LAST-MODIFIED:20231213T213531Z
UID:10000897-1707418800-1707424200@www.crestlinechamber.org
SUMMARY:How Money Works Women 's Master Class
DESCRIPTION:Free seminar for Women. Every 2nd Thursday 7:00pm \nMaster Your Money Mindset. Learn through each Character what to do at each time zone of your life. Hear live from women financial literacy advocates including Rose Macias\, Ontwanet Moran and Dominique Pachero
URL:https://www.crestlinechamber.org/event/how-money-works-women-s-master-class/2024-02-08/
LOCATION:How Money Works\, 23798 Lake Drive\, Crestline\, CA\, 92325
CATEGORIES:seminar
ORGANIZER;CN="How Money Works Learning Center":MAILTO:sararosereality@gmail.com
END:VEVENT
BEGIN:VEVENT
DTSTART;TZID=America/Los_Angeles:20240111T190000
DTEND;TZID=America/Los_Angeles:20240111T203000
DTSTAMP:20260423T165206
CREATED:20231213T213015Z
LAST-MODIFIED:20231213T213531Z
UID:10000896-1704999600-1705005000@www.crestlinechamber.org
SUMMARY:How Money Works Women 's Master Class
DESCRIPTION:Free seminar for Women. Every 2nd Thursday 7:00pm \nMaster Your Money Mindset. Learn through each Character what to do at each time zone of your life. Hear live from women financial literacy advocates including Rose Macias\, Ontwanet Moran and Dominique Pachero
URL:https://www.crestlinechamber.org/event/how-money-works-women-s-master-class/2024-01-11/
LOCATION:How Money Works\, 23798 Lake Drive\, Crestline\, CA\, 92325
CATEGORIES:seminar
ORGANIZER;CN="How Money Works Learning Center":MAILTO:sararosereality@gmail.com
END:VEVENT
BEGIN:VEVENT
DTSTART;TZID=America/Los_Angeles:20231214T190000
DTEND;TZID=America/Los_Angeles:20231214T203000
DTSTAMP:20260423T165206
CREATED:20231213T213015Z
LAST-MODIFIED:20231213T213531Z
UID:10000895-1702580400-1702585800@www.crestlinechamber.org
SUMMARY:How Money Works Women 's Master Class
DESCRIPTION:Free seminar for Women. Every 2nd Thursday 7:00pm \nMaster Your Money Mindset. Learn through each Character what to do at each time zone of your life. Hear live from women financial literacy advocates including Rose Macias\, Ontwanet Moran and Dominique Pachero
URL:https://www.crestlinechamber.org/event/how-money-works-women-s-master-class/2023-12-14/
LOCATION:How Money Works\, 23798 Lake Drive\, Crestline\, CA\, 92325
CATEGORIES:seminar
ORGANIZER;CN="How Money Works Learning Center":MAILTO:sararosereality@gmail.com
END:VEVENT
BEGIN:VEVENT
DTSTART;TZID=America/Los_Angeles:20231025T100000
DTEND;TZID=America/Los_Angeles:20231025T100000
DTSTAMP:20260423T165206
CREATED:20230922T213537Z
LAST-MODIFIED:20230928T172817Z
UID:10000866-1698228000-1698228000@www.crestlinechamber.org
SUMMARY:Join us for a FREE Medicare Workshop. Get Coverage BEYOND Medicare A&B
DESCRIPTION:Join us for a FREE medicare workshop:\nOctober 25th\n10:00am – 11:30am\nCrestline Chamber of Commerce\n24385 Lake Drive\, Crestline CA 92325\n  \nAre You or a Loved One…\n• Turning 65?\n• Retiring from an employer plan?\n• Looking for coverage beyond Medicare A&B?\n• Paying too much for prescriptions?\n• Are you diabetic and need help?\n• Eligible to receive a low income subsidy?\n• Eligible for Medicare & Medi-Cal? \nRodney Shepherd Health Insurance\nAgent Lic# 0E30422\n909-844-2466 Cell\nrshepherd@HRBCinsurance.com
URL:https://www.crestlinechamber.org/event/join-us-for-a-free-medicare-workshop-get-coverage-beyond-medicare-ab/
LOCATION:Crestline Chamber Office\, 24385 Lake Dr\, Crestline\, CA\, 92325\, United States
CATEGORIES:Community Meeting,seminar
GEO:34.2437662;-117.2707116
X-APPLE-STRUCTURED-LOCATION;VALUE=URI;X-ADDRESS=Crestline Chamber Office 24385 Lake Dr Crestline CA 92325 United States;X-APPLE-RADIUS=500;X-TITLE=24385 Lake Dr:geo:-117.2707116,34.2437662
END:VEVENT
BEGIN:VEVENT
DTSTART;TZID=America/Los_Angeles:20230912T183000
DTEND;TZID=America/Los_Angeles:20230912T193000
DTSTAMP:20260423T165206
CREATED:20230906T195526Z
LAST-MODIFIED:20230906T195526Z
UID:10000331-1694543400-1694547000@www.crestlinechamber.org
SUMMARY:Southern CA Edison Community Meeting regarding Upcoming Power Outages
DESCRIPTION:Southern California Edison invites residents of Crestline to a community meeting to receive information about an upcoming outage that will strengthen grid reliability in the Crestline area in advance of the coming winter months. Work is scheduled to begin at 8pm on October 7th to 12:00 pm on October 8th and at 8pm on October 14th to 12:00 pm on October 15th. \nPlease join us to learn important details about this upcoming work. \nSeptember 12th\, 2023  \nSAN MORITZ LODGE  \n24640 San Moritz Dr\, Crestline\, CA 92325  \n@ 6:30 pm  \n* Planned work will result in overnight power outages
URL:https://www.crestlinechamber.org/event/southern-ca-edison-community-meeting-regarding-upcoming-power-outages/
LOCATION:San Moritz Lodge\, 24640 San Moritz Dr.\, Crestline\, CA\, 92325\, United States
CATEGORIES:Community Meeting,Lake Gregory,seminar
ORGANIZER;CN="Southern California Edison":MAILTO:SCE currently does not offer support by email.
GEO:34.2389643;-117.2661879
X-APPLE-STRUCTURED-LOCATION;VALUE=URI;X-ADDRESS=San Moritz Lodge 24640 San Moritz Dr. Crestline CA 92325 United States;X-APPLE-RADIUS=500;X-TITLE=24640 San Moritz Dr.:geo:-117.2661879,34.2389643
END:VEVENT
BEGIN:VEVENT
DTSTART;TZID=America/Los_Angeles:20230720T183000
DTEND;TZID=America/Los_Angeles:20230720T203000
DTSTAMP:20260423T165206
CREATED:20230628T175712Z
LAST-MODIFIED:20230628T181844Z
UID:10000297-1689877800-1689885000@www.crestlinechamber.org
SUMMARY:Women Entrepreneurs and Money
DESCRIPTION:  \n\nMeet other Women Entrepreneurs in different industries\nNetwork and Resource\nDiscounts and Prizes\nEducational Session on Money and Business\nMotivational Speakers\nWine and Hors-d’oevres
URL:https://www.crestlinechamber.org/event/women-entrepreneurs-and-money/
LOCATION:How Money Works\, 23798 Lake Drive\, Crestline\, CA\, 92325
CATEGORIES:seminar
END:VEVENT
END:VCALENDAR