BEGIN:VCALENDAR
VERSION:2.0
PRODID:-//Crestline Chamber of Commerce - ECPv6.15.20//NONSGML v1.0//EN
CALSCALE:GREGORIAN
METHOD:PUBLISH
X-WR-CALNAME:Crestline Chamber of Commerce
X-ORIGINAL-URL:https://www.crestlinechamber.org
X-WR-CALDESC:Events for Crestline Chamber of Commerce
REFRESH-INTERVAL;VALUE=DURATION:PT1H
X-Robots-Tag:noindex
X-PUBLISHED-TTL:PT1H
BEGIN:VTIMEZONE
TZID:America/Los_Angeles
BEGIN:DAYLIGHT
TZOFFSETFROM:-0800
TZOFFSETTO:-0700
TZNAME:PDT
DTSTART:20250309T100000
END:DAYLIGHT
BEGIN:STANDARD
TZOFFSETFROM:-0700
TZOFFSETTO:-0800
TZNAME:PST
DTSTART:20251102T090000
END:STANDARD
BEGIN:DAYLIGHT
TZOFFSETFROM:-0800
TZOFFSETTO:-0700
TZNAME:PDT
DTSTART:20260308T100000
END:DAYLIGHT
BEGIN:STANDARD
TZOFFSETFROM:-0700
TZOFFSETTO:-0800
TZNAME:PST
DTSTART:20261101T090000
END:STANDARD
BEGIN:DAYLIGHT
TZOFFSETFROM:-0800
TZOFFSETTO:-0700
TZNAME:PDT
DTSTART:20270314T100000
END:DAYLIGHT
BEGIN:STANDARD
TZOFFSETFROM:-0700
TZOFFSETTO:-0800
TZNAME:PST
DTSTART:20271107T090000
END:STANDARD
END:VTIMEZONE
BEGIN:VEVENT
DTSTART;TZID=America/Los_Angeles:20260429T150000
DTEND;TZID=America/Los_Angeles:20260429T160000
DTSTAMP:20260423T133002
CREATED:20250127T200257Z
LAST-MODIFIED:20250127T201232Z
UID:10002692-1777474800-1777478400@www.crestlinechamber.org
SUMMARY:Kid Zones\, Discovery Time  📚 ✨
DESCRIPTION:“Welcome to Kid Zones: Discovery Time 📚✨—a space where young minds explore\, create\, and discover the wonders of the world! From hands-on activities to captivating stories\, every moment is an opportunity to learn and grow. Let the adventure begin!”
URL:https://www.crestlinechamber.org/event/activate-einsteins-kid-zones-%f0%9f%93%9a-%e2%9c%a8/2026-04-29/
LOCATION:Crestline Branch Library\, 24105 Lake Gregory Dr\, Crestline\, CA\, 92325
CATEGORIES:Community Event,Family Friendly,Lake Gregory
END:VEVENT
BEGIN:VEVENT
DTSTART;TZID=America/Los_Angeles:20260506T150000
DTEND;TZID=America/Los_Angeles:20260506T160000
DTSTAMP:20260423T133002
CREATED:20250127T200257Z
LAST-MODIFIED:20250127T201232Z
UID:10002693-1778079600-1778083200@www.crestlinechamber.org
SUMMARY:Kid Zones\, Discovery Time  📚 ✨
DESCRIPTION:“Welcome to Kid Zones: Discovery Time 📚✨—a space where young minds explore\, create\, and discover the wonders of the world! From hands-on activities to captivating stories\, every moment is an opportunity to learn and grow. Let the adventure begin!”
URL:https://www.crestlinechamber.org/event/activate-einsteins-kid-zones-%f0%9f%93%9a-%e2%9c%a8/2026-05-06/
LOCATION:Crestline Branch Library\, 24105 Lake Gregory Dr\, Crestline\, CA\, 92325
CATEGORIES:Community Event,Family Friendly,Lake Gregory
END:VEVENT
BEGIN:VEVENT
DTSTART;TZID=America/Los_Angeles:20260513T150000
DTEND;TZID=America/Los_Angeles:20260513T160000
DTSTAMP:20260423T133002
CREATED:20250127T200257Z
LAST-MODIFIED:20250127T201232Z
UID:10002694-1778684400-1778688000@www.crestlinechamber.org
SUMMARY:Kid Zones\, Discovery Time  📚 ✨
DESCRIPTION:“Welcome to Kid Zones: Discovery Time 📚✨—a space where young minds explore\, create\, and discover the wonders of the world! From hands-on activities to captivating stories\, every moment is an opportunity to learn and grow. Let the adventure begin!”
URL:https://www.crestlinechamber.org/event/activate-einsteins-kid-zones-%f0%9f%93%9a-%e2%9c%a8/2026-05-13/
LOCATION:Crestline Branch Library\, 24105 Lake Gregory Dr\, Crestline\, CA\, 92325
CATEGORIES:Community Event,Family Friendly,Lake Gregory
END:VEVENT
BEGIN:VEVENT
DTSTART;TZID=America/Los_Angeles:20260520T150000
DTEND;TZID=America/Los_Angeles:20260520T160000
DTSTAMP:20260423T133002
CREATED:20250127T200257Z
LAST-MODIFIED:20250127T201232Z
UID:10002695-1779289200-1779292800@www.crestlinechamber.org
SUMMARY:Kid Zones\, Discovery Time  📚 ✨
DESCRIPTION:“Welcome to Kid Zones: Discovery Time 📚✨—a space where young minds explore\, create\, and discover the wonders of the world! From hands-on activities to captivating stories\, every moment is an opportunity to learn and grow. Let the adventure begin!”
URL:https://www.crestlinechamber.org/event/activate-einsteins-kid-zones-%f0%9f%93%9a-%e2%9c%a8/2026-05-20/
LOCATION:Crestline Branch Library\, 24105 Lake Gregory Dr\, Crestline\, CA\, 92325
CATEGORIES:Community Event,Family Friendly,Lake Gregory
END:VEVENT
BEGIN:VEVENT
DTSTART;TZID=America/Los_Angeles:20260527T150000
DTEND;TZID=America/Los_Angeles:20260527T160000
DTSTAMP:20260423T133002
CREATED:20250127T200257Z
LAST-MODIFIED:20250127T201232Z
UID:10002696-1779894000-1779897600@www.crestlinechamber.org
SUMMARY:Kid Zones\, Discovery Time  📚 ✨
DESCRIPTION:“Welcome to Kid Zones: Discovery Time 📚✨—a space where young minds explore\, create\, and discover the wonders of the world! From hands-on activities to captivating stories\, every moment is an opportunity to learn and grow. Let the adventure begin!”
URL:https://www.crestlinechamber.org/event/activate-einsteins-kid-zones-%f0%9f%93%9a-%e2%9c%a8/2026-05-27/
LOCATION:Crestline Branch Library\, 24105 Lake Gregory Dr\, Crestline\, CA\, 92325
CATEGORIES:Community Event,Family Friendly,Lake Gregory
END:VEVENT
BEGIN:VEVENT
DTSTART;TZID=America/Los_Angeles:20260603T150000
DTEND;TZID=America/Los_Angeles:20260603T160000
DTSTAMP:20260423T133002
CREATED:20250127T200257Z
LAST-MODIFIED:20250127T201232Z
UID:10002697-1780498800-1780502400@www.crestlinechamber.org
SUMMARY:Kid Zones\, Discovery Time  📚 ✨
DESCRIPTION:“Welcome to Kid Zones: Discovery Time 📚✨—a space where young minds explore\, create\, and discover the wonders of the world! From hands-on activities to captivating stories\, every moment is an opportunity to learn and grow. Let the adventure begin!”
URL:https://www.crestlinechamber.org/event/activate-einsteins-kid-zones-%f0%9f%93%9a-%e2%9c%a8/2026-06-03/
LOCATION:Crestline Branch Library\, 24105 Lake Gregory Dr\, Crestline\, CA\, 92325
CATEGORIES:Community Event,Family Friendly,Lake Gregory
END:VEVENT
BEGIN:VEVENT
DTSTART;TZID=America/Los_Angeles:20260610T150000
DTEND;TZID=America/Los_Angeles:20260610T160000
DTSTAMP:20260423T133002
CREATED:20250127T200257Z
LAST-MODIFIED:20250127T201232Z
UID:10002698-1781103600-1781107200@www.crestlinechamber.org
SUMMARY:Kid Zones\, Discovery Time  📚 ✨
DESCRIPTION:“Welcome to Kid Zones: Discovery Time 📚✨—a space where young minds explore\, create\, and discover the wonders of the world! From hands-on activities to captivating stories\, every moment is an opportunity to learn and grow. Let the adventure begin!”
URL:https://www.crestlinechamber.org/event/activate-einsteins-kid-zones-%f0%9f%93%9a-%e2%9c%a8/2026-06-10/
LOCATION:Crestline Branch Library\, 24105 Lake Gregory Dr\, Crestline\, CA\, 92325
CATEGORIES:Community Event,Family Friendly,Lake Gregory
END:VEVENT
BEGIN:VEVENT
DTSTART;TZID=America/Los_Angeles:20260617T150000
DTEND;TZID=America/Los_Angeles:20260617T160000
DTSTAMP:20260423T133002
CREATED:20250127T200257Z
LAST-MODIFIED:20250127T201232Z
UID:10002699-1781708400-1781712000@www.crestlinechamber.org
SUMMARY:Kid Zones\, Discovery Time  📚 ✨
DESCRIPTION:“Welcome to Kid Zones: Discovery Time 📚✨—a space where young minds explore\, create\, and discover the wonders of the world! From hands-on activities to captivating stories\, every moment is an opportunity to learn and grow. Let the adventure begin!”
URL:https://www.crestlinechamber.org/event/activate-einsteins-kid-zones-%f0%9f%93%9a-%e2%9c%a8/2026-06-17/
LOCATION:Crestline Branch Library\, 24105 Lake Gregory Dr\, Crestline\, CA\, 92325
CATEGORIES:Community Event,Family Friendly,Lake Gregory
END:VEVENT
BEGIN:VEVENT
DTSTART;TZID=America/Los_Angeles:20260624T150000
DTEND;TZID=America/Los_Angeles:20260624T160000
DTSTAMP:20260423T133002
CREATED:20250127T200257Z
LAST-MODIFIED:20250127T201232Z
UID:10002700-1782313200-1782316800@www.crestlinechamber.org
SUMMARY:Kid Zones\, Discovery Time  📚 ✨
DESCRIPTION:“Welcome to Kid Zones: Discovery Time 📚✨—a space where young minds explore\, create\, and discover the wonders of the world! From hands-on activities to captivating stories\, every moment is an opportunity to learn and grow. Let the adventure begin!”
URL:https://www.crestlinechamber.org/event/activate-einsteins-kid-zones-%f0%9f%93%9a-%e2%9c%a8/2026-06-24/
LOCATION:Crestline Branch Library\, 24105 Lake Gregory Dr\, Crestline\, CA\, 92325
CATEGORIES:Community Event,Family Friendly,Lake Gregory
END:VEVENT
BEGIN:VEVENT
DTSTART;TZID=America/Los_Angeles:20260701T150000
DTEND;TZID=America/Los_Angeles:20260701T160000
DTSTAMP:20260423T133002
CREATED:20250127T200257Z
LAST-MODIFIED:20250127T201232Z
UID:10002701-1782918000-1782921600@www.crestlinechamber.org
SUMMARY:Kid Zones\, Discovery Time  📚 ✨
DESCRIPTION:“Welcome to Kid Zones: Discovery Time 📚✨—a space where young minds explore\, create\, and discover the wonders of the world! From hands-on activities to captivating stories\, every moment is an opportunity to learn and grow. Let the adventure begin!”
URL:https://www.crestlinechamber.org/event/activate-einsteins-kid-zones-%f0%9f%93%9a-%e2%9c%a8/2026-07-01/
LOCATION:Crestline Branch Library\, 24105 Lake Gregory Dr\, Crestline\, CA\, 92325
CATEGORIES:Community Event,Family Friendly,Lake Gregory
END:VEVENT
BEGIN:VEVENT
DTSTART;TZID=America/Los_Angeles:20260708T150000
DTEND;TZID=America/Los_Angeles:20260708T160000
DTSTAMP:20260423T133002
CREATED:20250127T200257Z
LAST-MODIFIED:20250127T201232Z
UID:10002702-1783522800-1783526400@www.crestlinechamber.org
SUMMARY:Kid Zones\, Discovery Time  📚 ✨
DESCRIPTION:“Welcome to Kid Zones: Discovery Time 📚✨—a space where young minds explore\, create\, and discover the wonders of the world! From hands-on activities to captivating stories\, every moment is an opportunity to learn and grow. Let the adventure begin!”
URL:https://www.crestlinechamber.org/event/activate-einsteins-kid-zones-%f0%9f%93%9a-%e2%9c%a8/2026-07-08/
LOCATION:Crestline Branch Library\, 24105 Lake Gregory Dr\, Crestline\, CA\, 92325
CATEGORIES:Community Event,Family Friendly,Lake Gregory
END:VEVENT
BEGIN:VEVENT
DTSTART;TZID=America/Los_Angeles:20260715T150000
DTEND;TZID=America/Los_Angeles:20260715T160000
DTSTAMP:20260423T133002
CREATED:20250127T200257Z
LAST-MODIFIED:20250127T201232Z
UID:10002703-1784127600-1784131200@www.crestlinechamber.org
SUMMARY:Kid Zones\, Discovery Time  📚 ✨
DESCRIPTION:“Welcome to Kid Zones: Discovery Time 📚✨—a space where young minds explore\, create\, and discover the wonders of the world! From hands-on activities to captivating stories\, every moment is an opportunity to learn and grow. Let the adventure begin!”
URL:https://www.crestlinechamber.org/event/activate-einsteins-kid-zones-%f0%9f%93%9a-%e2%9c%a8/2026-07-15/
LOCATION:Crestline Branch Library\, 24105 Lake Gregory Dr\, Crestline\, CA\, 92325
CATEGORIES:Community Event,Family Friendly,Lake Gregory
END:VEVENT
BEGIN:VEVENT
DTSTART;TZID=America/Los_Angeles:20260722T150000
DTEND;TZID=America/Los_Angeles:20260722T160000
DTSTAMP:20260423T133002
CREATED:20250127T200257Z
LAST-MODIFIED:20250127T201232Z
UID:10002704-1784732400-1784736000@www.crestlinechamber.org
SUMMARY:Kid Zones\, Discovery Time  📚 ✨
DESCRIPTION:“Welcome to Kid Zones: Discovery Time 📚✨—a space where young minds explore\, create\, and discover the wonders of the world! From hands-on activities to captivating stories\, every moment is an opportunity to learn and grow. Let the adventure begin!”
URL:https://www.crestlinechamber.org/event/activate-einsteins-kid-zones-%f0%9f%93%9a-%e2%9c%a8/2026-07-22/
LOCATION:Crestline Branch Library\, 24105 Lake Gregory Dr\, Crestline\, CA\, 92325
CATEGORIES:Community Event,Family Friendly,Lake Gregory
END:VEVENT
BEGIN:VEVENT
DTSTART;TZID=America/Los_Angeles:20260729T150000
DTEND;TZID=America/Los_Angeles:20260729T160000
DTSTAMP:20260423T133002
CREATED:20250127T200257Z
LAST-MODIFIED:20250127T201232Z
UID:10002705-1785337200-1785340800@www.crestlinechamber.org
SUMMARY:Kid Zones\, Discovery Time  📚 ✨
DESCRIPTION:“Welcome to Kid Zones: Discovery Time 📚✨—a space where young minds explore\, create\, and discover the wonders of the world! From hands-on activities to captivating stories\, every moment is an opportunity to learn and grow. Let the adventure begin!”
URL:https://www.crestlinechamber.org/event/activate-einsteins-kid-zones-%f0%9f%93%9a-%e2%9c%a8/2026-07-29/
LOCATION:Crestline Branch Library\, 24105 Lake Gregory Dr\, Crestline\, CA\, 92325
CATEGORIES:Community Event,Family Friendly,Lake Gregory
END:VEVENT
BEGIN:VEVENT
DTSTART;TZID=America/Los_Angeles:20260805T150000
DTEND;TZID=America/Los_Angeles:20260805T160000
DTSTAMP:20260423T133002
CREATED:20250127T200257Z
LAST-MODIFIED:20250127T201232Z
UID:10002706-1785942000-1785945600@www.crestlinechamber.org
SUMMARY:Kid Zones\, Discovery Time  📚 ✨
DESCRIPTION:“Welcome to Kid Zones: Discovery Time 📚✨—a space where young minds explore\, create\, and discover the wonders of the world! From hands-on activities to captivating stories\, every moment is an opportunity to learn and grow. Let the adventure begin!”
URL:https://www.crestlinechamber.org/event/activate-einsteins-kid-zones-%f0%9f%93%9a-%e2%9c%a8/2026-08-05/
LOCATION:Crestline Branch Library\, 24105 Lake Gregory Dr\, Crestline\, CA\, 92325
CATEGORIES:Community Event,Family Friendly,Lake Gregory
END:VEVENT
BEGIN:VEVENT
DTSTART;TZID=America/Los_Angeles:20260812T150000
DTEND;TZID=America/Los_Angeles:20260812T160000
DTSTAMP:20260423T133002
CREATED:20250127T200257Z
LAST-MODIFIED:20250127T201232Z
UID:10002707-1786546800-1786550400@www.crestlinechamber.org
SUMMARY:Kid Zones\, Discovery Time  📚 ✨
DESCRIPTION:“Welcome to Kid Zones: Discovery Time 📚✨—a space where young minds explore\, create\, and discover the wonders of the world! From hands-on activities to captivating stories\, every moment is an opportunity to learn and grow. Let the adventure begin!”
URL:https://www.crestlinechamber.org/event/activate-einsteins-kid-zones-%f0%9f%93%9a-%e2%9c%a8/2026-08-12/
LOCATION:Crestline Branch Library\, 24105 Lake Gregory Dr\, Crestline\, CA\, 92325
CATEGORIES:Community Event,Family Friendly,Lake Gregory
END:VEVENT
BEGIN:VEVENT
DTSTART;TZID=America/Los_Angeles:20260819T150000
DTEND;TZID=America/Los_Angeles:20260819T160000
DTSTAMP:20260423T133002
CREATED:20250127T200257Z
LAST-MODIFIED:20250127T201232Z
UID:10002708-1787151600-1787155200@www.crestlinechamber.org
SUMMARY:Kid Zones\, Discovery Time  📚 ✨
DESCRIPTION:“Welcome to Kid Zones: Discovery Time 📚✨—a space where young minds explore\, create\, and discover the wonders of the world! From hands-on activities to captivating stories\, every moment is an opportunity to learn and grow. Let the adventure begin!”
URL:https://www.crestlinechamber.org/event/activate-einsteins-kid-zones-%f0%9f%93%9a-%e2%9c%a8/2026-08-19/
LOCATION:Crestline Branch Library\, 24105 Lake Gregory Dr\, Crestline\, CA\, 92325
CATEGORIES:Community Event,Family Friendly,Lake Gregory
END:VEVENT
BEGIN:VEVENT
DTSTART;TZID=America/Los_Angeles:20260826T150000
DTEND;TZID=America/Los_Angeles:20260826T160000
DTSTAMP:20260423T133002
CREATED:20250127T200257Z
LAST-MODIFIED:20250127T201232Z
UID:10002709-1787756400-1787760000@www.crestlinechamber.org
SUMMARY:Kid Zones\, Discovery Time  📚 ✨
DESCRIPTION:“Welcome to Kid Zones: Discovery Time 📚✨—a space where young minds explore\, create\, and discover the wonders of the world! From hands-on activities to captivating stories\, every moment is an opportunity to learn and grow. Let the adventure begin!”
URL:https://www.crestlinechamber.org/event/activate-einsteins-kid-zones-%f0%9f%93%9a-%e2%9c%a8/2026-08-26/
LOCATION:Crestline Branch Library\, 24105 Lake Gregory Dr\, Crestline\, CA\, 92325
CATEGORIES:Community Event,Family Friendly,Lake Gregory
END:VEVENT
BEGIN:VEVENT
DTSTART;TZID=America/Los_Angeles:20260902T150000
DTEND;TZID=America/Los_Angeles:20260902T160000
DTSTAMP:20260423T133002
CREATED:20250127T200257Z
LAST-MODIFIED:20250127T201232Z
UID:10002710-1788361200-1788364800@www.crestlinechamber.org
SUMMARY:Kid Zones\, Discovery Time  📚 ✨
DESCRIPTION:“Welcome to Kid Zones: Discovery Time 📚✨—a space where young minds explore\, create\, and discover the wonders of the world! From hands-on activities to captivating stories\, every moment is an opportunity to learn and grow. Let the adventure begin!”
URL:https://www.crestlinechamber.org/event/activate-einsteins-kid-zones-%f0%9f%93%9a-%e2%9c%a8/2026-09-02/
LOCATION:Crestline Branch Library\, 24105 Lake Gregory Dr\, Crestline\, CA\, 92325
CATEGORIES:Community Event,Family Friendly,Lake Gregory
END:VEVENT
BEGIN:VEVENT
DTSTART;TZID=America/Los_Angeles:20260909T150000
DTEND;TZID=America/Los_Angeles:20260909T160000
DTSTAMP:20260423T133002
CREATED:20250127T200257Z
LAST-MODIFIED:20250127T201232Z
UID:10002711-1788966000-1788969600@www.crestlinechamber.org
SUMMARY:Kid Zones\, Discovery Time  📚 ✨
DESCRIPTION:“Welcome to Kid Zones: Discovery Time 📚✨—a space where young minds explore\, create\, and discover the wonders of the world! From hands-on activities to captivating stories\, every moment is an opportunity to learn and grow. Let the adventure begin!”
URL:https://www.crestlinechamber.org/event/activate-einsteins-kid-zones-%f0%9f%93%9a-%e2%9c%a8/2026-09-09/
LOCATION:Crestline Branch Library\, 24105 Lake Gregory Dr\, Crestline\, CA\, 92325
CATEGORIES:Community Event,Family Friendly,Lake Gregory
END:VEVENT
BEGIN:VEVENT
DTSTART;TZID=America/Los_Angeles:20260916T150000
DTEND;TZID=America/Los_Angeles:20260916T160000
DTSTAMP:20260423T133002
CREATED:20250127T200257Z
LAST-MODIFIED:20250127T201232Z
UID:10002712-1789570800-1789574400@www.crestlinechamber.org
SUMMARY:Kid Zones\, Discovery Time  📚 ✨
DESCRIPTION:“Welcome to Kid Zones: Discovery Time 📚✨—a space where young minds explore\, create\, and discover the wonders of the world! From hands-on activities to captivating stories\, every moment is an opportunity to learn and grow. Let the adventure begin!”
URL:https://www.crestlinechamber.org/event/activate-einsteins-kid-zones-%f0%9f%93%9a-%e2%9c%a8/2026-09-16/
LOCATION:Crestline Branch Library\, 24105 Lake Gregory Dr\, Crestline\, CA\, 92325
CATEGORIES:Community Event,Family Friendly,Lake Gregory
END:VEVENT
BEGIN:VEVENT
DTSTART;TZID=America/Los_Angeles:20260923T150000
DTEND;TZID=America/Los_Angeles:20260923T160000
DTSTAMP:20260423T133002
CREATED:20250127T200257Z
LAST-MODIFIED:20250127T201232Z
UID:10002713-1790175600-1790179200@www.crestlinechamber.org
SUMMARY:Kid Zones\, Discovery Time  📚 ✨
DESCRIPTION:“Welcome to Kid Zones: Discovery Time 📚✨—a space where young minds explore\, create\, and discover the wonders of the world! From hands-on activities to captivating stories\, every moment is an opportunity to learn and grow. Let the adventure begin!”
URL:https://www.crestlinechamber.org/event/activate-einsteins-kid-zones-%f0%9f%93%9a-%e2%9c%a8/2026-09-23/
LOCATION:Crestline Branch Library\, 24105 Lake Gregory Dr\, Crestline\, CA\, 92325
CATEGORIES:Community Event,Family Friendly,Lake Gregory
END:VEVENT
BEGIN:VEVENT
DTSTART;TZID=America/Los_Angeles:20260930T150000
DTEND;TZID=America/Los_Angeles:20260930T160000
DTSTAMP:20260423T133002
CREATED:20250127T200257Z
LAST-MODIFIED:20250127T201232Z
UID:10002714-1790780400-1790784000@www.crestlinechamber.org
SUMMARY:Kid Zones\, Discovery Time  📚 ✨
DESCRIPTION:“Welcome to Kid Zones: Discovery Time 📚✨—a space where young minds explore\, create\, and discover the wonders of the world! From hands-on activities to captivating stories\, every moment is an opportunity to learn and grow. Let the adventure begin!”
URL:https://www.crestlinechamber.org/event/activate-einsteins-kid-zones-%f0%9f%93%9a-%e2%9c%a8/2026-09-30/
LOCATION:Crestline Branch Library\, 24105 Lake Gregory Dr\, Crestline\, CA\, 92325
CATEGORIES:Community Event,Family Friendly,Lake Gregory
END:VEVENT
BEGIN:VEVENT
DTSTART;TZID=America/Los_Angeles:20261007T150000
DTEND;TZID=America/Los_Angeles:20261007T160000
DTSTAMP:20260423T133002
CREATED:20250127T200257Z
LAST-MODIFIED:20250127T201232Z
UID:10002715-1791385200-1791388800@www.crestlinechamber.org
SUMMARY:Kid Zones\, Discovery Time  📚 ✨
DESCRIPTION:“Welcome to Kid Zones: Discovery Time 📚✨—a space where young minds explore\, create\, and discover the wonders of the world! From hands-on activities to captivating stories\, every moment is an opportunity to learn and grow. Let the adventure begin!”
URL:https://www.crestlinechamber.org/event/activate-einsteins-kid-zones-%f0%9f%93%9a-%e2%9c%a8/2026-10-07/
LOCATION:Crestline Branch Library\, 24105 Lake Gregory Dr\, Crestline\, CA\, 92325
CATEGORIES:Community Event,Family Friendly,Lake Gregory
END:VEVENT
BEGIN:VEVENT
DTSTART;TZID=America/Los_Angeles:20261014T150000
DTEND;TZID=America/Los_Angeles:20261014T160000
DTSTAMP:20260423T133002
CREATED:20250127T200257Z
LAST-MODIFIED:20250127T201232Z
UID:10002716-1791990000-1791993600@www.crestlinechamber.org
SUMMARY:Kid Zones\, Discovery Time  📚 ✨
DESCRIPTION:“Welcome to Kid Zones: Discovery Time 📚✨—a space where young minds explore\, create\, and discover the wonders of the world! From hands-on activities to captivating stories\, every moment is an opportunity to learn and grow. Let the adventure begin!”
URL:https://www.crestlinechamber.org/event/activate-einsteins-kid-zones-%f0%9f%93%9a-%e2%9c%a8/2026-10-14/
LOCATION:Crestline Branch Library\, 24105 Lake Gregory Dr\, Crestline\, CA\, 92325
CATEGORIES:Community Event,Family Friendly,Lake Gregory
END:VEVENT
BEGIN:VEVENT
DTSTART;TZID=America/Los_Angeles:20261021T150000
DTEND;TZID=America/Los_Angeles:20261021T160000
DTSTAMP:20260423T133002
CREATED:20250127T200257Z
LAST-MODIFIED:20250127T201232Z
UID:10002717-1792594800-1792598400@www.crestlinechamber.org
SUMMARY:Kid Zones\, Discovery Time  📚 ✨
DESCRIPTION:“Welcome to Kid Zones: Discovery Time 📚✨—a space where young minds explore\, create\, and discover the wonders of the world! From hands-on activities to captivating stories\, every moment is an opportunity to learn and grow. Let the adventure begin!”
URL:https://www.crestlinechamber.org/event/activate-einsteins-kid-zones-%f0%9f%93%9a-%e2%9c%a8/2026-10-21/
LOCATION:Crestline Branch Library\, 24105 Lake Gregory Dr\, Crestline\, CA\, 92325
CATEGORIES:Community Event,Family Friendly,Lake Gregory
END:VEVENT
BEGIN:VEVENT
DTSTART;TZID=America/Los_Angeles:20261028T150000
DTEND;TZID=America/Los_Angeles:20261028T160000
DTSTAMP:20260423T133002
CREATED:20250127T200257Z
LAST-MODIFIED:20250127T201232Z
UID:10002718-1793199600-1793203200@www.crestlinechamber.org
SUMMARY:Kid Zones\, Discovery Time  📚 ✨
DESCRIPTION:“Welcome to Kid Zones: Discovery Time 📚✨—a space where young minds explore\, create\, and discover the wonders of the world! From hands-on activities to captivating stories\, every moment is an opportunity to learn and grow. Let the adventure begin!”
URL:https://www.crestlinechamber.org/event/activate-einsteins-kid-zones-%f0%9f%93%9a-%e2%9c%a8/2026-10-28/
LOCATION:Crestline Branch Library\, 24105 Lake Gregory Dr\, Crestline\, CA\, 92325
CATEGORIES:Community Event,Family Friendly,Lake Gregory
END:VEVENT
BEGIN:VEVENT
DTSTART;TZID=America/Los_Angeles:20261104T150000
DTEND;TZID=America/Los_Angeles:20261104T160000
DTSTAMP:20260423T133002
CREATED:20250127T200257Z
LAST-MODIFIED:20250127T201232Z
UID:10002719-1793804400-1793808000@www.crestlinechamber.org
SUMMARY:Kid Zones\, Discovery Time  📚 ✨
DESCRIPTION:“Welcome to Kid Zones: Discovery Time 📚✨—a space where young minds explore\, create\, and discover the wonders of the world! From hands-on activities to captivating stories\, every moment is an opportunity to learn and grow. Let the adventure begin!”
URL:https://www.crestlinechamber.org/event/activate-einsteins-kid-zones-%f0%9f%93%9a-%e2%9c%a8/2026-11-04/
LOCATION:Crestline Branch Library\, 24105 Lake Gregory Dr\, Crestline\, CA\, 92325
CATEGORIES:Community Event,Family Friendly,Lake Gregory
END:VEVENT
BEGIN:VEVENT
DTSTART;TZID=America/Los_Angeles:20261111T150000
DTEND;TZID=America/Los_Angeles:20261111T160000
DTSTAMP:20260423T133002
CREATED:20250127T200257Z
LAST-MODIFIED:20250127T201232Z
UID:10002720-1794409200-1794412800@www.crestlinechamber.org
SUMMARY:Kid Zones\, Discovery Time  📚 ✨
DESCRIPTION:“Welcome to Kid Zones: Discovery Time 📚✨—a space where young minds explore\, create\, and discover the wonders of the world! From hands-on activities to captivating stories\, every moment is an opportunity to learn and grow. Let the adventure begin!”
URL:https://www.crestlinechamber.org/event/activate-einsteins-kid-zones-%f0%9f%93%9a-%e2%9c%a8/2026-11-11/
LOCATION:Crestline Branch Library\, 24105 Lake Gregory Dr\, Crestline\, CA\, 92325
CATEGORIES:Community Event,Family Friendly,Lake Gregory
END:VEVENT
BEGIN:VEVENT
DTSTART;TZID=America/Los_Angeles:20261118T150000
DTEND;TZID=America/Los_Angeles:20261118T160000
DTSTAMP:20260423T133002
CREATED:20250127T200257Z
LAST-MODIFIED:20250127T201232Z
UID:10002721-1795014000-1795017600@www.crestlinechamber.org
SUMMARY:Kid Zones\, Discovery Time  📚 ✨
DESCRIPTION:“Welcome to Kid Zones: Discovery Time 📚✨—a space where young minds explore\, create\, and discover the wonders of the world! From hands-on activities to captivating stories\, every moment is an opportunity to learn and grow. Let the adventure begin!”
URL:https://www.crestlinechamber.org/event/activate-einsteins-kid-zones-%f0%9f%93%9a-%e2%9c%a8/2026-11-18/
LOCATION:Crestline Branch Library\, 24105 Lake Gregory Dr\, Crestline\, CA\, 92325
CATEGORIES:Community Event,Family Friendly,Lake Gregory
END:VEVENT
END:VCALENDAR