BEGIN:VCALENDAR
VERSION:2.0
PRODID:-//Crestline Chamber of Commerce - ECPv6.15.20//NONSGML v1.0//EN
CALSCALE:GREGORIAN
METHOD:PUBLISH
X-ORIGINAL-URL:https://www.crestlinechamber.org
X-WR-CALDESC:Events for Crestline Chamber of Commerce
REFRESH-INTERVAL;VALUE=DURATION:PT1H
X-Robots-Tag:noindex
X-PUBLISHED-TTL:PT1H
BEGIN:VTIMEZONE
TZID:America/Los_Angeles
BEGIN:DAYLIGHT
TZOFFSETFROM:-0800
TZOFFSETTO:-0700
TZNAME:PDT
DTSTART:20240310T100000
END:DAYLIGHT
BEGIN:STANDARD
TZOFFSETFROM:-0700
TZOFFSETTO:-0800
TZNAME:PST
DTSTART:20241103T090000
END:STANDARD
BEGIN:DAYLIGHT
TZOFFSETFROM:-0800
TZOFFSETTO:-0700
TZNAME:PDT
DTSTART:20250309T100000
END:DAYLIGHT
BEGIN:STANDARD
TZOFFSETFROM:-0700
TZOFFSETTO:-0800
TZNAME:PST
DTSTART:20251102T090000
END:STANDARD
BEGIN:DAYLIGHT
TZOFFSETFROM:-0800
TZOFFSETTO:-0700
TZNAME:PDT
DTSTART:20260308T100000
END:DAYLIGHT
BEGIN:STANDARD
TZOFFSETFROM:-0700
TZOFFSETTO:-0800
TZNAME:PST
DTSTART:20261101T090000
END:STANDARD
END:VTIMEZONE
BEGIN:VEVENT
DTSTART;TZID=America/Los_Angeles:20250308T080000
DTEND;TZID=America/Los_Angeles:20250308T150000
DTSTAMP:20260424T054008
CREATED:20250219T231117Z
LAST-MODIFIED:20250219T231117Z
UID:10005365-1741420800-1741446000@www.crestlinechamber.org
SUMMARY:American Red Cross Shelter Simulation Training 🌟
DESCRIPTION:Join Us for Shelter Simulation Training!\nAre you ready to gain hands-on experience in emergency shelter operations? Mark your calendar for Saturday\, March 8\, 2025\, from 8 a.m. to 3 p.m. at Charles Hoffman Elementary School in Running Springs\, CA.\nThis interactive training\, hosted by the Red Cross\, will teach you essential skills in setting up\, operating\, and closing a shelter while promoting teamwork and problem-solving. It’s a great opportunity to prepare for real-world emergencies !\nTo sign up\, email erin.fox@redcross.org. We hope to see you there!
URL:https://www.crestlinechamber.org/event/american-red-cross-shelter-simulation-training-%f0%9f%8c%9f/
LOCATION:Charles Hoffman Elementary School
CATEGORIES:Community Event,Family Friendly
END:VEVENT
BEGIN:VEVENT
DTSTART;TZID=America/Los_Angeles:20250111T080000
DTEND;TZID=America/Los_Angeles:20250111T150000
DTSTAMP:20260424T054008
CREATED:20241216T190028Z
LAST-MODIFIED:20241216T203041Z
UID:10001755-1736582400-1736607600@www.crestlinechamber.org
SUMMARY:American Red Cross Shelter Training Simulation
DESCRIPTION:Join Us for an Engaging Shelter Simulation Training!\nGain hands-on experience and build your skills in shelter operations! This interactive event is designed to help you:\n\n\nStrengthen teamwork through fun\, collaborative group activities.\n\n\nMaster the essential tasks for opening\, operating\, and closing a shelter.\n\n\nEnhance your problem-solving abilities and learn to tackle real-world challenges in shelter management.\n\n\nDon’t miss this chance to make a difference and prepare for impactful work in your community.\n📍 Where: Charles Hoffman Elementary School\, 2851 Running Springs School Road\, Running Springs\, CA 92382
URL:https://www.crestlinechamber.org/event/american-red-cross-shelter-training-simulation/
END:VEVENT
END:VCALENDAR