BEGIN:VCALENDAR
VERSION:2.0
PRODID:-//Crestline Chamber of Commerce - ECPv6.15.20//NONSGML v1.0//EN
CALSCALE:GREGORIAN
METHOD:PUBLISH
X-ORIGINAL-URL:https://www.crestlinechamber.org
X-WR-CALDESC:Events for Crestline Chamber of Commerce
REFRESH-INTERVAL;VALUE=DURATION:PT1H
X-Robots-Tag:noindex
X-PUBLISHED-TTL:PT1H
BEGIN:VTIMEZONE
TZID:America/Los_Angeles
BEGIN:DAYLIGHT
TZOFFSETFROM:-0800
TZOFFSETTO:-0700
TZNAME:PDT
DTSTART:20250309T100000
END:DAYLIGHT
BEGIN:STANDARD
TZOFFSETFROM:-0700
TZOFFSETTO:-0800
TZNAME:PST
DTSTART:20251102T090000
END:STANDARD
BEGIN:DAYLIGHT
TZOFFSETFROM:-0800
TZOFFSETTO:-0700
TZNAME:PDT
DTSTART:20260308T100000
END:DAYLIGHT
BEGIN:STANDARD
TZOFFSETFROM:-0700
TZOFFSETTO:-0800
TZNAME:PST
DTSTART:20261101T090000
END:STANDARD
BEGIN:DAYLIGHT
TZOFFSETFROM:-0800
TZOFFSETTO:-0700
TZNAME:PDT
DTSTART:20270314T100000
END:DAYLIGHT
BEGIN:STANDARD
TZOFFSETFROM:-0700
TZOFFSETTO:-0800
TZNAME:PST
DTSTART:20271107T090000
END:STANDARD
END:VTIMEZONE
BEGIN:VEVENT
DTSTART;TZID=America/Los_Angeles:20260503T160000
DTEND;TZID=America/Los_Angeles:20260503T190000
DTSTAMP:20260423T170125
CREATED:20260409T151240Z
LAST-MODIFIED:20260409T151240Z
UID:10007563-1777824000-1777834800@www.crestlinechamber.org
SUMMARY:Jazz Come Home
DESCRIPTION:An unforgettable afternoon of live jazz is coming your way 🎶💛 \n📅 Sunday\, May 3\n🕓 4–7 PM\n📍 San Moritz Lodge\, Crestline \n🎟️ $20 donation | Students 18 & under FREE \nFeaturing incredible local talent + special performances by Rim High musicians 🎺✨ \nAll proceeds support Rim District School Bands—come enjoy the music and make a difference 💫
URL:https://www.crestlinechamber.org/event/jazz-come-home/
LOCATION:San Moritz Lodge\, 24640 San Moritz Dr.\, Crestline\, CA\, 92325\, United States
ATTACH;FMTTYPE=image/jpeg:https://www.crestlinechamber.org/wp-content/uploads/2026/04/BJJF-Jazz-Comes-Home.jpg
GEO:34.2389643;-117.2661879
X-APPLE-STRUCTURED-LOCATION;VALUE=URI;X-ADDRESS=San Moritz Lodge 24640 San Moritz Dr. Crestline CA 92325 United States;X-APPLE-RADIUS=500;X-TITLE=24640 San Moritz Dr.:geo:-117.2661879,34.2389643
END:VEVENT
END:VCALENDAR