BEGIN:VCALENDAR
VERSION:2.0
PRODID:-//Crestline Chamber of Commerce - ECPv6.15.20//NONSGML v1.0//EN
CALSCALE:GREGORIAN
METHOD:PUBLISH
X-ORIGINAL-URL:https://www.crestlinechamber.org
X-WR-CALDESC:Events for Crestline Chamber of Commerce
REFRESH-INTERVAL;VALUE=DURATION:PT1H
X-Robots-Tag:noindex
X-PUBLISHED-TTL:PT1H
BEGIN:VTIMEZONE
TZID:America/Los_Angeles
BEGIN:DAYLIGHT
TZOFFSETFROM:-0800
TZOFFSETTO:-0700
TZNAME:PDT
DTSTART:20280312T100000
END:DAYLIGHT
BEGIN:STANDARD
TZOFFSETFROM:-0700
TZOFFSETTO:-0800
TZNAME:PST
DTSTART:20281105T090000
END:STANDARD
BEGIN:DAYLIGHT
TZOFFSETFROM:-0800
TZOFFSETTO:-0700
TZNAME:PDT
DTSTART:20290311T100000
END:DAYLIGHT
BEGIN:STANDARD
TZOFFSETFROM:-0700
TZOFFSETTO:-0800
TZNAME:PST
DTSTART:20291104T090000
END:STANDARD
BEGIN:DAYLIGHT
TZOFFSETFROM:-0800
TZOFFSETTO:-0700
TZNAME:PDT
DTSTART:20300310T100000
END:DAYLIGHT
BEGIN:STANDARD
TZOFFSETFROM:-0700
TZOFFSETTO:-0800
TZNAME:PST
DTSTART:20301103T090000
END:STANDARD
END:VTIMEZONE
BEGIN:VEVENT
DTSTART;TZID=America/Los_Angeles:20290128T100000
DTEND;TZID=America/Los_Angeles:20290128T130000
DTSTAMP:20260424T084947
CREATED:20240411T232613Z
LAST-MODIFIED:20240411T232613Z
UID:10001286-1864288800-1864299600@www.crestlinechamber.org
SUMMARY:Free Food Pantry
DESCRIPTION:We’re thrilled to invite you to our Free Food Pantry Event! In our ongoing commitment to support and uplift our community\, we’re opening our doors to offer essential nourishment and assistance to those in need. Join us every Sunday 10 AM – 1 PM as we provide a wide array of nutritious food items and pantry staples\, completely free of charge. Whether you’re facing financial hardship or simply in need of a helping hand\, our pantry is here for you. Let’s come together to make a positive difference in the lives of our neighbors. Spread the word\, mark your calendars\, and join us in this act of kindness and solidarity. See you there!
URL:https://www.crestlinechamber.org/event/free-food-pantry/2029-01-28/
LOCATION:Crestline Adventist Church\, 22972 Waters Drive\, Crestline\, CA\, 92325\, United States
CATEGORIES:Community Event,Family Friendly
ORGANIZER;CN="Crestline Adventist Church":MAILTO:clerkcrestlinesdachurch1@gmail.com
END:VEVENT
BEGIN:VEVENT
DTSTART;TZID=America/Los_Angeles:20290204T100000
DTEND;TZID=America/Los_Angeles:20290204T130000
DTSTAMP:20260424T084947
CREATED:20240411T232613Z
LAST-MODIFIED:20240411T232613Z
UID:10001287-1864893600-1864904400@www.crestlinechamber.org
SUMMARY:Free Food Pantry
DESCRIPTION:We’re thrilled to invite you to our Free Food Pantry Event! In our ongoing commitment to support and uplift our community\, we’re opening our doors to offer essential nourishment and assistance to those in need. Join us every Sunday 10 AM – 1 PM as we provide a wide array of nutritious food items and pantry staples\, completely free of charge. Whether you’re facing financial hardship or simply in need of a helping hand\, our pantry is here for you. Let’s come together to make a positive difference in the lives of our neighbors. Spread the word\, mark your calendars\, and join us in this act of kindness and solidarity. See you there!
URL:https://www.crestlinechamber.org/event/free-food-pantry/2029-02-04/
LOCATION:Crestline Adventist Church\, 22972 Waters Drive\, Crestline\, CA\, 92325\, United States
CATEGORIES:Community Event,Family Friendly
ORGANIZER;CN="Crestline Adventist Church":MAILTO:clerkcrestlinesdachurch1@gmail.com
END:VEVENT
BEGIN:VEVENT
DTSTART;TZID=America/Los_Angeles:20290211T100000
DTEND;TZID=America/Los_Angeles:20290211T130000
DTSTAMP:20260424T084947
CREATED:20240411T232613Z
LAST-MODIFIED:20240411T232613Z
UID:10001288-1865498400-1865509200@www.crestlinechamber.org
SUMMARY:Free Food Pantry
DESCRIPTION:We’re thrilled to invite you to our Free Food Pantry Event! In our ongoing commitment to support and uplift our community\, we’re opening our doors to offer essential nourishment and assistance to those in need. Join us every Sunday 10 AM – 1 PM as we provide a wide array of nutritious food items and pantry staples\, completely free of charge. Whether you’re facing financial hardship or simply in need of a helping hand\, our pantry is here for you. Let’s come together to make a positive difference in the lives of our neighbors. Spread the word\, mark your calendars\, and join us in this act of kindness and solidarity. See you there!
URL:https://www.crestlinechamber.org/event/free-food-pantry/2029-02-11/
LOCATION:Crestline Adventist Church\, 22972 Waters Drive\, Crestline\, CA\, 92325\, United States
CATEGORIES:Community Event,Family Friendly
ORGANIZER;CN="Crestline Adventist Church":MAILTO:clerkcrestlinesdachurch1@gmail.com
END:VEVENT
BEGIN:VEVENT
DTSTART;TZID=America/Los_Angeles:20290218T100000
DTEND;TZID=America/Los_Angeles:20290218T130000
DTSTAMP:20260424T084947
CREATED:20240411T232613Z
LAST-MODIFIED:20240411T232613Z
UID:10001289-1866103200-1866114000@www.crestlinechamber.org
SUMMARY:Free Food Pantry
DESCRIPTION:We’re thrilled to invite you to our Free Food Pantry Event! In our ongoing commitment to support and uplift our community\, we’re opening our doors to offer essential nourishment and assistance to those in need. Join us every Sunday 10 AM – 1 PM as we provide a wide array of nutritious food items and pantry staples\, completely free of charge. Whether you’re facing financial hardship or simply in need of a helping hand\, our pantry is here for you. Let’s come together to make a positive difference in the lives of our neighbors. Spread the word\, mark your calendars\, and join us in this act of kindness and solidarity. See you there!
URL:https://www.crestlinechamber.org/event/free-food-pantry/2029-02-18/
LOCATION:Crestline Adventist Church\, 22972 Waters Drive\, Crestline\, CA\, 92325\, United States
CATEGORIES:Community Event,Family Friendly
ORGANIZER;CN="Crestline Adventist Church":MAILTO:clerkcrestlinesdachurch1@gmail.com
END:VEVENT
BEGIN:VEVENT
DTSTART;TZID=America/Los_Angeles:20290225T100000
DTEND;TZID=America/Los_Angeles:20290225T130000
DTSTAMP:20260424T084947
CREATED:20240411T232613Z
LAST-MODIFIED:20240411T232613Z
UID:10001290-1866708000-1866718800@www.crestlinechamber.org
SUMMARY:Free Food Pantry
DESCRIPTION:We’re thrilled to invite you to our Free Food Pantry Event! In our ongoing commitment to support and uplift our community\, we’re opening our doors to offer essential nourishment and assistance to those in need. Join us every Sunday 10 AM – 1 PM as we provide a wide array of nutritious food items and pantry staples\, completely free of charge. Whether you’re facing financial hardship or simply in need of a helping hand\, our pantry is here for you. Let’s come together to make a positive difference in the lives of our neighbors. Spread the word\, mark your calendars\, and join us in this act of kindness and solidarity. See you there!
URL:https://www.crestlinechamber.org/event/free-food-pantry/2029-02-25/
LOCATION:Crestline Adventist Church\, 22972 Waters Drive\, Crestline\, CA\, 92325\, United States
CATEGORIES:Community Event,Family Friendly
ORGANIZER;CN="Crestline Adventist Church":MAILTO:clerkcrestlinesdachurch1@gmail.com
END:VEVENT
BEGIN:VEVENT
DTSTART;TZID=America/Los_Angeles:20290304T100000
DTEND;TZID=America/Los_Angeles:20290304T130000
DTSTAMP:20260424T084947
CREATED:20240411T232613Z
LAST-MODIFIED:20240411T232613Z
UID:10001291-1867312800-1867323600@www.crestlinechamber.org
SUMMARY:Free Food Pantry
DESCRIPTION:We’re thrilled to invite you to our Free Food Pantry Event! In our ongoing commitment to support and uplift our community\, we’re opening our doors to offer essential nourishment and assistance to those in need. Join us every Sunday 10 AM – 1 PM as we provide a wide array of nutritious food items and pantry staples\, completely free of charge. Whether you’re facing financial hardship or simply in need of a helping hand\, our pantry is here for you. Let’s come together to make a positive difference in the lives of our neighbors. Spread the word\, mark your calendars\, and join us in this act of kindness and solidarity. See you there!
URL:https://www.crestlinechamber.org/event/free-food-pantry/2029-03-04/
LOCATION:Crestline Adventist Church\, 22972 Waters Drive\, Crestline\, CA\, 92325\, United States
CATEGORIES:Community Event,Family Friendly
ORGANIZER;CN="Crestline Adventist Church":MAILTO:clerkcrestlinesdachurch1@gmail.com
END:VEVENT
BEGIN:VEVENT
DTSTART;TZID=America/Los_Angeles:20290311T100000
DTEND;TZID=America/Los_Angeles:20290311T130000
DTSTAMP:20260424T084947
CREATED:20240411T232613Z
LAST-MODIFIED:20240411T232613Z
UID:10001292-1867917600-1867928400@www.crestlinechamber.org
SUMMARY:Free Food Pantry
DESCRIPTION:We’re thrilled to invite you to our Free Food Pantry Event! In our ongoing commitment to support and uplift our community\, we’re opening our doors to offer essential nourishment and assistance to those in need. Join us every Sunday 10 AM – 1 PM as we provide a wide array of nutritious food items and pantry staples\, completely free of charge. Whether you’re facing financial hardship or simply in need of a helping hand\, our pantry is here for you. Let’s come together to make a positive difference in the lives of our neighbors. Spread the word\, mark your calendars\, and join us in this act of kindness and solidarity. See you there!
URL:https://www.crestlinechamber.org/event/free-food-pantry/2029-03-11/
LOCATION:Crestline Adventist Church\, 22972 Waters Drive\, Crestline\, CA\, 92325\, United States
CATEGORIES:Community Event,Family Friendly
ORGANIZER;CN="Crestline Adventist Church":MAILTO:clerkcrestlinesdachurch1@gmail.com
END:VEVENT
BEGIN:VEVENT
DTSTART;TZID=America/Los_Angeles:20290318T100000
DTEND;TZID=America/Los_Angeles:20290318T130000
DTSTAMP:20260424T084947
CREATED:20240411T232613Z
LAST-MODIFIED:20240411T232613Z
UID:10001293-1868522400-1868533200@www.crestlinechamber.org
SUMMARY:Free Food Pantry
DESCRIPTION:We’re thrilled to invite you to our Free Food Pantry Event! In our ongoing commitment to support and uplift our community\, we’re opening our doors to offer essential nourishment and assistance to those in need. Join us every Sunday 10 AM – 1 PM as we provide a wide array of nutritious food items and pantry staples\, completely free of charge. Whether you’re facing financial hardship or simply in need of a helping hand\, our pantry is here for you. Let’s come together to make a positive difference in the lives of our neighbors. Spread the word\, mark your calendars\, and join us in this act of kindness and solidarity. See you there!
URL:https://www.crestlinechamber.org/event/free-food-pantry/2029-03-18/
LOCATION:Crestline Adventist Church\, 22972 Waters Drive\, Crestline\, CA\, 92325\, United States
CATEGORIES:Community Event,Family Friendly
ORGANIZER;CN="Crestline Adventist Church":MAILTO:clerkcrestlinesdachurch1@gmail.com
END:VEVENT
BEGIN:VEVENT
DTSTART;TZID=America/Los_Angeles:20290325T100000
DTEND;TZID=America/Los_Angeles:20290325T130000
DTSTAMP:20260424T084947
CREATED:20240411T232613Z
LAST-MODIFIED:20240411T232613Z
UID:10001294-1869127200-1869138000@www.crestlinechamber.org
SUMMARY:Free Food Pantry
DESCRIPTION:We’re thrilled to invite you to our Free Food Pantry Event! In our ongoing commitment to support and uplift our community\, we’re opening our doors to offer essential nourishment and assistance to those in need. Join us every Sunday 10 AM – 1 PM as we provide a wide array of nutritious food items and pantry staples\, completely free of charge. Whether you’re facing financial hardship or simply in need of a helping hand\, our pantry is here for you. Let’s come together to make a positive difference in the lives of our neighbors. Spread the word\, mark your calendars\, and join us in this act of kindness and solidarity. See you there!
URL:https://www.crestlinechamber.org/event/free-food-pantry/2029-03-25/
LOCATION:Crestline Adventist Church\, 22972 Waters Drive\, Crestline\, CA\, 92325\, United States
CATEGORIES:Community Event,Family Friendly
ORGANIZER;CN="Crestline Adventist Church":MAILTO:clerkcrestlinesdachurch1@gmail.com
END:VEVENT
BEGIN:VEVENT
DTSTART;TZID=America/Los_Angeles:20290401T100000
DTEND;TZID=America/Los_Angeles:20290401T130000
DTSTAMP:20260424T084947
CREATED:20240411T232613Z
LAST-MODIFIED:20240411T232613Z
UID:10001295-1869732000-1869742800@www.crestlinechamber.org
SUMMARY:Free Food Pantry
DESCRIPTION:We’re thrilled to invite you to our Free Food Pantry Event! In our ongoing commitment to support and uplift our community\, we’re opening our doors to offer essential nourishment and assistance to those in need. Join us every Sunday 10 AM – 1 PM as we provide a wide array of nutritious food items and pantry staples\, completely free of charge. Whether you’re facing financial hardship or simply in need of a helping hand\, our pantry is here for you. Let’s come together to make a positive difference in the lives of our neighbors. Spread the word\, mark your calendars\, and join us in this act of kindness and solidarity. See you there!
URL:https://www.crestlinechamber.org/event/free-food-pantry/2029-04-01/
LOCATION:Crestline Adventist Church\, 22972 Waters Drive\, Crestline\, CA\, 92325\, United States
CATEGORIES:Community Event,Family Friendly
ORGANIZER;CN="Crestline Adventist Church":MAILTO:clerkcrestlinesdachurch1@gmail.com
END:VEVENT
BEGIN:VEVENT
DTSTART;TZID=America/Los_Angeles:20290408T100000
DTEND;TZID=America/Los_Angeles:20290408T130000
DTSTAMP:20260424T084947
CREATED:20240411T232613Z
LAST-MODIFIED:20240411T232613Z
UID:10001296-1870336800-1870347600@www.crestlinechamber.org
SUMMARY:Free Food Pantry
DESCRIPTION:We’re thrilled to invite you to our Free Food Pantry Event! In our ongoing commitment to support and uplift our community\, we’re opening our doors to offer essential nourishment and assistance to those in need. Join us every Sunday 10 AM – 1 PM as we provide a wide array of nutritious food items and pantry staples\, completely free of charge. Whether you’re facing financial hardship or simply in need of a helping hand\, our pantry is here for you. Let’s come together to make a positive difference in the lives of our neighbors. Spread the word\, mark your calendars\, and join us in this act of kindness and solidarity. See you there!
URL:https://www.crestlinechamber.org/event/free-food-pantry/2029-04-08/
LOCATION:Crestline Adventist Church\, 22972 Waters Drive\, Crestline\, CA\, 92325\, United States
CATEGORIES:Community Event,Family Friendly
ORGANIZER;CN="Crestline Adventist Church":MAILTO:clerkcrestlinesdachurch1@gmail.com
END:VEVENT
END:VCALENDAR