BEGIN:VCALENDAR
VERSION:2.0
PRODID:-//Crestline Chamber of Commerce - ECPv6.15.20//NONSGML v1.0//EN
CALSCALE:GREGORIAN
METHOD:PUBLISH
X-WR-CALNAME:Crestline Chamber of Commerce
X-ORIGINAL-URL:https://www.crestlinechamber.org
X-WR-CALDESC:Events for Crestline Chamber of Commerce
REFRESH-INTERVAL;VALUE=DURATION:PT1H
X-Robots-Tag:noindex
X-PUBLISHED-TTL:PT1H
BEGIN:VTIMEZONE
TZID:America/Los_Angeles
BEGIN:DAYLIGHT
TZOFFSETFROM:-0800
TZOFFSETTO:-0700
TZNAME:PDT
DTSTART:20250309T100000
END:DAYLIGHT
BEGIN:STANDARD
TZOFFSETFROM:-0700
TZOFFSETTO:-0800
TZNAME:PST
DTSTART:20251102T090000
END:STANDARD
BEGIN:DAYLIGHT
TZOFFSETFROM:-0800
TZOFFSETTO:-0700
TZNAME:PDT
DTSTART:20260308T100000
END:DAYLIGHT
BEGIN:STANDARD
TZOFFSETFROM:-0700
TZOFFSETTO:-0800
TZNAME:PST
DTSTART:20261101T090000
END:STANDARD
BEGIN:DAYLIGHT
TZOFFSETFROM:-0800
TZOFFSETTO:-0700
TZNAME:PDT
DTSTART:20270314T100000
END:DAYLIGHT
BEGIN:STANDARD
TZOFFSETFROM:-0700
TZOFFSETTO:-0800
TZNAME:PST
DTSTART:20271107T090000
END:STANDARD
END:VTIMEZONE
BEGIN:VEVENT
DTSTART;TZID=America/Los_Angeles:20260422T150000
DTEND;TZID=America/Los_Angeles:20260422T160000
DTSTAMP:20260423T153422
CREATED:20250127T200257Z
LAST-MODIFIED:20250127T201232Z
UID:10002691-1776870000-1776873600@www.crestlinechamber.org
SUMMARY:Kid Zones\, Discovery Time  📚 ✨
DESCRIPTION:“Welcome to Kid Zones: Discovery Time 📚✨—a space where young minds explore\, create\, and discover the wonders of the world! From hands-on activities to captivating stories\, every moment is an opportunity to learn and grow. Let the adventure begin!”
URL:https://www.crestlinechamber.org/event/activate-einsteins-kid-zones-%f0%9f%93%9a-%e2%9c%a8/2026-04-22/
LOCATION:Crestline Branch Library\, 24105 Lake Gregory Dr\, Crestline\, CA\, 92325
CATEGORIES:Community Event,Family Friendly,Lake Gregory
END:VEVENT
BEGIN:VEVENT
DTSTART;TZID=America/Los_Angeles:20260420T140000
DTEND;TZID=America/Los_Angeles:20260420T150000
DTSTAMP:20260423T153422
CREATED:20250127T200806Z
LAST-MODIFIED:20250127T200806Z
UID:10002951-1776693600-1776697200@www.crestlinechamber.org
SUMMARY:Adult Programs\, Yoga 🧘 🙏
DESCRIPTION:🧘‍♀️ Yoga Sessions:\nFind your inner peace with relaxing and rejuvenating yoga classes. Perfect for beginners and seasoned yogis alike\, these sessions are a great way to unwind and recharge. \n📅 Check the library’s calendar for dates and times. Embrace wellness and learning\, all in one place! ✨
URL:https://www.crestlinechamber.org/event/adult-programs-yoga-%f0%9f%a7%98-%f0%9f%99%8f/2026-04-20/
LOCATION:Crestline Branch Library\, 24105 Lake Gregory Dr\, Crestline\, CA\, 92325
CATEGORIES:Community Event,Family Friendly,Lake Gregory
END:VEVENT
BEGIN:VEVENT
DTSTART;TZID=America/Los_Angeles:20260415T150000
DTEND;TZID=America/Los_Angeles:20260415T160000
DTSTAMP:20260423T153422
CREATED:20250127T200257Z
LAST-MODIFIED:20250127T201232Z
UID:10002690-1776265200-1776268800@www.crestlinechamber.org
SUMMARY:Kid Zones\, Discovery Time  📚 ✨
DESCRIPTION:“Welcome to Kid Zones: Discovery Time 📚✨—a space where young minds explore\, create\, and discover the wonders of the world! From hands-on activities to captivating stories\, every moment is an opportunity to learn and grow. Let the adventure begin!”
URL:https://www.crestlinechamber.org/event/activate-einsteins-kid-zones-%f0%9f%93%9a-%e2%9c%a8/2026-04-15/
LOCATION:Crestline Branch Library\, 24105 Lake Gregory Dr\, Crestline\, CA\, 92325
CATEGORIES:Community Event,Family Friendly,Lake Gregory
END:VEVENT
BEGIN:VEVENT
DTSTART;TZID=America/Los_Angeles:20260413T140000
DTEND;TZID=America/Los_Angeles:20260413T150000
DTSTAMP:20260423T153422
CREATED:20250127T200806Z
LAST-MODIFIED:20250127T200806Z
UID:10002950-1776088800-1776092400@www.crestlinechamber.org
SUMMARY:Adult Programs\, Yoga 🧘 🙏
DESCRIPTION:🧘‍♀️ Yoga Sessions:\nFind your inner peace with relaxing and rejuvenating yoga classes. Perfect for beginners and seasoned yogis alike\, these sessions are a great way to unwind and recharge. \n📅 Check the library’s calendar for dates and times. Embrace wellness and learning\, all in one place! ✨
URL:https://www.crestlinechamber.org/event/adult-programs-yoga-%f0%9f%a7%98-%f0%9f%99%8f/2026-04-13/
LOCATION:Crestline Branch Library\, 24105 Lake Gregory Dr\, Crestline\, CA\, 92325
CATEGORIES:Community Event,Family Friendly,Lake Gregory
END:VEVENT
BEGIN:VEVENT
DTSTART;TZID=America/Los_Angeles:20260408T150000
DTEND;TZID=America/Los_Angeles:20260408T160000
DTSTAMP:20260423T153422
CREATED:20250127T200257Z
LAST-MODIFIED:20250127T201232Z
UID:10002689-1775660400-1775664000@www.crestlinechamber.org
SUMMARY:Kid Zones\, Discovery Time  📚 ✨
DESCRIPTION:“Welcome to Kid Zones: Discovery Time 📚✨—a space where young minds explore\, create\, and discover the wonders of the world! From hands-on activities to captivating stories\, every moment is an opportunity to learn and grow. Let the adventure begin!”
URL:https://www.crestlinechamber.org/event/activate-einsteins-kid-zones-%f0%9f%93%9a-%e2%9c%a8/2026-04-08/
LOCATION:Crestline Branch Library\, 24105 Lake Gregory Dr\, Crestline\, CA\, 92325
CATEGORIES:Community Event,Family Friendly,Lake Gregory
END:VEVENT
BEGIN:VEVENT
DTSTART;TZID=America/Los_Angeles:20260406T140000
DTEND;TZID=America/Los_Angeles:20260406T150000
DTSTAMP:20260423T153422
CREATED:20250127T200806Z
LAST-MODIFIED:20250127T200806Z
UID:10002949-1775484000-1775487600@www.crestlinechamber.org
SUMMARY:Adult Programs\, Yoga 🧘 🙏
DESCRIPTION:🧘‍♀️ Yoga Sessions:\nFind your inner peace with relaxing and rejuvenating yoga classes. Perfect for beginners and seasoned yogis alike\, these sessions are a great way to unwind and recharge. \n📅 Check the library’s calendar for dates and times. Embrace wellness and learning\, all in one place! ✨
URL:https://www.crestlinechamber.org/event/adult-programs-yoga-%f0%9f%a7%98-%f0%9f%99%8f/2026-04-06/
LOCATION:Crestline Branch Library\, 24105 Lake Gregory Dr\, Crestline\, CA\, 92325
CATEGORIES:Community Event,Family Friendly,Lake Gregory
END:VEVENT
BEGIN:VEVENT
DTSTART;TZID=America/Los_Angeles:20260401T150000
DTEND;TZID=America/Los_Angeles:20260401T160000
DTSTAMP:20260423T153422
CREATED:20250127T200257Z
LAST-MODIFIED:20250127T201232Z
UID:10002688-1775055600-1775059200@www.crestlinechamber.org
SUMMARY:Kid Zones\, Discovery Time  📚 ✨
DESCRIPTION:“Welcome to Kid Zones: Discovery Time 📚✨—a space where young minds explore\, create\, and discover the wonders of the world! From hands-on activities to captivating stories\, every moment is an opportunity to learn and grow. Let the adventure begin!”
URL:https://www.crestlinechamber.org/event/activate-einsteins-kid-zones-%f0%9f%93%9a-%e2%9c%a8/2026-04-01/
LOCATION:Crestline Branch Library\, 24105 Lake Gregory Dr\, Crestline\, CA\, 92325
CATEGORIES:Community Event,Family Friendly,Lake Gregory
END:VEVENT
BEGIN:VEVENT
DTSTART;TZID=America/Los_Angeles:20260330T140000
DTEND;TZID=America/Los_Angeles:20260330T150000
DTSTAMP:20260423T153422
CREATED:20250127T200806Z
LAST-MODIFIED:20250127T200806Z
UID:10002948-1774879200-1774882800@www.crestlinechamber.org
SUMMARY:Adult Programs\, Yoga 🧘 🙏
DESCRIPTION:🧘‍♀️ Yoga Sessions:\nFind your inner peace with relaxing and rejuvenating yoga classes. Perfect for beginners and seasoned yogis alike\, these sessions are a great way to unwind and recharge. \n📅 Check the library’s calendar for dates and times. Embrace wellness and learning\, all in one place! ✨
URL:https://www.crestlinechamber.org/event/adult-programs-yoga-%f0%9f%a7%98-%f0%9f%99%8f/2026-03-30/
LOCATION:Crestline Branch Library\, 24105 Lake Gregory Dr\, Crestline\, CA\, 92325
CATEGORIES:Community Event,Family Friendly,Lake Gregory
END:VEVENT
BEGIN:VEVENT
DTSTART;TZID=America/Los_Angeles:20260325T150000
DTEND;TZID=America/Los_Angeles:20260325T160000
DTSTAMP:20260423T153422
CREATED:20250127T200257Z
LAST-MODIFIED:20250127T201232Z
UID:10002687-1774450800-1774454400@www.crestlinechamber.org
SUMMARY:Kid Zones\, Discovery Time  📚 ✨
DESCRIPTION:“Welcome to Kid Zones: Discovery Time 📚✨—a space where young minds explore\, create\, and discover the wonders of the world! From hands-on activities to captivating stories\, every moment is an opportunity to learn and grow. Let the adventure begin!”
URL:https://www.crestlinechamber.org/event/activate-einsteins-kid-zones-%f0%9f%93%9a-%e2%9c%a8/2026-03-25/
LOCATION:Crestline Branch Library\, 24105 Lake Gregory Dr\, Crestline\, CA\, 92325
CATEGORIES:Community Event,Family Friendly,Lake Gregory
END:VEVENT
BEGIN:VEVENT
DTSTART;TZID=America/Los_Angeles:20260323T140000
DTEND;TZID=America/Los_Angeles:20260323T150000
DTSTAMP:20260423T153422
CREATED:20250127T200806Z
LAST-MODIFIED:20250127T200806Z
UID:10002947-1774274400-1774278000@www.crestlinechamber.org
SUMMARY:Adult Programs\, Yoga 🧘 🙏
DESCRIPTION:🧘‍♀️ Yoga Sessions:\nFind your inner peace with relaxing and rejuvenating yoga classes. Perfect for beginners and seasoned yogis alike\, these sessions are a great way to unwind and recharge. \n📅 Check the library’s calendar for dates and times. Embrace wellness and learning\, all in one place! ✨
URL:https://www.crestlinechamber.org/event/adult-programs-yoga-%f0%9f%a7%98-%f0%9f%99%8f/2026-03-23/
LOCATION:Crestline Branch Library\, 24105 Lake Gregory Dr\, Crestline\, CA\, 92325
CATEGORIES:Community Event,Family Friendly,Lake Gregory
END:VEVENT
BEGIN:VEVENT
DTSTART;TZID=America/Los_Angeles:20260318T150000
DTEND;TZID=America/Los_Angeles:20260318T160000
DTSTAMP:20260423T153422
CREATED:20250127T200257Z
LAST-MODIFIED:20250127T201232Z
UID:10002686-1773846000-1773849600@www.crestlinechamber.org
SUMMARY:Kid Zones\, Discovery Time  📚 ✨
DESCRIPTION:“Welcome to Kid Zones: Discovery Time 📚✨—a space where young minds explore\, create\, and discover the wonders of the world! From hands-on activities to captivating stories\, every moment is an opportunity to learn and grow. Let the adventure begin!”
URL:https://www.crestlinechamber.org/event/activate-einsteins-kid-zones-%f0%9f%93%9a-%e2%9c%a8/2026-03-18/
LOCATION:Crestline Branch Library\, 24105 Lake Gregory Dr\, Crestline\, CA\, 92325
CATEGORIES:Community Event,Family Friendly,Lake Gregory
END:VEVENT
BEGIN:VEVENT
DTSTART;TZID=America/Los_Angeles:20260316T140000
DTEND;TZID=America/Los_Angeles:20260316T150000
DTSTAMP:20260423T153422
CREATED:20250127T200806Z
LAST-MODIFIED:20250127T200806Z
UID:10002946-1773669600-1773673200@www.crestlinechamber.org
SUMMARY:Adult Programs\, Yoga 🧘 🙏
DESCRIPTION:🧘‍♀️ Yoga Sessions:\nFind your inner peace with relaxing and rejuvenating yoga classes. Perfect for beginners and seasoned yogis alike\, these sessions are a great way to unwind and recharge. \n📅 Check the library’s calendar for dates and times. Embrace wellness and learning\, all in one place! ✨
URL:https://www.crestlinechamber.org/event/adult-programs-yoga-%f0%9f%a7%98-%f0%9f%99%8f/2026-03-16/
LOCATION:Crestline Branch Library\, 24105 Lake Gregory Dr\, Crestline\, CA\, 92325
CATEGORIES:Community Event,Family Friendly,Lake Gregory
END:VEVENT
BEGIN:VEVENT
DTSTART;TZID=America/Los_Angeles:20260311T150000
DTEND;TZID=America/Los_Angeles:20260311T160000
DTSTAMP:20260423T153422
CREATED:20250127T200257Z
LAST-MODIFIED:20250127T201232Z
UID:10002685-1773241200-1773244800@www.crestlinechamber.org
SUMMARY:Kid Zones\, Discovery Time  📚 ✨
DESCRIPTION:“Welcome to Kid Zones: Discovery Time 📚✨—a space where young minds explore\, create\, and discover the wonders of the world! From hands-on activities to captivating stories\, every moment is an opportunity to learn and grow. Let the adventure begin!”
URL:https://www.crestlinechamber.org/event/activate-einsteins-kid-zones-%f0%9f%93%9a-%e2%9c%a8/2026-03-11/
LOCATION:Crestline Branch Library\, 24105 Lake Gregory Dr\, Crestline\, CA\, 92325
CATEGORIES:Community Event,Family Friendly,Lake Gregory
END:VEVENT
BEGIN:VEVENT
DTSTART;TZID=America/Los_Angeles:20260309T140000
DTEND;TZID=America/Los_Angeles:20260309T150000
DTSTAMP:20260423T153422
CREATED:20250127T200806Z
LAST-MODIFIED:20250127T200806Z
UID:10002945-1773064800-1773068400@www.crestlinechamber.org
SUMMARY:Adult Programs\, Yoga 🧘 🙏
DESCRIPTION:🧘‍♀️ Yoga Sessions:\nFind your inner peace with relaxing and rejuvenating yoga classes. Perfect for beginners and seasoned yogis alike\, these sessions are a great way to unwind and recharge. \n📅 Check the library’s calendar for dates and times. Embrace wellness and learning\, all in one place! ✨
URL:https://www.crestlinechamber.org/event/adult-programs-yoga-%f0%9f%a7%98-%f0%9f%99%8f/2026-03-09/
LOCATION:Crestline Branch Library\, 24105 Lake Gregory Dr\, Crestline\, CA\, 92325
CATEGORIES:Community Event,Family Friendly,Lake Gregory
END:VEVENT
BEGIN:VEVENT
DTSTART;TZID=America/Los_Angeles:20260304T150000
DTEND;TZID=America/Los_Angeles:20260304T160000
DTSTAMP:20260423T153422
CREATED:20250127T200257Z
LAST-MODIFIED:20250127T201232Z
UID:10002684-1772636400-1772640000@www.crestlinechamber.org
SUMMARY:Kid Zones\, Discovery Time  📚 ✨
DESCRIPTION:“Welcome to Kid Zones: Discovery Time 📚✨—a space where young minds explore\, create\, and discover the wonders of the world! From hands-on activities to captivating stories\, every moment is an opportunity to learn and grow. Let the adventure begin!”
URL:https://www.crestlinechamber.org/event/activate-einsteins-kid-zones-%f0%9f%93%9a-%e2%9c%a8/2026-03-04/
LOCATION:Crestline Branch Library\, 24105 Lake Gregory Dr\, Crestline\, CA\, 92325
CATEGORIES:Community Event,Family Friendly,Lake Gregory
END:VEVENT
BEGIN:VEVENT
DTSTART;TZID=America/Los_Angeles:20260302T140000
DTEND;TZID=America/Los_Angeles:20260302T150000
DTSTAMP:20260423T153422
CREATED:20250127T200806Z
LAST-MODIFIED:20250127T200806Z
UID:10002944-1772460000-1772463600@www.crestlinechamber.org
SUMMARY:Adult Programs\, Yoga 🧘 🙏
DESCRIPTION:🧘‍♀️ Yoga Sessions:\nFind your inner peace with relaxing and rejuvenating yoga classes. Perfect for beginners and seasoned yogis alike\, these sessions are a great way to unwind and recharge. \n📅 Check the library’s calendar for dates and times. Embrace wellness and learning\, all in one place! ✨
URL:https://www.crestlinechamber.org/event/adult-programs-yoga-%f0%9f%a7%98-%f0%9f%99%8f/2026-03-02/
LOCATION:Crestline Branch Library\, 24105 Lake Gregory Dr\, Crestline\, CA\, 92325
CATEGORIES:Community Event,Family Friendly,Lake Gregory
END:VEVENT
BEGIN:VEVENT
DTSTART;TZID=America/Los_Angeles:20260225T150000
DTEND;TZID=America/Los_Angeles:20260225T160000
DTSTAMP:20260423T153422
CREATED:20250127T200257Z
LAST-MODIFIED:20250127T201232Z
UID:10002683-1772031600-1772035200@www.crestlinechamber.org
SUMMARY:Kid Zones\, Discovery Time  📚 ✨
DESCRIPTION:“Welcome to Kid Zones: Discovery Time 📚✨—a space where young minds explore\, create\, and discover the wonders of the world! From hands-on activities to captivating stories\, every moment is an opportunity to learn and grow. Let the adventure begin!”
URL:https://www.crestlinechamber.org/event/activate-einsteins-kid-zones-%f0%9f%93%9a-%e2%9c%a8/2026-02-25/
LOCATION:Crestline Branch Library\, 24105 Lake Gregory Dr\, Crestline\, CA\, 92325
CATEGORIES:Community Event,Family Friendly,Lake Gregory
END:VEVENT
BEGIN:VEVENT
DTSTART;TZID=America/Los_Angeles:20260223T140000
DTEND;TZID=America/Los_Angeles:20260223T150000
DTSTAMP:20260423T153422
CREATED:20250127T200806Z
LAST-MODIFIED:20250127T200806Z
UID:10002943-1771855200-1771858800@www.crestlinechamber.org
SUMMARY:Adult Programs\, Yoga 🧘 🙏
DESCRIPTION:🧘‍♀️ Yoga Sessions:\nFind your inner peace with relaxing and rejuvenating yoga classes. Perfect for beginners and seasoned yogis alike\, these sessions are a great way to unwind and recharge. \n📅 Check the library’s calendar for dates and times. Embrace wellness and learning\, all in one place! ✨
URL:https://www.crestlinechamber.org/event/adult-programs-yoga-%f0%9f%a7%98-%f0%9f%99%8f/2026-02-23/
LOCATION:Crestline Branch Library\, 24105 Lake Gregory Dr\, Crestline\, CA\, 92325
CATEGORIES:Community Event,Family Friendly,Lake Gregory
END:VEVENT
BEGIN:VEVENT
DTSTART;TZID=America/Los_Angeles:20260218T150000
DTEND;TZID=America/Los_Angeles:20260218T160000
DTSTAMP:20260423T153422
CREATED:20250127T200257Z
LAST-MODIFIED:20250127T201232Z
UID:10002682-1771426800-1771430400@www.crestlinechamber.org
SUMMARY:Kid Zones\, Discovery Time  📚 ✨
DESCRIPTION:“Welcome to Kid Zones: Discovery Time 📚✨—a space where young minds explore\, create\, and discover the wonders of the world! From hands-on activities to captivating stories\, every moment is an opportunity to learn and grow. Let the adventure begin!”
URL:https://www.crestlinechamber.org/event/activate-einsteins-kid-zones-%f0%9f%93%9a-%e2%9c%a8/2026-02-18/
LOCATION:Crestline Branch Library\, 24105 Lake Gregory Dr\, Crestline\, CA\, 92325
CATEGORIES:Community Event,Family Friendly,Lake Gregory
END:VEVENT
BEGIN:VEVENT
DTSTART;TZID=America/Los_Angeles:20260216T140000
DTEND;TZID=America/Los_Angeles:20260216T150000
DTSTAMP:20260423T153422
CREATED:20250127T200806Z
LAST-MODIFIED:20250127T200806Z
UID:10002942-1771250400-1771254000@www.crestlinechamber.org
SUMMARY:Adult Programs\, Yoga 🧘 🙏
DESCRIPTION:🧘‍♀️ Yoga Sessions:\nFind your inner peace with relaxing and rejuvenating yoga classes. Perfect for beginners and seasoned yogis alike\, these sessions are a great way to unwind and recharge. \n📅 Check the library’s calendar for dates and times. Embrace wellness and learning\, all in one place! ✨
URL:https://www.crestlinechamber.org/event/adult-programs-yoga-%f0%9f%a7%98-%f0%9f%99%8f/2026-02-16/
LOCATION:Crestline Branch Library\, 24105 Lake Gregory Dr\, Crestline\, CA\, 92325
CATEGORIES:Community Event,Family Friendly,Lake Gregory
END:VEVENT
BEGIN:VEVENT
DTSTART;TZID=America/Los_Angeles:20260211T150000
DTEND;TZID=America/Los_Angeles:20260211T160000
DTSTAMP:20260423T153422
CREATED:20250127T200257Z
LAST-MODIFIED:20250127T201232Z
UID:10002681-1770822000-1770825600@www.crestlinechamber.org
SUMMARY:Kid Zones\, Discovery Time  📚 ✨
DESCRIPTION:“Welcome to Kid Zones: Discovery Time 📚✨—a space where young minds explore\, create\, and discover the wonders of the world! From hands-on activities to captivating stories\, every moment is an opportunity to learn and grow. Let the adventure begin!”
URL:https://www.crestlinechamber.org/event/activate-einsteins-kid-zones-%f0%9f%93%9a-%e2%9c%a8/2026-02-11/
LOCATION:Crestline Branch Library\, 24105 Lake Gregory Dr\, Crestline\, CA\, 92325
CATEGORIES:Community Event,Family Friendly,Lake Gregory
END:VEVENT
BEGIN:VEVENT
DTSTART;TZID=America/Los_Angeles:20260209T140000
DTEND;TZID=America/Los_Angeles:20260209T150000
DTSTAMP:20260423T153422
CREATED:20250127T200806Z
LAST-MODIFIED:20250127T200806Z
UID:10002941-1770645600-1770649200@www.crestlinechamber.org
SUMMARY:Adult Programs\, Yoga 🧘 🙏
DESCRIPTION:🧘‍♀️ Yoga Sessions:\nFind your inner peace with relaxing and rejuvenating yoga classes. Perfect for beginners and seasoned yogis alike\, these sessions are a great way to unwind and recharge. \n📅 Check the library’s calendar for dates and times. Embrace wellness and learning\, all in one place! ✨
URL:https://www.crestlinechamber.org/event/adult-programs-yoga-%f0%9f%a7%98-%f0%9f%99%8f/2026-02-09/
LOCATION:Crestline Branch Library\, 24105 Lake Gregory Dr\, Crestline\, CA\, 92325
CATEGORIES:Community Event,Family Friendly,Lake Gregory
END:VEVENT
BEGIN:VEVENT
DTSTART;TZID=America/Los_Angeles:20260204T150000
DTEND;TZID=America/Los_Angeles:20260204T160000
DTSTAMP:20260423T153422
CREATED:20250127T200257Z
LAST-MODIFIED:20250127T201232Z
UID:10002680-1770217200-1770220800@www.crestlinechamber.org
SUMMARY:Kid Zones\, Discovery Time  📚 ✨
DESCRIPTION:“Welcome to Kid Zones: Discovery Time 📚✨—a space where young minds explore\, create\, and discover the wonders of the world! From hands-on activities to captivating stories\, every moment is an opportunity to learn and grow. Let the adventure begin!”
URL:https://www.crestlinechamber.org/event/activate-einsteins-kid-zones-%f0%9f%93%9a-%e2%9c%a8/2026-02-04/
LOCATION:Crestline Branch Library\, 24105 Lake Gregory Dr\, Crestline\, CA\, 92325
CATEGORIES:Community Event,Family Friendly,Lake Gregory
END:VEVENT
BEGIN:VEVENT
DTSTART;TZID=America/Los_Angeles:20260202T140000
DTEND;TZID=America/Los_Angeles:20260202T150000
DTSTAMP:20260423T153422
CREATED:20250127T200806Z
LAST-MODIFIED:20250127T200806Z
UID:10002940-1770040800-1770044400@www.crestlinechamber.org
SUMMARY:Adult Programs\, Yoga 🧘 🙏
DESCRIPTION:🧘‍♀️ Yoga Sessions:\nFind your inner peace with relaxing and rejuvenating yoga classes. Perfect for beginners and seasoned yogis alike\, these sessions are a great way to unwind and recharge. \n📅 Check the library’s calendar for dates and times. Embrace wellness and learning\, all in one place! ✨
URL:https://www.crestlinechamber.org/event/adult-programs-yoga-%f0%9f%a7%98-%f0%9f%99%8f/2026-02-02/
LOCATION:Crestline Branch Library\, 24105 Lake Gregory Dr\, Crestline\, CA\, 92325
CATEGORIES:Community Event,Family Friendly,Lake Gregory
END:VEVENT
BEGIN:VEVENT
DTSTART;TZID=America/Los_Angeles:20260128T150000
DTEND;TZID=America/Los_Angeles:20260128T160000
DTSTAMP:20260423T153422
CREATED:20250127T200257Z
LAST-MODIFIED:20250127T201232Z
UID:10002679-1769612400-1769616000@www.crestlinechamber.org
SUMMARY:Kid Zones\, Discovery Time  📚 ✨
DESCRIPTION:“Welcome to Kid Zones: Discovery Time 📚✨—a space where young minds explore\, create\, and discover the wonders of the world! From hands-on activities to captivating stories\, every moment is an opportunity to learn and grow. Let the adventure begin!”
URL:https://www.crestlinechamber.org/event/activate-einsteins-kid-zones-%f0%9f%93%9a-%e2%9c%a8/2026-01-28/
LOCATION:Crestline Branch Library\, 24105 Lake Gregory Dr\, Crestline\, CA\, 92325
CATEGORIES:Community Event,Family Friendly,Lake Gregory
END:VEVENT
BEGIN:VEVENT
DTSTART;TZID=America/Los_Angeles:20260126T140000
DTEND;TZID=America/Los_Angeles:20260126T150000
DTSTAMP:20260423T153422
CREATED:20250127T200806Z
LAST-MODIFIED:20250127T200806Z
UID:10002939-1769436000-1769439600@www.crestlinechamber.org
SUMMARY:Adult Programs\, Yoga 🧘 🙏
DESCRIPTION:🧘‍♀️ Yoga Sessions:\nFind your inner peace with relaxing and rejuvenating yoga classes. Perfect for beginners and seasoned yogis alike\, these sessions are a great way to unwind and recharge. \n📅 Check the library’s calendar for dates and times. Embrace wellness and learning\, all in one place! ✨
URL:https://www.crestlinechamber.org/event/adult-programs-yoga-%f0%9f%a7%98-%f0%9f%99%8f/2026-01-26/
LOCATION:Crestline Branch Library\, 24105 Lake Gregory Dr\, Crestline\, CA\, 92325
CATEGORIES:Community Event,Family Friendly,Lake Gregory
END:VEVENT
BEGIN:VEVENT
DTSTART;TZID=America/Los_Angeles:20260121T150000
DTEND;TZID=America/Los_Angeles:20260121T160000
DTSTAMP:20260423T153422
CREATED:20250127T200257Z
LAST-MODIFIED:20250127T201232Z
UID:10002678-1769007600-1769011200@www.crestlinechamber.org
SUMMARY:Kid Zones\, Discovery Time  📚 ✨
DESCRIPTION:“Welcome to Kid Zones: Discovery Time 📚✨—a space where young minds explore\, create\, and discover the wonders of the world! From hands-on activities to captivating stories\, every moment is an opportunity to learn and grow. Let the adventure begin!”
URL:https://www.crestlinechamber.org/event/activate-einsteins-kid-zones-%f0%9f%93%9a-%e2%9c%a8/2026-01-21/
LOCATION:Crestline Branch Library\, 24105 Lake Gregory Dr\, Crestline\, CA\, 92325
CATEGORIES:Community Event,Family Friendly,Lake Gregory
END:VEVENT
BEGIN:VEVENT
DTSTART;TZID=America/Los_Angeles:20260119T140000
DTEND;TZID=America/Los_Angeles:20260119T150000
DTSTAMP:20260423T153422
CREATED:20250127T200806Z
LAST-MODIFIED:20250127T200806Z
UID:10002938-1768831200-1768834800@www.crestlinechamber.org
SUMMARY:Adult Programs\, Yoga 🧘 🙏
DESCRIPTION:🧘‍♀️ Yoga Sessions:\nFind your inner peace with relaxing and rejuvenating yoga classes. Perfect for beginners and seasoned yogis alike\, these sessions are a great way to unwind and recharge. \n📅 Check the library’s calendar for dates and times. Embrace wellness and learning\, all in one place! ✨
URL:https://www.crestlinechamber.org/event/adult-programs-yoga-%f0%9f%a7%98-%f0%9f%99%8f/2026-01-19/
LOCATION:Crestline Branch Library\, 24105 Lake Gregory Dr\, Crestline\, CA\, 92325
CATEGORIES:Community Event,Family Friendly,Lake Gregory
END:VEVENT
BEGIN:VEVENT
DTSTART;TZID=America/Los_Angeles:20260114T150000
DTEND;TZID=America/Los_Angeles:20260114T160000
DTSTAMP:20260423T153422
CREATED:20250127T200257Z
LAST-MODIFIED:20250127T201232Z
UID:10002677-1768402800-1768406400@www.crestlinechamber.org
SUMMARY:Kid Zones\, Discovery Time  📚 ✨
DESCRIPTION:“Welcome to Kid Zones: Discovery Time 📚✨—a space where young minds explore\, create\, and discover the wonders of the world! From hands-on activities to captivating stories\, every moment is an opportunity to learn and grow. Let the adventure begin!”
URL:https://www.crestlinechamber.org/event/activate-einsteins-kid-zones-%f0%9f%93%9a-%e2%9c%a8/2026-01-14/
LOCATION:Crestline Branch Library\, 24105 Lake Gregory Dr\, Crestline\, CA\, 92325
CATEGORIES:Community Event,Family Friendly,Lake Gregory
END:VEVENT
BEGIN:VEVENT
DTSTART;TZID=America/Los_Angeles:20260112T140000
DTEND;TZID=America/Los_Angeles:20260112T150000
DTSTAMP:20260423T153422
CREATED:20250127T200806Z
LAST-MODIFIED:20250127T200806Z
UID:10002937-1768226400-1768230000@www.crestlinechamber.org
SUMMARY:Adult Programs\, Yoga 🧘 🙏
DESCRIPTION:🧘‍♀️ Yoga Sessions:\nFind your inner peace with relaxing and rejuvenating yoga classes. Perfect for beginners and seasoned yogis alike\, these sessions are a great way to unwind and recharge. \n📅 Check the library’s calendar for dates and times. Embrace wellness and learning\, all in one place! ✨
URL:https://www.crestlinechamber.org/event/adult-programs-yoga-%f0%9f%a7%98-%f0%9f%99%8f/2026-01-12/
LOCATION:Crestline Branch Library\, 24105 Lake Gregory Dr\, Crestline\, CA\, 92325
CATEGORIES:Community Event,Family Friendly,Lake Gregory
END:VEVENT
END:VCALENDAR