BEGIN:VCALENDAR
VERSION:2.0
PRODID:-//Crestline Chamber of Commerce - ECPv6.15.20//NONSGML v1.0//EN
CALSCALE:GREGORIAN
METHOD:PUBLISH
X-WR-CALNAME:Crestline Chamber of Commerce
X-ORIGINAL-URL:https://www.crestlinechamber.org
X-WR-CALDESC:Events for Crestline Chamber of Commerce
REFRESH-INTERVAL;VALUE=DURATION:PT1H
X-Robots-Tag:noindex
X-PUBLISHED-TTL:PT1H
BEGIN:VTIMEZONE
TZID:America/Los_Angeles
BEGIN:DAYLIGHT
TZOFFSETFROM:-0800
TZOFFSETTO:-0700
TZNAME:PDT
DTSTART:20240310T100000
END:DAYLIGHT
BEGIN:STANDARD
TZOFFSETFROM:-0700
TZOFFSETTO:-0800
TZNAME:PST
DTSTART:20241103T090000
END:STANDARD
BEGIN:DAYLIGHT
TZOFFSETFROM:-0800
TZOFFSETTO:-0700
TZNAME:PDT
DTSTART:20250309T100000
END:DAYLIGHT
BEGIN:STANDARD
TZOFFSETFROM:-0700
TZOFFSETTO:-0800
TZNAME:PST
DTSTART:20251102T090000
END:STANDARD
BEGIN:DAYLIGHT
TZOFFSETFROM:-0800
TZOFFSETTO:-0700
TZNAME:PDT
DTSTART:20260308T100000
END:DAYLIGHT
BEGIN:STANDARD
TZOFFSETFROM:-0700
TZOFFSETTO:-0800
TZNAME:PST
DTSTART:20261101T090000
END:STANDARD
END:VTIMEZONE
BEGIN:VEVENT
DTSTART;TZID=America/Los_Angeles:20251217T150000
DTEND;TZID=America/Los_Angeles:20251217T160000
DTSTAMP:20260423T215510
CREATED:20250127T200257Z
LAST-MODIFIED:20250127T201232Z
UID:10002673-1765983600-1765987200@www.crestlinechamber.org
SUMMARY:Kid Zones\, Discovery Time  📚 ✨
DESCRIPTION:“Welcome to Kid Zones: Discovery Time 📚✨—a space where young minds explore\, create\, and discover the wonders of the world! From hands-on activities to captivating stories\, every moment is an opportunity to learn and grow. Let the adventure begin!”
URL:https://www.crestlinechamber.org/event/activate-einsteins-kid-zones-%f0%9f%93%9a-%e2%9c%a8/2025-12-17/
LOCATION:Crestline Branch Library\, 24105 Lake Gregory Dr\, Crestline\, CA\, 92325
CATEGORIES:Community Event,Family Friendly,Lake Gregory
END:VEVENT
BEGIN:VEVENT
DTSTART;TZID=America/Los_Angeles:20251215T140000
DTEND;TZID=America/Los_Angeles:20251215T150000
DTSTAMP:20260423T215510
CREATED:20250127T200806Z
LAST-MODIFIED:20250127T200806Z
UID:10002933-1765807200-1765810800@www.crestlinechamber.org
SUMMARY:Adult Programs\, Yoga 🧘 🙏
DESCRIPTION:🧘‍♀️ Yoga Sessions:\nFind your inner peace with relaxing and rejuvenating yoga classes. Perfect for beginners and seasoned yogis alike\, these sessions are a great way to unwind and recharge. \n📅 Check the library’s calendar for dates and times. Embrace wellness and learning\, all in one place! ✨
URL:https://www.crestlinechamber.org/event/adult-programs-yoga-%f0%9f%a7%98-%f0%9f%99%8f/2025-12-15/
LOCATION:Crestline Branch Library\, 24105 Lake Gregory Dr\, Crestline\, CA\, 92325
CATEGORIES:Community Event,Family Friendly,Lake Gregory
END:VEVENT
BEGIN:VEVENT
DTSTART;TZID=America/Los_Angeles:20251210T150000
DTEND;TZID=America/Los_Angeles:20251210T160000
DTSTAMP:20260423T215510
CREATED:20250127T200257Z
LAST-MODIFIED:20250127T201232Z
UID:10002672-1765378800-1765382400@www.crestlinechamber.org
SUMMARY:Kid Zones\, Discovery Time  📚 ✨
DESCRIPTION:“Welcome to Kid Zones: Discovery Time 📚✨—a space where young minds explore\, create\, and discover the wonders of the world! From hands-on activities to captivating stories\, every moment is an opportunity to learn and grow. Let the adventure begin!”
URL:https://www.crestlinechamber.org/event/activate-einsteins-kid-zones-%f0%9f%93%9a-%e2%9c%a8/2025-12-10/
LOCATION:Crestline Branch Library\, 24105 Lake Gregory Dr\, Crestline\, CA\, 92325
CATEGORIES:Community Event,Family Friendly,Lake Gregory
END:VEVENT
BEGIN:VEVENT
DTSTART;TZID=America/Los_Angeles:20251208T140000
DTEND;TZID=America/Los_Angeles:20251208T150000
DTSTAMP:20260423T215510
CREATED:20250127T200806Z
LAST-MODIFIED:20250127T200806Z
UID:10002932-1765202400-1765206000@www.crestlinechamber.org
SUMMARY:Adult Programs\, Yoga 🧘 🙏
DESCRIPTION:🧘‍♀️ Yoga Sessions:\nFind your inner peace with relaxing and rejuvenating yoga classes. Perfect for beginners and seasoned yogis alike\, these sessions are a great way to unwind and recharge. \n📅 Check the library’s calendar for dates and times. Embrace wellness and learning\, all in one place! ✨
URL:https://www.crestlinechamber.org/event/adult-programs-yoga-%f0%9f%a7%98-%f0%9f%99%8f/2025-12-08/
LOCATION:Crestline Branch Library\, 24105 Lake Gregory Dr\, Crestline\, CA\, 92325
CATEGORIES:Community Event,Family Friendly,Lake Gregory
END:VEVENT
BEGIN:VEVENT
DTSTART;TZID=America/Los_Angeles:20251203T150000
DTEND;TZID=America/Los_Angeles:20251203T160000
DTSTAMP:20260423T215510
CREATED:20250127T200257Z
LAST-MODIFIED:20250127T201232Z
UID:10002671-1764774000-1764777600@www.crestlinechamber.org
SUMMARY:Kid Zones\, Discovery Time  📚 ✨
DESCRIPTION:“Welcome to Kid Zones: Discovery Time 📚✨—a space where young minds explore\, create\, and discover the wonders of the world! From hands-on activities to captivating stories\, every moment is an opportunity to learn and grow. Let the adventure begin!”
URL:https://www.crestlinechamber.org/event/activate-einsteins-kid-zones-%f0%9f%93%9a-%e2%9c%a8/2025-12-03/
LOCATION:Crestline Branch Library\, 24105 Lake Gregory Dr\, Crestline\, CA\, 92325
CATEGORIES:Community Event,Family Friendly,Lake Gregory
END:VEVENT
BEGIN:VEVENT
DTSTART;TZID=America/Los_Angeles:20251201T140000
DTEND;TZID=America/Los_Angeles:20251201T150000
DTSTAMP:20260423T215510
CREATED:20250127T200806Z
LAST-MODIFIED:20250127T200806Z
UID:10002931-1764597600-1764601200@www.crestlinechamber.org
SUMMARY:Adult Programs\, Yoga 🧘 🙏
DESCRIPTION:🧘‍♀️ Yoga Sessions:\nFind your inner peace with relaxing and rejuvenating yoga classes. Perfect for beginners and seasoned yogis alike\, these sessions are a great way to unwind and recharge. \n📅 Check the library’s calendar for dates and times. Embrace wellness and learning\, all in one place! ✨
URL:https://www.crestlinechamber.org/event/adult-programs-yoga-%f0%9f%a7%98-%f0%9f%99%8f/2025-12-01/
LOCATION:Crestline Branch Library\, 24105 Lake Gregory Dr\, Crestline\, CA\, 92325
CATEGORIES:Community Event,Family Friendly,Lake Gregory
END:VEVENT
BEGIN:VEVENT
DTSTART;TZID=America/Los_Angeles:20251126T150000
DTEND;TZID=America/Los_Angeles:20251126T160000
DTSTAMP:20260423T215510
CREATED:20250127T200257Z
LAST-MODIFIED:20250127T201232Z
UID:10002670-1764169200-1764172800@www.crestlinechamber.org
SUMMARY:Kid Zones\, Discovery Time  📚 ✨
DESCRIPTION:“Welcome to Kid Zones: Discovery Time 📚✨—a space where young minds explore\, create\, and discover the wonders of the world! From hands-on activities to captivating stories\, every moment is an opportunity to learn and grow. Let the adventure begin!”
URL:https://www.crestlinechamber.org/event/activate-einsteins-kid-zones-%f0%9f%93%9a-%e2%9c%a8/2025-11-26/
LOCATION:Crestline Branch Library\, 24105 Lake Gregory Dr\, Crestline\, CA\, 92325
CATEGORIES:Community Event,Family Friendly,Lake Gregory
END:VEVENT
BEGIN:VEVENT
DTSTART;TZID=America/Los_Angeles:20251124T140000
DTEND;TZID=America/Los_Angeles:20251124T150000
DTSTAMP:20260423T215510
CREATED:20250127T200806Z
LAST-MODIFIED:20250127T200806Z
UID:10002930-1763992800-1763996400@www.crestlinechamber.org
SUMMARY:Adult Programs\, Yoga 🧘 🙏
DESCRIPTION:🧘‍♀️ Yoga Sessions:\nFind your inner peace with relaxing and rejuvenating yoga classes. Perfect for beginners and seasoned yogis alike\, these sessions are a great way to unwind and recharge. \n📅 Check the library’s calendar for dates and times. Embrace wellness and learning\, all in one place! ✨
URL:https://www.crestlinechamber.org/event/adult-programs-yoga-%f0%9f%a7%98-%f0%9f%99%8f/2025-11-24/
LOCATION:Crestline Branch Library\, 24105 Lake Gregory Dr\, Crestline\, CA\, 92325
CATEGORIES:Community Event,Family Friendly,Lake Gregory
END:VEVENT
BEGIN:VEVENT
DTSTART;TZID=America/Los_Angeles:20251119T150000
DTEND;TZID=America/Los_Angeles:20251119T160000
DTSTAMP:20260423T215510
CREATED:20250127T200257Z
LAST-MODIFIED:20250127T201232Z
UID:10002669-1763564400-1763568000@www.crestlinechamber.org
SUMMARY:Kid Zones\, Discovery Time  📚 ✨
DESCRIPTION:“Welcome to Kid Zones: Discovery Time 📚✨—a space where young minds explore\, create\, and discover the wonders of the world! From hands-on activities to captivating stories\, every moment is an opportunity to learn and grow. Let the adventure begin!”
URL:https://www.crestlinechamber.org/event/activate-einsteins-kid-zones-%f0%9f%93%9a-%e2%9c%a8/2025-11-19/
LOCATION:Crestline Branch Library\, 24105 Lake Gregory Dr\, Crestline\, CA\, 92325
CATEGORIES:Community Event,Family Friendly,Lake Gregory
END:VEVENT
BEGIN:VEVENT
DTSTART;TZID=America/Los_Angeles:20251117T140000
DTEND;TZID=America/Los_Angeles:20251117T150000
DTSTAMP:20260423T215510
CREATED:20250127T200806Z
LAST-MODIFIED:20250127T200806Z
UID:10002929-1763388000-1763391600@www.crestlinechamber.org
SUMMARY:Adult Programs\, Yoga 🧘 🙏
DESCRIPTION:🧘‍♀️ Yoga Sessions:\nFind your inner peace with relaxing and rejuvenating yoga classes. Perfect for beginners and seasoned yogis alike\, these sessions are a great way to unwind and recharge. \n📅 Check the library’s calendar for dates and times. Embrace wellness and learning\, all in one place! ✨
URL:https://www.crestlinechamber.org/event/adult-programs-yoga-%f0%9f%a7%98-%f0%9f%99%8f/2025-11-17/
LOCATION:Crestline Branch Library\, 24105 Lake Gregory Dr\, Crestline\, CA\, 92325
CATEGORIES:Community Event,Family Friendly,Lake Gregory
END:VEVENT
BEGIN:VEVENT
DTSTART;TZID=America/Los_Angeles:20251112T150000
DTEND;TZID=America/Los_Angeles:20251112T160000
DTSTAMP:20260423T215510
CREATED:20250127T200257Z
LAST-MODIFIED:20250127T201232Z
UID:10002668-1762959600-1762963200@www.crestlinechamber.org
SUMMARY:Kid Zones\, Discovery Time  📚 ✨
DESCRIPTION:“Welcome to Kid Zones: Discovery Time 📚✨—a space where young minds explore\, create\, and discover the wonders of the world! From hands-on activities to captivating stories\, every moment is an opportunity to learn and grow. Let the adventure begin!”
URL:https://www.crestlinechamber.org/event/activate-einsteins-kid-zones-%f0%9f%93%9a-%e2%9c%a8/2025-11-12/
LOCATION:Crestline Branch Library\, 24105 Lake Gregory Dr\, Crestline\, CA\, 92325
CATEGORIES:Community Event,Family Friendly,Lake Gregory
END:VEVENT
BEGIN:VEVENT
DTSTART;TZID=America/Los_Angeles:20251110T140000
DTEND;TZID=America/Los_Angeles:20251110T150000
DTSTAMP:20260423T215510
CREATED:20250127T200806Z
LAST-MODIFIED:20250127T200806Z
UID:10002928-1762783200-1762786800@www.crestlinechamber.org
SUMMARY:Adult Programs\, Yoga 🧘 🙏
DESCRIPTION:🧘‍♀️ Yoga Sessions:\nFind your inner peace with relaxing and rejuvenating yoga classes. Perfect for beginners and seasoned yogis alike\, these sessions are a great way to unwind and recharge. \n📅 Check the library’s calendar for dates and times. Embrace wellness and learning\, all in one place! ✨
URL:https://www.crestlinechamber.org/event/adult-programs-yoga-%f0%9f%a7%98-%f0%9f%99%8f/2025-11-10/
LOCATION:Crestline Branch Library\, 24105 Lake Gregory Dr\, Crestline\, CA\, 92325
CATEGORIES:Community Event,Family Friendly,Lake Gregory
END:VEVENT
BEGIN:VEVENT
DTSTART;TZID=America/Los_Angeles:20251105T150000
DTEND;TZID=America/Los_Angeles:20251105T160000
DTSTAMP:20260423T215510
CREATED:20250127T200257Z
LAST-MODIFIED:20250127T201232Z
UID:10002667-1762354800-1762358400@www.crestlinechamber.org
SUMMARY:Kid Zones\, Discovery Time  📚 ✨
DESCRIPTION:“Welcome to Kid Zones: Discovery Time 📚✨—a space where young minds explore\, create\, and discover the wonders of the world! From hands-on activities to captivating stories\, every moment is an opportunity to learn and grow. Let the adventure begin!”
URL:https://www.crestlinechamber.org/event/activate-einsteins-kid-zones-%f0%9f%93%9a-%e2%9c%a8/2025-11-05/
LOCATION:Crestline Branch Library\, 24105 Lake Gregory Dr\, Crestline\, CA\, 92325
CATEGORIES:Community Event,Family Friendly,Lake Gregory
END:VEVENT
BEGIN:VEVENT
DTSTART;TZID=America/Los_Angeles:20251103T140000
DTEND;TZID=America/Los_Angeles:20251103T150000
DTSTAMP:20260423T215510
CREATED:20250127T200806Z
LAST-MODIFIED:20250127T200806Z
UID:10002927-1762178400-1762182000@www.crestlinechamber.org
SUMMARY:Adult Programs\, Yoga 🧘 🙏
DESCRIPTION:🧘‍♀️ Yoga Sessions:\nFind your inner peace with relaxing and rejuvenating yoga classes. Perfect for beginners and seasoned yogis alike\, these sessions are a great way to unwind and recharge. \n📅 Check the library’s calendar for dates and times. Embrace wellness and learning\, all in one place! ✨
URL:https://www.crestlinechamber.org/event/adult-programs-yoga-%f0%9f%a7%98-%f0%9f%99%8f/2025-11-03/
LOCATION:Crestline Branch Library\, 24105 Lake Gregory Dr\, Crestline\, CA\, 92325
CATEGORIES:Community Event,Family Friendly,Lake Gregory
END:VEVENT
BEGIN:VEVENT
DTSTART;TZID=America/Los_Angeles:20251029T150000
DTEND;TZID=America/Los_Angeles:20251029T160000
DTSTAMP:20260423T215510
CREATED:20250127T200257Z
LAST-MODIFIED:20250127T201232Z
UID:10002666-1761750000-1761753600@www.crestlinechamber.org
SUMMARY:Kid Zones\, Discovery Time  📚 ✨
DESCRIPTION:“Welcome to Kid Zones: Discovery Time 📚✨—a space where young minds explore\, create\, and discover the wonders of the world! From hands-on activities to captivating stories\, every moment is an opportunity to learn and grow. Let the adventure begin!”
URL:https://www.crestlinechamber.org/event/activate-einsteins-kid-zones-%f0%9f%93%9a-%e2%9c%a8/2025-10-29/
LOCATION:Crestline Branch Library\, 24105 Lake Gregory Dr\, Crestline\, CA\, 92325
CATEGORIES:Community Event,Family Friendly,Lake Gregory
END:VEVENT
BEGIN:VEVENT
DTSTART;TZID=America/Los_Angeles:20251027T140000
DTEND;TZID=America/Los_Angeles:20251027T150000
DTSTAMP:20260423T215510
CREATED:20250127T200806Z
LAST-MODIFIED:20250127T200806Z
UID:10002926-1761573600-1761577200@www.crestlinechamber.org
SUMMARY:Adult Programs\, Yoga 🧘 🙏
DESCRIPTION:🧘‍♀️ Yoga Sessions:\nFind your inner peace with relaxing and rejuvenating yoga classes. Perfect for beginners and seasoned yogis alike\, these sessions are a great way to unwind and recharge. \n📅 Check the library’s calendar for dates and times. Embrace wellness and learning\, all in one place! ✨
URL:https://www.crestlinechamber.org/event/adult-programs-yoga-%f0%9f%a7%98-%f0%9f%99%8f/2025-10-27/
LOCATION:Crestline Branch Library\, 24105 Lake Gregory Dr\, Crestline\, CA\, 92325
CATEGORIES:Community Event,Family Friendly,Lake Gregory
END:VEVENT
BEGIN:VEVENT
DTSTART;TZID=America/Los_Angeles:20251022T150000
DTEND;TZID=America/Los_Angeles:20251022T160000
DTSTAMP:20260423T215510
CREATED:20250127T200257Z
LAST-MODIFIED:20250127T201232Z
UID:10002665-1761145200-1761148800@www.crestlinechamber.org
SUMMARY:Kid Zones\, Discovery Time  📚 ✨
DESCRIPTION:“Welcome to Kid Zones: Discovery Time 📚✨—a space where young minds explore\, create\, and discover the wonders of the world! From hands-on activities to captivating stories\, every moment is an opportunity to learn and grow. Let the adventure begin!”
URL:https://www.crestlinechamber.org/event/activate-einsteins-kid-zones-%f0%9f%93%9a-%e2%9c%a8/2025-10-22/
LOCATION:Crestline Branch Library\, 24105 Lake Gregory Dr\, Crestline\, CA\, 92325
CATEGORIES:Community Event,Family Friendly,Lake Gregory
END:VEVENT
BEGIN:VEVENT
DTSTART;TZID=America/Los_Angeles:20251020T140000
DTEND;TZID=America/Los_Angeles:20251020T150000
DTSTAMP:20260423T215510
CREATED:20250127T200806Z
LAST-MODIFIED:20250127T200806Z
UID:10002925-1760968800-1760972400@www.crestlinechamber.org
SUMMARY:Adult Programs\, Yoga 🧘 🙏
DESCRIPTION:🧘‍♀️ Yoga Sessions:\nFind your inner peace with relaxing and rejuvenating yoga classes. Perfect for beginners and seasoned yogis alike\, these sessions are a great way to unwind and recharge. \n📅 Check the library’s calendar for dates and times. Embrace wellness and learning\, all in one place! ✨
URL:https://www.crestlinechamber.org/event/adult-programs-yoga-%f0%9f%a7%98-%f0%9f%99%8f/2025-10-20/
LOCATION:Crestline Branch Library\, 24105 Lake Gregory Dr\, Crestline\, CA\, 92325
CATEGORIES:Community Event,Family Friendly,Lake Gregory
END:VEVENT
BEGIN:VEVENT
DTSTART;TZID=America/Los_Angeles:20251015T150000
DTEND;TZID=America/Los_Angeles:20251015T160000
DTSTAMP:20260423T215510
CREATED:20250127T200257Z
LAST-MODIFIED:20250127T201232Z
UID:10002664-1760540400-1760544000@www.crestlinechamber.org
SUMMARY:Kid Zones\, Discovery Time  📚 ✨
DESCRIPTION:“Welcome to Kid Zones: Discovery Time 📚✨—a space where young minds explore\, create\, and discover the wonders of the world! From hands-on activities to captivating stories\, every moment is an opportunity to learn and grow. Let the adventure begin!”
URL:https://www.crestlinechamber.org/event/activate-einsteins-kid-zones-%f0%9f%93%9a-%e2%9c%a8/2025-10-15/
LOCATION:Crestline Branch Library\, 24105 Lake Gregory Dr\, Crestline\, CA\, 92325
CATEGORIES:Community Event,Family Friendly,Lake Gregory
END:VEVENT
BEGIN:VEVENT
DTSTART;TZID=America/Los_Angeles:20251013T140000
DTEND;TZID=America/Los_Angeles:20251013T150000
DTSTAMP:20260423T215510
CREATED:20250127T200806Z
LAST-MODIFIED:20250127T200806Z
UID:10002924-1760364000-1760367600@www.crestlinechamber.org
SUMMARY:Adult Programs\, Yoga 🧘 🙏
DESCRIPTION:🧘‍♀️ Yoga Sessions:\nFind your inner peace with relaxing and rejuvenating yoga classes. Perfect for beginners and seasoned yogis alike\, these sessions are a great way to unwind and recharge. \n📅 Check the library’s calendar for dates and times. Embrace wellness and learning\, all in one place! ✨
URL:https://www.crestlinechamber.org/event/adult-programs-yoga-%f0%9f%a7%98-%f0%9f%99%8f/2025-10-13/
LOCATION:Crestline Branch Library\, 24105 Lake Gregory Dr\, Crestline\, CA\, 92325
CATEGORIES:Community Event,Family Friendly,Lake Gregory
END:VEVENT
BEGIN:VEVENT
DTSTART;TZID=America/Los_Angeles:20251008T150000
DTEND;TZID=America/Los_Angeles:20251008T160000
DTSTAMP:20260423T215510
CREATED:20250127T200257Z
LAST-MODIFIED:20250127T201232Z
UID:10002663-1759935600-1759939200@www.crestlinechamber.org
SUMMARY:Kid Zones\, Discovery Time  📚 ✨
DESCRIPTION:“Welcome to Kid Zones: Discovery Time 📚✨—a space where young minds explore\, create\, and discover the wonders of the world! From hands-on activities to captivating stories\, every moment is an opportunity to learn and grow. Let the adventure begin!”
URL:https://www.crestlinechamber.org/event/activate-einsteins-kid-zones-%f0%9f%93%9a-%e2%9c%a8/2025-10-08/
LOCATION:Crestline Branch Library\, 24105 Lake Gregory Dr\, Crestline\, CA\, 92325
CATEGORIES:Community Event,Family Friendly,Lake Gregory
END:VEVENT
BEGIN:VEVENT
DTSTART;TZID=America/Los_Angeles:20251006T140000
DTEND;TZID=America/Los_Angeles:20251006T150000
DTSTAMP:20260423T215510
CREATED:20250127T200806Z
LAST-MODIFIED:20250127T200806Z
UID:10002923-1759759200-1759762800@www.crestlinechamber.org
SUMMARY:Adult Programs\, Yoga 🧘 🙏
DESCRIPTION:🧘‍♀️ Yoga Sessions:\nFind your inner peace with relaxing and rejuvenating yoga classes. Perfect for beginners and seasoned yogis alike\, these sessions are a great way to unwind and recharge. \n📅 Check the library’s calendar for dates and times. Embrace wellness and learning\, all in one place! ✨
URL:https://www.crestlinechamber.org/event/adult-programs-yoga-%f0%9f%a7%98-%f0%9f%99%8f/2025-10-06/
LOCATION:Crestline Branch Library\, 24105 Lake Gregory Dr\, Crestline\, CA\, 92325
CATEGORIES:Community Event,Family Friendly,Lake Gregory
END:VEVENT
BEGIN:VEVENT
DTSTART;TZID=America/Los_Angeles:20251001T150000
DTEND;TZID=America/Los_Angeles:20251001T160000
DTSTAMP:20260423T215510
CREATED:20250127T200257Z
LAST-MODIFIED:20250127T201232Z
UID:10002662-1759330800-1759334400@www.crestlinechamber.org
SUMMARY:Kid Zones\, Discovery Time  📚 ✨
DESCRIPTION:“Welcome to Kid Zones: Discovery Time 📚✨—a space where young minds explore\, create\, and discover the wonders of the world! From hands-on activities to captivating stories\, every moment is an opportunity to learn and grow. Let the adventure begin!”
URL:https://www.crestlinechamber.org/event/activate-einsteins-kid-zones-%f0%9f%93%9a-%e2%9c%a8/2025-10-01/
LOCATION:Crestline Branch Library\, 24105 Lake Gregory Dr\, Crestline\, CA\, 92325
CATEGORIES:Community Event,Family Friendly,Lake Gregory
END:VEVENT
BEGIN:VEVENT
DTSTART;TZID=America/Los_Angeles:20250929T140000
DTEND;TZID=America/Los_Angeles:20250929T150000
DTSTAMP:20260423T215510
CREATED:20250127T200806Z
LAST-MODIFIED:20250127T200806Z
UID:10002922-1759154400-1759158000@www.crestlinechamber.org
SUMMARY:Adult Programs\, Yoga 🧘 🙏
DESCRIPTION:🧘‍♀️ Yoga Sessions:\nFind your inner peace with relaxing and rejuvenating yoga classes. Perfect for beginners and seasoned yogis alike\, these sessions are a great way to unwind and recharge. \n📅 Check the library’s calendar for dates and times. Embrace wellness and learning\, all in one place! ✨
URL:https://www.crestlinechamber.org/event/adult-programs-yoga-%f0%9f%a7%98-%f0%9f%99%8f/2025-09-29/
LOCATION:Crestline Branch Library\, 24105 Lake Gregory Dr\, Crestline\, CA\, 92325
CATEGORIES:Community Event,Family Friendly,Lake Gregory
END:VEVENT
BEGIN:VEVENT
DTSTART;TZID=America/Los_Angeles:20250924T150000
DTEND;TZID=America/Los_Angeles:20250924T160000
DTSTAMP:20260423T215510
CREATED:20250127T200257Z
LAST-MODIFIED:20250127T201232Z
UID:10002661-1758726000-1758729600@www.crestlinechamber.org
SUMMARY:Kid Zones\, Discovery Time  📚 ✨
DESCRIPTION:“Welcome to Kid Zones: Discovery Time 📚✨—a space where young minds explore\, create\, and discover the wonders of the world! From hands-on activities to captivating stories\, every moment is an opportunity to learn and grow. Let the adventure begin!”
URL:https://www.crestlinechamber.org/event/activate-einsteins-kid-zones-%f0%9f%93%9a-%e2%9c%a8/2025-09-24/
LOCATION:Crestline Branch Library\, 24105 Lake Gregory Dr\, Crestline\, CA\, 92325
CATEGORIES:Community Event,Family Friendly,Lake Gregory
END:VEVENT
BEGIN:VEVENT
DTSTART;TZID=America/Los_Angeles:20250922T140000
DTEND;TZID=America/Los_Angeles:20250922T150000
DTSTAMP:20260423T215510
CREATED:20250127T200806Z
LAST-MODIFIED:20250127T200806Z
UID:10002921-1758549600-1758553200@www.crestlinechamber.org
SUMMARY:Adult Programs\, Yoga 🧘 🙏
DESCRIPTION:🧘‍♀️ Yoga Sessions:\nFind your inner peace with relaxing and rejuvenating yoga classes. Perfect for beginners and seasoned yogis alike\, these sessions are a great way to unwind and recharge. \n📅 Check the library’s calendar for dates and times. Embrace wellness and learning\, all in one place! ✨
URL:https://www.crestlinechamber.org/event/adult-programs-yoga-%f0%9f%a7%98-%f0%9f%99%8f/2025-09-22/
LOCATION:Crestline Branch Library\, 24105 Lake Gregory Dr\, Crestline\, CA\, 92325
CATEGORIES:Community Event,Family Friendly,Lake Gregory
END:VEVENT
BEGIN:VEVENT
DTSTART;TZID=America/Los_Angeles:20250917T150000
DTEND;TZID=America/Los_Angeles:20250917T160000
DTSTAMP:20260423T215510
CREATED:20250127T200257Z
LAST-MODIFIED:20250127T201232Z
UID:10002660-1758121200-1758124800@www.crestlinechamber.org
SUMMARY:Kid Zones\, Discovery Time  📚 ✨
DESCRIPTION:“Welcome to Kid Zones: Discovery Time 📚✨—a space where young minds explore\, create\, and discover the wonders of the world! From hands-on activities to captivating stories\, every moment is an opportunity to learn and grow. Let the adventure begin!”
URL:https://www.crestlinechamber.org/event/activate-einsteins-kid-zones-%f0%9f%93%9a-%e2%9c%a8/2025-09-17/
LOCATION:Crestline Branch Library\, 24105 Lake Gregory Dr\, Crestline\, CA\, 92325
CATEGORIES:Community Event,Family Friendly,Lake Gregory
END:VEVENT
BEGIN:VEVENT
DTSTART;TZID=America/Los_Angeles:20250915T140000
DTEND;TZID=America/Los_Angeles:20250915T150000
DTSTAMP:20260423T215510
CREATED:20250127T200806Z
LAST-MODIFIED:20250127T200806Z
UID:10002920-1757944800-1757948400@www.crestlinechamber.org
SUMMARY:Adult Programs\, Yoga 🧘 🙏
DESCRIPTION:🧘‍♀️ Yoga Sessions:\nFind your inner peace with relaxing and rejuvenating yoga classes. Perfect for beginners and seasoned yogis alike\, these sessions are a great way to unwind and recharge. \n📅 Check the library’s calendar for dates and times. Embrace wellness and learning\, all in one place! ✨
URL:https://www.crestlinechamber.org/event/adult-programs-yoga-%f0%9f%a7%98-%f0%9f%99%8f/2025-09-15/
LOCATION:Crestline Branch Library\, 24105 Lake Gregory Dr\, Crestline\, CA\, 92325
CATEGORIES:Community Event,Family Friendly,Lake Gregory
END:VEVENT
BEGIN:VEVENT
DTSTART;TZID=America/Los_Angeles:20250910T150000
DTEND;TZID=America/Los_Angeles:20250910T160000
DTSTAMP:20260423T215510
CREATED:20250127T200257Z
LAST-MODIFIED:20250127T201232Z
UID:10002659-1757516400-1757520000@www.crestlinechamber.org
SUMMARY:Kid Zones\, Discovery Time  📚 ✨
DESCRIPTION:“Welcome to Kid Zones: Discovery Time 📚✨—a space where young minds explore\, create\, and discover the wonders of the world! From hands-on activities to captivating stories\, every moment is an opportunity to learn and grow. Let the adventure begin!”
URL:https://www.crestlinechamber.org/event/activate-einsteins-kid-zones-%f0%9f%93%9a-%e2%9c%a8/2025-09-10/
LOCATION:Crestline Branch Library\, 24105 Lake Gregory Dr\, Crestline\, CA\, 92325
CATEGORIES:Community Event,Family Friendly,Lake Gregory
END:VEVENT
BEGIN:VEVENT
DTSTART;TZID=America/Los_Angeles:20250908T140000
DTEND;TZID=America/Los_Angeles:20250908T150000
DTSTAMP:20260423T215510
CREATED:20250127T200806Z
LAST-MODIFIED:20250127T200806Z
UID:10002919-1757340000-1757343600@www.crestlinechamber.org
SUMMARY:Adult Programs\, Yoga 🧘 🙏
DESCRIPTION:🧘‍♀️ Yoga Sessions:\nFind your inner peace with relaxing and rejuvenating yoga classes. Perfect for beginners and seasoned yogis alike\, these sessions are a great way to unwind and recharge. \n📅 Check the library’s calendar for dates and times. Embrace wellness and learning\, all in one place! ✨
URL:https://www.crestlinechamber.org/event/adult-programs-yoga-%f0%9f%a7%98-%f0%9f%99%8f/2025-09-08/
LOCATION:Crestline Branch Library\, 24105 Lake Gregory Dr\, Crestline\, CA\, 92325
CATEGORIES:Community Event,Family Friendly,Lake Gregory
END:VEVENT
END:VCALENDAR