BEGIN:VCALENDAR
VERSION:2.0
PRODID:-//Crestline Chamber of Commerce - ECPv6.15.20//NONSGML v1.0//EN
CALSCALE:GREGORIAN
METHOD:PUBLISH
X-ORIGINAL-URL:https://www.crestlinechamber.org
X-WR-CALDESC:Events for Crestline Chamber of Commerce
REFRESH-INTERVAL;VALUE=DURATION:PT1H
X-Robots-Tag:noindex
X-PUBLISHED-TTL:PT1H
BEGIN:VTIMEZONE
TZID:America/Los_Angeles
BEGIN:DAYLIGHT
TZOFFSETFROM:-0800
TZOFFSETTO:-0700
TZNAME:PDT
DTSTART:20240310T100000
END:DAYLIGHT
BEGIN:STANDARD
TZOFFSETFROM:-0700
TZOFFSETTO:-0800
TZNAME:PST
DTSTART:20241103T090000
END:STANDARD
BEGIN:DAYLIGHT
TZOFFSETFROM:-0800
TZOFFSETTO:-0700
TZNAME:PDT
DTSTART:20250309T100000
END:DAYLIGHT
BEGIN:STANDARD
TZOFFSETFROM:-0700
TZOFFSETTO:-0800
TZNAME:PST
DTSTART:20251102T090000
END:STANDARD
BEGIN:DAYLIGHT
TZOFFSETFROM:-0800
TZOFFSETTO:-0700
TZNAME:PDT
DTSTART:20260308T100000
END:DAYLIGHT
BEGIN:STANDARD
TZOFFSETFROM:-0700
TZOFFSETTO:-0800
TZNAME:PST
DTSTART:20261101T090000
END:STANDARD
END:VTIMEZONE
BEGIN:VEVENT
DTSTART;TZID=America/Los_Angeles:20250521T150000
DTEND;TZID=America/Los_Angeles:20250521T160000
DTSTAMP:20260424T055703
CREATED:20250127T200257Z
LAST-MODIFIED:20250127T201232Z
UID:10002643-1747839600-1747843200@www.crestlinechamber.org
SUMMARY:Kid Zones\, Discovery Time  📚 ✨
DESCRIPTION:“Welcome to Kid Zones: Discovery Time 📚✨—a space where young minds explore\, create\, and discover the wonders of the world! From hands-on activities to captivating stories\, every moment is an opportunity to learn and grow. Let the adventure begin!”
URL:https://www.crestlinechamber.org/event/activate-einsteins-kid-zones-%f0%9f%93%9a-%e2%9c%a8/2025-05-21/
LOCATION:Crestline Branch Library\, 24105 Lake Gregory Dr\, Crestline\, CA\, 92325
CATEGORIES:Community Event,Family Friendly,Lake Gregory
END:VEVENT
BEGIN:VEVENT
DTSTART;TZID=America/Los_Angeles:20250519T140000
DTEND;TZID=America/Los_Angeles:20250519T150000
DTSTAMP:20260424T055703
CREATED:20250127T200806Z
LAST-MODIFIED:20250127T200806Z
UID:10002903-1747663200-1747666800@www.crestlinechamber.org
SUMMARY:Adult Programs\, Yoga 🧘 🙏
DESCRIPTION:🧘‍♀️ Yoga Sessions:\nFind your inner peace with relaxing and rejuvenating yoga classes. Perfect for beginners and seasoned yogis alike\, these sessions are a great way to unwind and recharge. \n📅 Check the library’s calendar for dates and times. Embrace wellness and learning\, all in one place! ✨
URL:https://www.crestlinechamber.org/event/adult-programs-yoga-%f0%9f%a7%98-%f0%9f%99%8f/2025-05-19/
LOCATION:Crestline Branch Library\, 24105 Lake Gregory Dr\, Crestline\, CA\, 92325
CATEGORIES:Community Event,Family Friendly,Lake Gregory
END:VEVENT
BEGIN:VEVENT
DTSTART;TZID=America/Los_Angeles:20250514T150000
DTEND;TZID=America/Los_Angeles:20250514T160000
DTSTAMP:20260424T055703
CREATED:20250127T200257Z
LAST-MODIFIED:20250127T201232Z
UID:10002642-1747234800-1747238400@www.crestlinechamber.org
SUMMARY:Kid Zones\, Discovery Time  📚 ✨
DESCRIPTION:“Welcome to Kid Zones: Discovery Time 📚✨—a space where young minds explore\, create\, and discover the wonders of the world! From hands-on activities to captivating stories\, every moment is an opportunity to learn and grow. Let the adventure begin!”
URL:https://www.crestlinechamber.org/event/activate-einsteins-kid-zones-%f0%9f%93%9a-%e2%9c%a8/2025-05-14/
LOCATION:Crestline Branch Library\, 24105 Lake Gregory Dr\, Crestline\, CA\, 92325
CATEGORIES:Community Event,Family Friendly,Lake Gregory
END:VEVENT
BEGIN:VEVENT
DTSTART;TZID=America/Los_Angeles:20250512T140000
DTEND;TZID=America/Los_Angeles:20250512T150000
DTSTAMP:20260424T055703
CREATED:20250127T200806Z
LAST-MODIFIED:20250127T200806Z
UID:10002902-1747058400-1747062000@www.crestlinechamber.org
SUMMARY:Adult Programs\, Yoga 🧘 🙏
DESCRIPTION:🧘‍♀️ Yoga Sessions:\nFind your inner peace with relaxing and rejuvenating yoga classes. Perfect for beginners and seasoned yogis alike\, these sessions are a great way to unwind and recharge. \n📅 Check the library’s calendar for dates and times. Embrace wellness and learning\, all in one place! ✨
URL:https://www.crestlinechamber.org/event/adult-programs-yoga-%f0%9f%a7%98-%f0%9f%99%8f/2025-05-12/
LOCATION:Crestline Branch Library\, 24105 Lake Gregory Dr\, Crestline\, CA\, 92325
CATEGORIES:Community Event,Family Friendly,Lake Gregory
END:VEVENT
BEGIN:VEVENT
DTSTART;TZID=America/Los_Angeles:20250507T150000
DTEND;TZID=America/Los_Angeles:20250507T160000
DTSTAMP:20260424T055703
CREATED:20250127T200257Z
LAST-MODIFIED:20250127T201232Z
UID:10002641-1746630000-1746633600@www.crestlinechamber.org
SUMMARY:Kid Zones\, Discovery Time  📚 ✨
DESCRIPTION:“Welcome to Kid Zones: Discovery Time 📚✨—a space where young minds explore\, create\, and discover the wonders of the world! From hands-on activities to captivating stories\, every moment is an opportunity to learn and grow. Let the adventure begin!”
URL:https://www.crestlinechamber.org/event/activate-einsteins-kid-zones-%f0%9f%93%9a-%e2%9c%a8/2025-05-07/
LOCATION:Crestline Branch Library\, 24105 Lake Gregory Dr\, Crestline\, CA\, 92325
CATEGORIES:Community Event,Family Friendly,Lake Gregory
END:VEVENT
BEGIN:VEVENT
DTSTART;TZID=America/Los_Angeles:20250505T140000
DTEND;TZID=America/Los_Angeles:20250505T150000
DTSTAMP:20260424T055703
CREATED:20250127T200806Z
LAST-MODIFIED:20250127T200806Z
UID:10002901-1746453600-1746457200@www.crestlinechamber.org
SUMMARY:Adult Programs\, Yoga 🧘 🙏
DESCRIPTION:🧘‍♀️ Yoga Sessions:\nFind your inner peace with relaxing and rejuvenating yoga classes. Perfect for beginners and seasoned yogis alike\, these sessions are a great way to unwind and recharge. \n📅 Check the library’s calendar for dates and times. Embrace wellness and learning\, all in one place! ✨
URL:https://www.crestlinechamber.org/event/adult-programs-yoga-%f0%9f%a7%98-%f0%9f%99%8f/2025-05-05/
LOCATION:Crestline Branch Library\, 24105 Lake Gregory Dr\, Crestline\, CA\, 92325
CATEGORIES:Community Event,Family Friendly,Lake Gregory
END:VEVENT
BEGIN:VEVENT
DTSTART;TZID=America/Los_Angeles:20250430T150000
DTEND;TZID=America/Los_Angeles:20250430T160000
DTSTAMP:20260424T055703
CREATED:20250127T200257Z
LAST-MODIFIED:20250127T201232Z
UID:10002640-1746025200-1746028800@www.crestlinechamber.org
SUMMARY:Kid Zones\, Discovery Time  📚 ✨
DESCRIPTION:“Welcome to Kid Zones: Discovery Time 📚✨—a space where young minds explore\, create\, and discover the wonders of the world! From hands-on activities to captivating stories\, every moment is an opportunity to learn and grow. Let the adventure begin!”
URL:https://www.crestlinechamber.org/event/activate-einsteins-kid-zones-%f0%9f%93%9a-%e2%9c%a8/2025-04-30/
LOCATION:Crestline Branch Library\, 24105 Lake Gregory Dr\, Crestline\, CA\, 92325
CATEGORIES:Community Event,Family Friendly,Lake Gregory
END:VEVENT
BEGIN:VEVENT
DTSTART;TZID=America/Los_Angeles:20250428T140000
DTEND;TZID=America/Los_Angeles:20250428T150000
DTSTAMP:20260424T055703
CREATED:20250127T200806Z
LAST-MODIFIED:20250127T200806Z
UID:10002900-1745848800-1745852400@www.crestlinechamber.org
SUMMARY:Adult Programs\, Yoga 🧘 🙏
DESCRIPTION:🧘‍♀️ Yoga Sessions:\nFind your inner peace with relaxing and rejuvenating yoga classes. Perfect for beginners and seasoned yogis alike\, these sessions are a great way to unwind and recharge. \n📅 Check the library’s calendar for dates and times. Embrace wellness and learning\, all in one place! ✨
URL:https://www.crestlinechamber.org/event/adult-programs-yoga-%f0%9f%a7%98-%f0%9f%99%8f/2025-04-28/
LOCATION:Crestline Branch Library\, 24105 Lake Gregory Dr\, Crestline\, CA\, 92325
CATEGORIES:Community Event,Family Friendly,Lake Gregory
END:VEVENT
BEGIN:VEVENT
DTSTART;TZID=America/Los_Angeles:20250423T150000
DTEND;TZID=America/Los_Angeles:20250423T160000
DTSTAMP:20260424T055703
CREATED:20250127T200257Z
LAST-MODIFIED:20250127T201232Z
UID:10002639-1745420400-1745424000@www.crestlinechamber.org
SUMMARY:Kid Zones\, Discovery Time  📚 ✨
DESCRIPTION:“Welcome to Kid Zones: Discovery Time 📚✨—a space where young minds explore\, create\, and discover the wonders of the world! From hands-on activities to captivating stories\, every moment is an opportunity to learn and grow. Let the adventure begin!”
URL:https://www.crestlinechamber.org/event/activate-einsteins-kid-zones-%f0%9f%93%9a-%e2%9c%a8/2025-04-23/
LOCATION:Crestline Branch Library\, 24105 Lake Gregory Dr\, Crestline\, CA\, 92325
CATEGORIES:Community Event,Family Friendly,Lake Gregory
END:VEVENT
BEGIN:VEVENT
DTSTART;TZID=America/Los_Angeles:20250421T140000
DTEND;TZID=America/Los_Angeles:20250421T150000
DTSTAMP:20260424T055703
CREATED:20250127T200806Z
LAST-MODIFIED:20250127T200806Z
UID:10002899-1745244000-1745247600@www.crestlinechamber.org
SUMMARY:Adult Programs\, Yoga 🧘 🙏
DESCRIPTION:🧘‍♀️ Yoga Sessions:\nFind your inner peace with relaxing and rejuvenating yoga classes. Perfect for beginners and seasoned yogis alike\, these sessions are a great way to unwind and recharge. \n📅 Check the library’s calendar for dates and times. Embrace wellness and learning\, all in one place! ✨
URL:https://www.crestlinechamber.org/event/adult-programs-yoga-%f0%9f%a7%98-%f0%9f%99%8f/2025-04-21/
LOCATION:Crestline Branch Library\, 24105 Lake Gregory Dr\, Crestline\, CA\, 92325
CATEGORIES:Community Event,Family Friendly,Lake Gregory
END:VEVENT
BEGIN:VEVENT
DTSTART;TZID=America/Los_Angeles:20250416T150000
DTEND;TZID=America/Los_Angeles:20250416T160000
DTSTAMP:20260424T055703
CREATED:20250127T200257Z
LAST-MODIFIED:20250127T201232Z
UID:10002638-1744815600-1744819200@www.crestlinechamber.org
SUMMARY:Kid Zones\, Discovery Time  📚 ✨
DESCRIPTION:“Welcome to Kid Zones: Discovery Time 📚✨—a space where young minds explore\, create\, and discover the wonders of the world! From hands-on activities to captivating stories\, every moment is an opportunity to learn and grow. Let the adventure begin!”
URL:https://www.crestlinechamber.org/event/activate-einsteins-kid-zones-%f0%9f%93%9a-%e2%9c%a8/2025-04-16/
LOCATION:Crestline Branch Library\, 24105 Lake Gregory Dr\, Crestline\, CA\, 92325
CATEGORIES:Community Event,Family Friendly,Lake Gregory
END:VEVENT
BEGIN:VEVENT
DTSTART;TZID=America/Los_Angeles:20250414T140000
DTEND;TZID=America/Los_Angeles:20250414T150000
DTSTAMP:20260424T055703
CREATED:20250127T200806Z
LAST-MODIFIED:20250127T200806Z
UID:10002898-1744639200-1744642800@www.crestlinechamber.org
SUMMARY:Adult Programs\, Yoga 🧘 🙏
DESCRIPTION:🧘‍♀️ Yoga Sessions:\nFind your inner peace with relaxing and rejuvenating yoga classes. Perfect for beginners and seasoned yogis alike\, these sessions are a great way to unwind and recharge. \n📅 Check the library’s calendar for dates and times. Embrace wellness and learning\, all in one place! ✨
URL:https://www.crestlinechamber.org/event/adult-programs-yoga-%f0%9f%a7%98-%f0%9f%99%8f/2025-04-14/
LOCATION:Crestline Branch Library\, 24105 Lake Gregory Dr\, Crestline\, CA\, 92325
CATEGORIES:Community Event,Family Friendly,Lake Gregory
END:VEVENT
BEGIN:VEVENT
DTSTART;TZID=America/Los_Angeles:20250409T150000
DTEND;TZID=America/Los_Angeles:20250409T160000
DTSTAMP:20260424T055703
CREATED:20250127T200257Z
LAST-MODIFIED:20250127T201232Z
UID:10002637-1744210800-1744214400@www.crestlinechamber.org
SUMMARY:Kid Zones\, Discovery Time  📚 ✨
DESCRIPTION:“Welcome to Kid Zones: Discovery Time 📚✨—a space where young minds explore\, create\, and discover the wonders of the world! From hands-on activities to captivating stories\, every moment is an opportunity to learn and grow. Let the adventure begin!”
URL:https://www.crestlinechamber.org/event/activate-einsteins-kid-zones-%f0%9f%93%9a-%e2%9c%a8/2025-04-09/
LOCATION:Crestline Branch Library\, 24105 Lake Gregory Dr\, Crestline\, CA\, 92325
CATEGORIES:Community Event,Family Friendly,Lake Gregory
END:VEVENT
BEGIN:VEVENT
DTSTART;TZID=America/Los_Angeles:20250407T140000
DTEND;TZID=America/Los_Angeles:20250407T150000
DTSTAMP:20260424T055703
CREATED:20250127T200806Z
LAST-MODIFIED:20250127T200806Z
UID:10002897-1744034400-1744038000@www.crestlinechamber.org
SUMMARY:Adult Programs\, Yoga 🧘 🙏
DESCRIPTION:🧘‍♀️ Yoga Sessions:\nFind your inner peace with relaxing and rejuvenating yoga classes. Perfect for beginners and seasoned yogis alike\, these sessions are a great way to unwind and recharge. \n📅 Check the library’s calendar for dates and times. Embrace wellness and learning\, all in one place! ✨
URL:https://www.crestlinechamber.org/event/adult-programs-yoga-%f0%9f%a7%98-%f0%9f%99%8f/2025-04-07/
LOCATION:Crestline Branch Library\, 24105 Lake Gregory Dr\, Crestline\, CA\, 92325
CATEGORIES:Community Event,Family Friendly,Lake Gregory
END:VEVENT
BEGIN:VEVENT
DTSTART;TZID=America/Los_Angeles:20250402T150000
DTEND;TZID=America/Los_Angeles:20250402T160000
DTSTAMP:20260424T055703
CREATED:20250127T200257Z
LAST-MODIFIED:20250127T201232Z
UID:10002636-1743606000-1743609600@www.crestlinechamber.org
SUMMARY:Kid Zones\, Discovery Time  📚 ✨
DESCRIPTION:“Welcome to Kid Zones: Discovery Time 📚✨—a space where young minds explore\, create\, and discover the wonders of the world! From hands-on activities to captivating stories\, every moment is an opportunity to learn and grow. Let the adventure begin!”
URL:https://www.crestlinechamber.org/event/activate-einsteins-kid-zones-%f0%9f%93%9a-%e2%9c%a8/2025-04-02/
LOCATION:Crestline Branch Library\, 24105 Lake Gregory Dr\, Crestline\, CA\, 92325
CATEGORIES:Community Event,Family Friendly,Lake Gregory
END:VEVENT
BEGIN:VEVENT
DTSTART;TZID=America/Los_Angeles:20250331T140000
DTEND;TZID=America/Los_Angeles:20250331T150000
DTSTAMP:20260424T055703
CREATED:20250127T200806Z
LAST-MODIFIED:20250127T200806Z
UID:10002896-1743429600-1743433200@www.crestlinechamber.org
SUMMARY:Adult Programs\, Yoga 🧘 🙏
DESCRIPTION:🧘‍♀️ Yoga Sessions:\nFind your inner peace with relaxing and rejuvenating yoga classes. Perfect for beginners and seasoned yogis alike\, these sessions are a great way to unwind and recharge. \n📅 Check the library’s calendar for dates and times. Embrace wellness and learning\, all in one place! ✨
URL:https://www.crestlinechamber.org/event/adult-programs-yoga-%f0%9f%a7%98-%f0%9f%99%8f/2025-03-31/
LOCATION:Crestline Branch Library\, 24105 Lake Gregory Dr\, Crestline\, CA\, 92325
CATEGORIES:Community Event,Family Friendly,Lake Gregory
END:VEVENT
BEGIN:VEVENT
DTSTART;TZID=America/Los_Angeles:20250326T150000
DTEND;TZID=America/Los_Angeles:20250326T160000
DTSTAMP:20260424T055703
CREATED:20250127T200257Z
LAST-MODIFIED:20250127T201232Z
UID:10002635-1743001200-1743004800@www.crestlinechamber.org
SUMMARY:Kid Zones\, Discovery Time  📚 ✨
DESCRIPTION:“Welcome to Kid Zones: Discovery Time 📚✨—a space where young minds explore\, create\, and discover the wonders of the world! From hands-on activities to captivating stories\, every moment is an opportunity to learn and grow. Let the adventure begin!”
URL:https://www.crestlinechamber.org/event/activate-einsteins-kid-zones-%f0%9f%93%9a-%e2%9c%a8/2025-03-26/
LOCATION:Crestline Branch Library\, 24105 Lake Gregory Dr\, Crestline\, CA\, 92325
CATEGORIES:Community Event,Family Friendly,Lake Gregory
END:VEVENT
BEGIN:VEVENT
DTSTART;TZID=America/Los_Angeles:20250324T140000
DTEND;TZID=America/Los_Angeles:20250324T150000
DTSTAMP:20260424T055703
CREATED:20250127T200806Z
LAST-MODIFIED:20250127T200806Z
UID:10002895-1742824800-1742828400@www.crestlinechamber.org
SUMMARY:Adult Programs\, Yoga 🧘 🙏
DESCRIPTION:🧘‍♀️ Yoga Sessions:\nFind your inner peace with relaxing and rejuvenating yoga classes. Perfect for beginners and seasoned yogis alike\, these sessions are a great way to unwind and recharge. \n📅 Check the library’s calendar for dates and times. Embrace wellness and learning\, all in one place! ✨
URL:https://www.crestlinechamber.org/event/adult-programs-yoga-%f0%9f%a7%98-%f0%9f%99%8f/2025-03-24/
LOCATION:Crestline Branch Library\, 24105 Lake Gregory Dr\, Crestline\, CA\, 92325
CATEGORIES:Community Event,Family Friendly,Lake Gregory
END:VEVENT
BEGIN:VEVENT
DTSTART;TZID=America/Los_Angeles:20250319T150000
DTEND;TZID=America/Los_Angeles:20250319T160000
DTSTAMP:20260424T055703
CREATED:20250127T200257Z
LAST-MODIFIED:20250127T201232Z
UID:10002634-1742396400-1742400000@www.crestlinechamber.org
SUMMARY:Kid Zones\, Discovery Time  📚 ✨
DESCRIPTION:“Welcome to Kid Zones: Discovery Time 📚✨—a space where young minds explore\, create\, and discover the wonders of the world! From hands-on activities to captivating stories\, every moment is an opportunity to learn and grow. Let the adventure begin!”
URL:https://www.crestlinechamber.org/event/activate-einsteins-kid-zones-%f0%9f%93%9a-%e2%9c%a8/2025-03-19/
LOCATION:Crestline Branch Library\, 24105 Lake Gregory Dr\, Crestline\, CA\, 92325
CATEGORIES:Community Event,Family Friendly,Lake Gregory
END:VEVENT
BEGIN:VEVENT
DTSTART;TZID=America/Los_Angeles:20250317T140000
DTEND;TZID=America/Los_Angeles:20250317T150000
DTSTAMP:20260424T055703
CREATED:20250127T200806Z
LAST-MODIFIED:20250127T200806Z
UID:10002894-1742220000-1742223600@www.crestlinechamber.org
SUMMARY:Adult Programs\, Yoga 🧘 🙏
DESCRIPTION:🧘‍♀️ Yoga Sessions:\nFind your inner peace with relaxing and rejuvenating yoga classes. Perfect for beginners and seasoned yogis alike\, these sessions are a great way to unwind and recharge. \n📅 Check the library’s calendar for dates and times. Embrace wellness and learning\, all in one place! ✨
URL:https://www.crestlinechamber.org/event/adult-programs-yoga-%f0%9f%a7%98-%f0%9f%99%8f/2025-03-17/
LOCATION:Crestline Branch Library\, 24105 Lake Gregory Dr\, Crestline\, CA\, 92325
CATEGORIES:Community Event,Family Friendly,Lake Gregory
END:VEVENT
BEGIN:VEVENT
DTSTART;TZID=America/Los_Angeles:20250312T150000
DTEND;TZID=America/Los_Angeles:20250312T160000
DTSTAMP:20260424T055703
CREATED:20250127T200257Z
LAST-MODIFIED:20250127T201232Z
UID:10002633-1741791600-1741795200@www.crestlinechamber.org
SUMMARY:Kid Zones\, Discovery Time  📚 ✨
DESCRIPTION:“Welcome to Kid Zones: Discovery Time 📚✨—a space where young minds explore\, create\, and discover the wonders of the world! From hands-on activities to captivating stories\, every moment is an opportunity to learn and grow. Let the adventure begin!”
URL:https://www.crestlinechamber.org/event/activate-einsteins-kid-zones-%f0%9f%93%9a-%e2%9c%a8/2025-03-12/
LOCATION:Crestline Branch Library\, 24105 Lake Gregory Dr\, Crestline\, CA\, 92325
CATEGORIES:Community Event,Family Friendly,Lake Gregory
END:VEVENT
BEGIN:VEVENT
DTSTART;TZID=America/Los_Angeles:20250310T140000
DTEND;TZID=America/Los_Angeles:20250310T150000
DTSTAMP:20260424T055703
CREATED:20250127T200806Z
LAST-MODIFIED:20250127T200806Z
UID:10002893-1741615200-1741618800@www.crestlinechamber.org
SUMMARY:Adult Programs\, Yoga 🧘 🙏
DESCRIPTION:🧘‍♀️ Yoga Sessions:\nFind your inner peace with relaxing and rejuvenating yoga classes. Perfect for beginners and seasoned yogis alike\, these sessions are a great way to unwind and recharge. \n📅 Check the library’s calendar for dates and times. Embrace wellness and learning\, all in one place! ✨
URL:https://www.crestlinechamber.org/event/adult-programs-yoga-%f0%9f%a7%98-%f0%9f%99%8f/2025-03-10/
LOCATION:Crestline Branch Library\, 24105 Lake Gregory Dr\, Crestline\, CA\, 92325
CATEGORIES:Community Event,Family Friendly,Lake Gregory
END:VEVENT
BEGIN:VEVENT
DTSTART;TZID=America/Los_Angeles:20250305T150000
DTEND;TZID=America/Los_Angeles:20250305T160000
DTSTAMP:20260424T055703
CREATED:20250127T200257Z
LAST-MODIFIED:20250127T201232Z
UID:10002632-1741186800-1741190400@www.crestlinechamber.org
SUMMARY:Kid Zones\, Discovery Time  📚 ✨
DESCRIPTION:“Welcome to Kid Zones: Discovery Time 📚✨—a space where young minds explore\, create\, and discover the wonders of the world! From hands-on activities to captivating stories\, every moment is an opportunity to learn and grow. Let the adventure begin!”
URL:https://www.crestlinechamber.org/event/activate-einsteins-kid-zones-%f0%9f%93%9a-%e2%9c%a8/2025-03-05/
LOCATION:Crestline Branch Library\, 24105 Lake Gregory Dr\, Crestline\, CA\, 92325
CATEGORIES:Community Event,Family Friendly,Lake Gregory
END:VEVENT
BEGIN:VEVENT
DTSTART;TZID=America/Los_Angeles:20250303T140000
DTEND;TZID=America/Los_Angeles:20250303T150000
DTSTAMP:20260424T055703
CREATED:20250127T200806Z
LAST-MODIFIED:20250127T200806Z
UID:10002892-1741010400-1741014000@www.crestlinechamber.org
SUMMARY:Adult Programs\, Yoga 🧘 🙏
DESCRIPTION:🧘‍♀️ Yoga Sessions:\nFind your inner peace with relaxing and rejuvenating yoga classes. Perfect for beginners and seasoned yogis alike\, these sessions are a great way to unwind and recharge. \n📅 Check the library’s calendar for dates and times. Embrace wellness and learning\, all in one place! ✨
URL:https://www.crestlinechamber.org/event/adult-programs-yoga-%f0%9f%a7%98-%f0%9f%99%8f/2025-03-03/
LOCATION:Crestline Branch Library\, 24105 Lake Gregory Dr\, Crestline\, CA\, 92325
CATEGORIES:Community Event,Family Friendly,Lake Gregory
END:VEVENT
BEGIN:VEVENT
DTSTART;TZID=America/Los_Angeles:20250226T150000
DTEND;TZID=America/Los_Angeles:20250226T160000
DTSTAMP:20260424T055703
CREATED:20250127T200257Z
LAST-MODIFIED:20250127T201232Z
UID:10002631-1740582000-1740585600@www.crestlinechamber.org
SUMMARY:Kid Zones\, Discovery Time  📚 ✨
DESCRIPTION:“Welcome to Kid Zones: Discovery Time 📚✨—a space where young minds explore\, create\, and discover the wonders of the world! From hands-on activities to captivating stories\, every moment is an opportunity to learn and grow. Let the adventure begin!”
URL:https://www.crestlinechamber.org/event/activate-einsteins-kid-zones-%f0%9f%93%9a-%e2%9c%a8/2025-02-26/
LOCATION:Crestline Branch Library\, 24105 Lake Gregory Dr\, Crestline\, CA\, 92325
CATEGORIES:Community Event,Family Friendly,Lake Gregory
END:VEVENT
BEGIN:VEVENT
DTSTART;TZID=America/Los_Angeles:20250224T140000
DTEND;TZID=America/Los_Angeles:20250224T150000
DTSTAMP:20260424T055703
CREATED:20250127T200806Z
LAST-MODIFIED:20250127T200806Z
UID:10002891-1740405600-1740409200@www.crestlinechamber.org
SUMMARY:Adult Programs\, Yoga 🧘 🙏
DESCRIPTION:🧘‍♀️ Yoga Sessions:\nFind your inner peace with relaxing and rejuvenating yoga classes. Perfect for beginners and seasoned yogis alike\, these sessions are a great way to unwind and recharge. \n📅 Check the library’s calendar for dates and times. Embrace wellness and learning\, all in one place! ✨
URL:https://www.crestlinechamber.org/event/adult-programs-yoga-%f0%9f%a7%98-%f0%9f%99%8f/2025-02-24/
LOCATION:Crestline Branch Library\, 24105 Lake Gregory Dr\, Crestline\, CA\, 92325
CATEGORIES:Community Event,Family Friendly,Lake Gregory
END:VEVENT
BEGIN:VEVENT
DTSTART;TZID=America/Los_Angeles:20250219T150000
DTEND;TZID=America/Los_Angeles:20250219T160000
DTSTAMP:20260424T055703
CREATED:20250127T200257Z
LAST-MODIFIED:20250127T201232Z
UID:10002630-1739977200-1739980800@www.crestlinechamber.org
SUMMARY:Kid Zones\, Discovery Time  📚 ✨
DESCRIPTION:“Welcome to Kid Zones: Discovery Time 📚✨—a space where young minds explore\, create\, and discover the wonders of the world! From hands-on activities to captivating stories\, every moment is an opportunity to learn and grow. Let the adventure begin!”
URL:https://www.crestlinechamber.org/event/activate-einsteins-kid-zones-%f0%9f%93%9a-%e2%9c%a8/2025-02-19/
LOCATION:Crestline Branch Library\, 24105 Lake Gregory Dr\, Crestline\, CA\, 92325
CATEGORIES:Community Event,Family Friendly,Lake Gregory
END:VEVENT
BEGIN:VEVENT
DTSTART;TZID=America/Los_Angeles:20250217T140000
DTEND;TZID=America/Los_Angeles:20250217T150000
DTSTAMP:20260424T055703
CREATED:20250127T200806Z
LAST-MODIFIED:20250127T200806Z
UID:10002890-1739800800-1739804400@www.crestlinechamber.org
SUMMARY:Adult Programs\, Yoga 🧘 🙏
DESCRIPTION:🧘‍♀️ Yoga Sessions:\nFind your inner peace with relaxing and rejuvenating yoga classes. Perfect for beginners and seasoned yogis alike\, these sessions are a great way to unwind and recharge. \n📅 Check the library’s calendar for dates and times. Embrace wellness and learning\, all in one place! ✨
URL:https://www.crestlinechamber.org/event/adult-programs-yoga-%f0%9f%a7%98-%f0%9f%99%8f/2025-02-17/
LOCATION:Crestline Branch Library\, 24105 Lake Gregory Dr\, Crestline\, CA\, 92325
CATEGORIES:Community Event,Family Friendly,Lake Gregory
END:VEVENT
BEGIN:VEVENT
DTSTART;TZID=America/Los_Angeles:20250212T150000
DTEND;TZID=America/Los_Angeles:20250212T160000
DTSTAMP:20260424T055703
CREATED:20250127T200257Z
LAST-MODIFIED:20250127T201232Z
UID:10002629-1739372400-1739376000@www.crestlinechamber.org
SUMMARY:Kid Zones\, Discovery Time  📚 ✨
DESCRIPTION:“Welcome to Kid Zones: Discovery Time 📚✨—a space where young minds explore\, create\, and discover the wonders of the world! From hands-on activities to captivating stories\, every moment is an opportunity to learn and grow. Let the adventure begin!”
URL:https://www.crestlinechamber.org/event/activate-einsteins-kid-zones-%f0%9f%93%9a-%e2%9c%a8/2025-02-12/
LOCATION:Crestline Branch Library\, 24105 Lake Gregory Dr\, Crestline\, CA\, 92325
CATEGORIES:Community Event,Family Friendly,Lake Gregory
END:VEVENT
BEGIN:VEVENT
DTSTART;TZID=America/Los_Angeles:20250210T140000
DTEND;TZID=America/Los_Angeles:20250210T150000
DTSTAMP:20260424T055703
CREATED:20250127T200806Z
LAST-MODIFIED:20250127T200806Z
UID:10002889-1739196000-1739199600@www.crestlinechamber.org
SUMMARY:Adult Programs\, Yoga 🧘 🙏
DESCRIPTION:🧘‍♀️ Yoga Sessions:\nFind your inner peace with relaxing and rejuvenating yoga classes. Perfect for beginners and seasoned yogis alike\, these sessions are a great way to unwind and recharge. \n📅 Check the library’s calendar for dates and times. Embrace wellness and learning\, all in one place! ✨
URL:https://www.crestlinechamber.org/event/adult-programs-yoga-%f0%9f%a7%98-%f0%9f%99%8f/2025-02-10/
LOCATION:Crestline Branch Library\, 24105 Lake Gregory Dr\, Crestline\, CA\, 92325
CATEGORIES:Community Event,Family Friendly,Lake Gregory
END:VEVENT
END:VCALENDAR