BEGIN:VCALENDAR
VERSION:2.0
PRODID:-//Crestline Chamber of Commerce - ECPv6.15.20//NONSGML v1.0//EN
CALSCALE:GREGORIAN
METHOD:PUBLISH
X-WR-CALNAME:Crestline Chamber of Commerce
X-ORIGINAL-URL:https://www.crestlinechamber.org
X-WR-CALDESC:Events for Crestline Chamber of Commerce
REFRESH-INTERVAL;VALUE=DURATION:PT1H
X-Robots-Tag:noindex
X-PUBLISHED-TTL:PT1H
BEGIN:VTIMEZONE
TZID:America/Los_Angeles
BEGIN:DAYLIGHT
TZOFFSETFROM:-0800
TZOFFSETTO:-0700
TZNAME:PDT
DTSTART:20250309T100000
END:DAYLIGHT
BEGIN:STANDARD
TZOFFSETFROM:-0700
TZOFFSETTO:-0800
TZNAME:PST
DTSTART:20251102T090000
END:STANDARD
BEGIN:DAYLIGHT
TZOFFSETFROM:-0800
TZOFFSETTO:-0700
TZNAME:PDT
DTSTART:20260308T100000
END:DAYLIGHT
BEGIN:STANDARD
TZOFFSETFROM:-0700
TZOFFSETTO:-0800
TZNAME:PST
DTSTART:20261101T090000
END:STANDARD
BEGIN:DAYLIGHT
TZOFFSETFROM:-0800
TZOFFSETTO:-0700
TZNAME:PDT
DTSTART:20270314T100000
END:DAYLIGHT
BEGIN:STANDARD
TZOFFSETFROM:-0700
TZOFFSETTO:-0800
TZNAME:PST
DTSTART:20271107T090000
END:STANDARD
END:VTIMEZONE
BEGIN:VEVENT
DTSTART;TZID=America/Los_Angeles:20260424T190000
DTEND;TZID=America/Los_Angeles:20260424T230000
DTSTAMP:20260423T121009
CREATED:20250731T204051Z
LAST-MODIFIED:20250731T204220Z
UID:10006373-1777057200-1777071600@www.crestlinechamber.org
SUMMARY:Friday Night Karaoke! 🎤 🎼 🎸
DESCRIPTION:
URL:https://www.crestlinechamber.org/event/friday-night-karaoke-%f0%9f%8e%a4-%f0%9f%8e%bc-%f0%9f%8e%b8/2026-04-24/
LOCATION:The Tudor House\, Lake Arrowhead\, 850 Arrowhead Villa Road\, Lake Arrowhead\, 92352\, United States
CATEGORIES:Community Event,Family Friendly,Live Music
ATTACH;FMTTYPE=image/jpeg:https://www.crestlinechamber.org/wp-content/uploads/2025/07/THKaraokeWebsiteImage-1640-x-924-px.jpg
END:VEVENT
BEGIN:VEVENT
DTSTART;TZID=America/Los_Angeles:20260425T200000
DTEND;TZID=America/Los_Angeles:20260425T220000
DTSTAMP:20260423T121009
CREATED:20260409T131405Z
LAST-MODIFIED:20260409T131405Z
UID:10007528-1777147200-1777154400@www.crestlinechamber.org
SUMMARY:Comedy Show at the Tudor House
DESCRIPTION:A professional comedy night is coming to the Tudor House in Lake Arrowhead\, and this lineup is STACKED! 🎤🔥 \nHeadlining the night is Fritz Coleman—legendary NBC4 weather icon turned award-winning comedian and total crowd favorite! 🌟 \nJoining him:\n🎭 Richard Weiss – Coachella Valley Comedy Festival winner (seen on Amazon Prime & Comedy TV)\n🎤 Hosted by Donna Maine – seen on Roku TV & stages across the country\n🔥 Special Guest Darrell Goss Jr. – a rising star you won’t want to miss \nGet ready for a night full of nonstop laughs\, great vibes\, and unforgettable moments with friends! 🍻😂 \n📍 Tudor House – Lake Arrowhead \n🎟 Tickets are going fast—grab yours now before it sells out! \n✨ The perfect night out on the mountain starts with laughter—don’t miss it!
URL:https://www.crestlinechamber.org/event/comedy-show-at-the-tudor-house/
LOCATION:The Tudor House\, Lake Arrowhead\, 850 Arrowhead Villa Road\, Lake Arrowhead\, 92352\, United States
END:VEVENT
BEGIN:VEVENT
DTSTART;TZID=America/Los_Angeles:20260428T113000
DTEND;TZID=America/Los_Angeles:20260428T123000
DTSTAMP:20260423T121009
CREATED:20250127T195254Z
LAST-MODIFIED:20250127T201007Z
UID:10002431-1777375800-1777379400@www.crestlinechamber.org
SUMMARY:Library Beginners\, Active Einsteins  📚🧠
DESCRIPTION:📚🧠 Exciting Programs at the Crestline Branch Library! \n🌟 Library Beginners:\nNew to the library? No problem! Discover how to find books\, use resources\, and explore all the amazing services we offer. A perfect start for lifelong learners! \n🧠 Active Einsteins:\nLet young minds thrive with hands-on STEM activities\, experiments\, and creative learning designed to spark curiosity and inspire the next generation of thinkers! \n📅 Check our schedule for upcoming sessions and programs for all ages. The Crestline Branch Library is where learning meets fun! ✨
URL:https://www.crestlinechamber.org/event/library-beginners-%f0%9f%93%9a/2026-04-28/
LOCATION:Crestline Branch Library\, 24105 Lake Gregory Dr\, Crestline\, CA\, 92325
CATEGORIES:Community Event,Family Friendly
END:VEVENT
BEGIN:VEVENT
DTSTART;TZID=America/Los_Angeles:20260501T190000
DTEND;TZID=America/Los_Angeles:20260501T230000
DTSTAMP:20260423T121009
CREATED:20250731T204051Z
LAST-MODIFIED:20250731T204220Z
UID:10006374-1777662000-1777676400@www.crestlinechamber.org
SUMMARY:Friday Night Karaoke! 🎤 🎼 🎸
DESCRIPTION:
URL:https://www.crestlinechamber.org/event/friday-night-karaoke-%f0%9f%8e%a4-%f0%9f%8e%bc-%f0%9f%8e%b8/2026-05-01/
LOCATION:The Tudor House\, Lake Arrowhead\, 850 Arrowhead Villa Road\, Lake Arrowhead\, 92352\, United States
CATEGORIES:Community Event,Family Friendly,Live Music
ATTACH;FMTTYPE=image/jpeg:https://www.crestlinechamber.org/wp-content/uploads/2025/07/THKaraokeWebsiteImage-1640-x-924-px.jpg
END:VEVENT
BEGIN:VEVENT
DTSTART;TZID=America/Los_Angeles:20260505T113000
DTEND;TZID=America/Los_Angeles:20260505T123000
DTSTAMP:20260423T121009
CREATED:20250127T195254Z
LAST-MODIFIED:20250127T201007Z
UID:10002432-1777980600-1777984200@www.crestlinechamber.org
SUMMARY:Library Beginners\, Active Einsteins  📚🧠
DESCRIPTION:📚🧠 Exciting Programs at the Crestline Branch Library! \n🌟 Library Beginners:\nNew to the library? No problem! Discover how to find books\, use resources\, and explore all the amazing services we offer. A perfect start for lifelong learners! \n🧠 Active Einsteins:\nLet young minds thrive with hands-on STEM activities\, experiments\, and creative learning designed to spark curiosity and inspire the next generation of thinkers! \n📅 Check our schedule for upcoming sessions and programs for all ages. The Crestline Branch Library is where learning meets fun! ✨
URL:https://www.crestlinechamber.org/event/library-beginners-%f0%9f%93%9a/2026-05-05/
LOCATION:Crestline Branch Library\, 24105 Lake Gregory Dr\, Crestline\, CA\, 92325
CATEGORIES:Community Event,Family Friendly
END:VEVENT
BEGIN:VEVENT
DTSTART;TZID=America/Los_Angeles:20260508T190000
DTEND;TZID=America/Los_Angeles:20260508T230000
DTSTAMP:20260423T121009
CREATED:20250731T204051Z
LAST-MODIFIED:20250731T204220Z
UID:10006375-1778266800-1778281200@www.crestlinechamber.org
SUMMARY:Friday Night Karaoke! 🎤 🎼 🎸
DESCRIPTION:
URL:https://www.crestlinechamber.org/event/friday-night-karaoke-%f0%9f%8e%a4-%f0%9f%8e%bc-%f0%9f%8e%b8/2026-05-08/
LOCATION:The Tudor House\, Lake Arrowhead\, 850 Arrowhead Villa Road\, Lake Arrowhead\, 92352\, United States
CATEGORIES:Community Event,Family Friendly,Live Music
ATTACH;FMTTYPE=image/jpeg:https://www.crestlinechamber.org/wp-content/uploads/2025/07/THKaraokeWebsiteImage-1640-x-924-px.jpg
END:VEVENT
BEGIN:VEVENT
DTSTART;TZID=America/Los_Angeles:20260512T113000
DTEND;TZID=America/Los_Angeles:20260512T123000
DTSTAMP:20260423T121009
CREATED:20250127T195254Z
LAST-MODIFIED:20250127T201007Z
UID:10002433-1778585400-1778589000@www.crestlinechamber.org
SUMMARY:Library Beginners\, Active Einsteins  📚🧠
DESCRIPTION:📚🧠 Exciting Programs at the Crestline Branch Library! \n🌟 Library Beginners:\nNew to the library? No problem! Discover how to find books\, use resources\, and explore all the amazing services we offer. A perfect start for lifelong learners! \n🧠 Active Einsteins:\nLet young minds thrive with hands-on STEM activities\, experiments\, and creative learning designed to spark curiosity and inspire the next generation of thinkers! \n📅 Check our schedule for upcoming sessions and programs for all ages. The Crestline Branch Library is where learning meets fun! ✨
URL:https://www.crestlinechamber.org/event/library-beginners-%f0%9f%93%9a/2026-05-12/
LOCATION:Crestline Branch Library\, 24105 Lake Gregory Dr\, Crestline\, CA\, 92325
CATEGORIES:Community Event,Family Friendly
END:VEVENT
BEGIN:VEVENT
DTSTART;TZID=America/Los_Angeles:20260515T190000
DTEND;TZID=America/Los_Angeles:20260515T230000
DTSTAMP:20260423T121009
CREATED:20250731T204051Z
LAST-MODIFIED:20250731T204220Z
UID:10006376-1778871600-1778886000@www.crestlinechamber.org
SUMMARY:Friday Night Karaoke! 🎤 🎼 🎸
DESCRIPTION:
URL:https://www.crestlinechamber.org/event/friday-night-karaoke-%f0%9f%8e%a4-%f0%9f%8e%bc-%f0%9f%8e%b8/2026-05-15/
LOCATION:The Tudor House\, Lake Arrowhead\, 850 Arrowhead Villa Road\, Lake Arrowhead\, 92352\, United States
CATEGORIES:Community Event,Family Friendly,Live Music
ATTACH;FMTTYPE=image/jpeg:https://www.crestlinechamber.org/wp-content/uploads/2025/07/THKaraokeWebsiteImage-1640-x-924-px.jpg
END:VEVENT
BEGIN:VEVENT
DTSTART;TZID=America/Los_Angeles:20260519T113000
DTEND;TZID=America/Los_Angeles:20260519T123000
DTSTAMP:20260423T121009
CREATED:20250127T195254Z
LAST-MODIFIED:20250127T201007Z
UID:10002434-1779190200-1779193800@www.crestlinechamber.org
SUMMARY:Library Beginners\, Active Einsteins  📚🧠
DESCRIPTION:📚🧠 Exciting Programs at the Crestline Branch Library! \n🌟 Library Beginners:\nNew to the library? No problem! Discover how to find books\, use resources\, and explore all the amazing services we offer. A perfect start for lifelong learners! \n🧠 Active Einsteins:\nLet young minds thrive with hands-on STEM activities\, experiments\, and creative learning designed to spark curiosity and inspire the next generation of thinkers! \n📅 Check our schedule for upcoming sessions and programs for all ages. The Crestline Branch Library is where learning meets fun! ✨
URL:https://www.crestlinechamber.org/event/library-beginners-%f0%9f%93%9a/2026-05-19/
LOCATION:Crestline Branch Library\, 24105 Lake Gregory Dr\, Crestline\, CA\, 92325
CATEGORIES:Community Event,Family Friendly
END:VEVENT
BEGIN:VEVENT
DTSTART;TZID=America/Los_Angeles:20260519T173000
DTEND;TZID=America/Los_Angeles:20260519T183000
DTSTAMP:20260423T121009
CREATED:20250114T204019Z
LAST-MODIFIED:20260421T155143Z
UID:10002050-1779211800-1779215400@www.crestlinechamber.org
SUMMARY:Monthly Open Board Meeting 📆
DESCRIPTION:📢 Join us for the Crestline Chamber of Commerce Monthly Open Board Meeting! 🌟 Connect with local leaders\, share your ideas\, and stay informed about the latest community developments. This is your chance to have your voice heard and play a part in shaping Crestline’s future. Let’s work together to make our town thrive—see you there! 🏞️🤝
URL:https://www.crestlinechamber.org/event/monthly-open-board-meeting-%f0%9f%93%86/2026-05-19/
LOCATION:Crestline Chamber Office\, 24385 Lake Dr\, Crestline\, CA\, 92325\, United States
CATEGORIES:Community Meeting,Crestline Chamber Event,Lake Gregory,Monthly Chamber Meetings
ATTACH;FMTTYPE=image/jpeg:https://www.crestlinechamber.org/wp-content/uploads/2024/04/monthly-meeting.jpg
GEO:34.2437662;-117.2707116
X-APPLE-STRUCTURED-LOCATION;VALUE=URI;X-ADDRESS=Crestline Chamber Office 24385 Lake Dr Crestline CA 92325 United States;X-APPLE-RADIUS=500;X-TITLE=24385 Lake Dr:geo:-117.2707116,34.2437662
END:VEVENT
BEGIN:VEVENT
DTSTART;TZID=America/Los_Angeles:20260522T190000
DTEND;TZID=America/Los_Angeles:20260522T230000
DTSTAMP:20260423T121009
CREATED:20250731T204051Z
LAST-MODIFIED:20250731T204220Z
UID:10006377-1779476400-1779490800@www.crestlinechamber.org
SUMMARY:Friday Night Karaoke! 🎤 🎼 🎸
DESCRIPTION:
URL:https://www.crestlinechamber.org/event/friday-night-karaoke-%f0%9f%8e%a4-%f0%9f%8e%bc-%f0%9f%8e%b8/2026-05-22/
LOCATION:The Tudor House\, Lake Arrowhead\, 850 Arrowhead Villa Road\, Lake Arrowhead\, 92352\, United States
CATEGORIES:Community Event,Family Friendly,Live Music
ATTACH;FMTTYPE=image/jpeg:https://www.crestlinechamber.org/wp-content/uploads/2025/07/THKaraokeWebsiteImage-1640-x-924-px.jpg
END:VEVENT
BEGIN:VEVENT
DTSTART;TZID=America/Los_Angeles:20260526T113000
DTEND;TZID=America/Los_Angeles:20260526T123000
DTSTAMP:20260423T121009
CREATED:20250127T195254Z
LAST-MODIFIED:20250127T201007Z
UID:10002435-1779795000-1779798600@www.crestlinechamber.org
SUMMARY:Library Beginners\, Active Einsteins  📚🧠
DESCRIPTION:📚🧠 Exciting Programs at the Crestline Branch Library! \n🌟 Library Beginners:\nNew to the library? No problem! Discover how to find books\, use resources\, and explore all the amazing services we offer. A perfect start for lifelong learners! \n🧠 Active Einsteins:\nLet young minds thrive with hands-on STEM activities\, experiments\, and creative learning designed to spark curiosity and inspire the next generation of thinkers! \n📅 Check our schedule for upcoming sessions and programs for all ages. The Crestline Branch Library is where learning meets fun! ✨
URL:https://www.crestlinechamber.org/event/library-beginners-%f0%9f%93%9a/2026-05-26/
LOCATION:Crestline Branch Library\, 24105 Lake Gregory Dr\, Crestline\, CA\, 92325
CATEGORIES:Community Event,Family Friendly
END:VEVENT
BEGIN:VEVENT
DTSTART;TZID=America/Los_Angeles:20260529T190000
DTEND;TZID=America/Los_Angeles:20260529T230000
DTSTAMP:20260423T121009
CREATED:20250731T204051Z
LAST-MODIFIED:20250731T204220Z
UID:10006378-1780081200-1780095600@www.crestlinechamber.org
SUMMARY:Friday Night Karaoke! 🎤 🎼 🎸
DESCRIPTION:
URL:https://www.crestlinechamber.org/event/friday-night-karaoke-%f0%9f%8e%a4-%f0%9f%8e%bc-%f0%9f%8e%b8/2026-05-29/
LOCATION:The Tudor House\, Lake Arrowhead\, 850 Arrowhead Villa Road\, Lake Arrowhead\, 92352\, United States
CATEGORIES:Community Event,Family Friendly,Live Music
ATTACH;FMTTYPE=image/jpeg:https://www.crestlinechamber.org/wp-content/uploads/2025/07/THKaraokeWebsiteImage-1640-x-924-px.jpg
END:VEVENT
BEGIN:VEVENT
DTSTART;TZID=America/Los_Angeles:20260602T113000
DTEND;TZID=America/Los_Angeles:20260602T123000
DTSTAMP:20260423T121009
CREATED:20250127T195254Z
LAST-MODIFIED:20250127T201007Z
UID:10002436-1780399800-1780403400@www.crestlinechamber.org
SUMMARY:Library Beginners\, Active Einsteins  📚🧠
DESCRIPTION:📚🧠 Exciting Programs at the Crestline Branch Library! \n🌟 Library Beginners:\nNew to the library? No problem! Discover how to find books\, use resources\, and explore all the amazing services we offer. A perfect start for lifelong learners! \n🧠 Active Einsteins:\nLet young minds thrive with hands-on STEM activities\, experiments\, and creative learning designed to spark curiosity and inspire the next generation of thinkers! \n📅 Check our schedule for upcoming sessions and programs for all ages. The Crestline Branch Library is where learning meets fun! ✨
URL:https://www.crestlinechamber.org/event/library-beginners-%f0%9f%93%9a/2026-06-02/
LOCATION:Crestline Branch Library\, 24105 Lake Gregory Dr\, Crestline\, CA\, 92325
CATEGORIES:Community Event,Family Friendly
END:VEVENT
BEGIN:VEVENT
DTSTART;TZID=America/Los_Angeles:20260605T190000
DTEND;TZID=America/Los_Angeles:20260605T230000
DTSTAMP:20260423T121009
CREATED:20250731T204051Z
LAST-MODIFIED:20250731T204220Z
UID:10006379-1780686000-1780700400@www.crestlinechamber.org
SUMMARY:Friday Night Karaoke! 🎤 🎼 🎸
DESCRIPTION:
URL:https://www.crestlinechamber.org/event/friday-night-karaoke-%f0%9f%8e%a4-%f0%9f%8e%bc-%f0%9f%8e%b8/2026-06-05/
LOCATION:The Tudor House\, Lake Arrowhead\, 850 Arrowhead Villa Road\, Lake Arrowhead\, 92352\, United States
CATEGORIES:Community Event,Family Friendly,Live Music
ATTACH;FMTTYPE=image/jpeg:https://www.crestlinechamber.org/wp-content/uploads/2025/07/THKaraokeWebsiteImage-1640-x-924-px.jpg
END:VEVENT
BEGIN:VEVENT
DTSTART;TZID=America/Los_Angeles:20260606T150000
DTEND;TZID=America/Los_Angeles:20260606T200000
DTSTAMP:20260423T121009
CREATED:20260409T151933Z
LAST-MODIFIED:20260409T151933Z
UID:10007565-1780758000-1780776000@www.crestlinechamber.org
SUMMARY:Corks N Hops 🍺🍷
DESCRIPTION:Summer starts here\, and you’re going to want to be part of every unforgettable moment ☀️🍷🍻  \n🎟️ Tickets are LIVE—secure yours today!\nNo stress\, no FOMO… just lock it in and get ready for an incredible night 💛 \nAnd if you already know you don’t want to miss a single one… \n✨ Season Passes are available! ✨\n✔️ Every event\, already secured\n✔️ No last-minute scrambling\n✔️ Just show up and enjoy the best nights of summer \n🍹🌺 Don’t wait—grab your tickets now and get ready for the ultimate summer experience!
URL:https://www.crestlinechamber.org/event/corks-n-hops-%f0%9f%8d%ba%f0%9f%8d%b7/2026-06-06/
LOCATION:Lake Drive & Crest Forest Drive
CATEGORIES:Community Event,Crestline Chamber Event,Family Friendly,Live Music
ATTACH;FMTTYPE=image/jpeg:https://www.crestlinechamber.org/wp-content/uploads/2026/04/Coaster-Front.jpeg
END:VEVENT
BEGIN:VEVENT
DTSTART;TZID=America/Los_Angeles:20260609T113000
DTEND;TZID=America/Los_Angeles:20260609T123000
DTSTAMP:20260423T121009
CREATED:20250127T195254Z
LAST-MODIFIED:20250127T201007Z
UID:10002437-1781004600-1781008200@www.crestlinechamber.org
SUMMARY:Library Beginners\, Active Einsteins  📚🧠
DESCRIPTION:📚🧠 Exciting Programs at the Crestline Branch Library! \n🌟 Library Beginners:\nNew to the library? No problem! Discover how to find books\, use resources\, and explore all the amazing services we offer. A perfect start for lifelong learners! \n🧠 Active Einsteins:\nLet young minds thrive with hands-on STEM activities\, experiments\, and creative learning designed to spark curiosity and inspire the next generation of thinkers! \n📅 Check our schedule for upcoming sessions and programs for all ages. The Crestline Branch Library is where learning meets fun! ✨
URL:https://www.crestlinechamber.org/event/library-beginners-%f0%9f%93%9a/2026-06-09/
LOCATION:Crestline Branch Library\, 24105 Lake Gregory Dr\, Crestline\, CA\, 92325
CATEGORIES:Community Event,Family Friendly
END:VEVENT
BEGIN:VEVENT
DTSTART;TZID=America/Los_Angeles:20260612T190000
DTEND;TZID=America/Los_Angeles:20260612T230000
DTSTAMP:20260423T121009
CREATED:20250731T204051Z
LAST-MODIFIED:20250731T204220Z
UID:10006380-1781290800-1781305200@www.crestlinechamber.org
SUMMARY:Friday Night Karaoke! 🎤 🎼 🎸
DESCRIPTION:
URL:https://www.crestlinechamber.org/event/friday-night-karaoke-%f0%9f%8e%a4-%f0%9f%8e%bc-%f0%9f%8e%b8/2026-06-12/
LOCATION:The Tudor House\, Lake Arrowhead\, 850 Arrowhead Villa Road\, Lake Arrowhead\, 92352\, United States
CATEGORIES:Community Event,Family Friendly,Live Music
ATTACH;FMTTYPE=image/jpeg:https://www.crestlinechamber.org/wp-content/uploads/2025/07/THKaraokeWebsiteImage-1640-x-924-px.jpg
END:VEVENT
BEGIN:VEVENT
DTSTART;TZID=America/Los_Angeles:20260616T113000
DTEND;TZID=America/Los_Angeles:20260616T123000
DTSTAMP:20260423T121009
CREATED:20250127T195254Z
LAST-MODIFIED:20250127T201007Z
UID:10002438-1781609400-1781613000@www.crestlinechamber.org
SUMMARY:Library Beginners\, Active Einsteins  📚🧠
DESCRIPTION:📚🧠 Exciting Programs at the Crestline Branch Library! \n🌟 Library Beginners:\nNew to the library? No problem! Discover how to find books\, use resources\, and explore all the amazing services we offer. A perfect start for lifelong learners! \n🧠 Active Einsteins:\nLet young minds thrive with hands-on STEM activities\, experiments\, and creative learning designed to spark curiosity and inspire the next generation of thinkers! \n📅 Check our schedule for upcoming sessions and programs for all ages. The Crestline Branch Library is where learning meets fun! ✨
URL:https://www.crestlinechamber.org/event/library-beginners-%f0%9f%93%9a/2026-06-16/
LOCATION:Crestline Branch Library\, 24105 Lake Gregory Dr\, Crestline\, CA\, 92325
CATEGORIES:Community Event,Family Friendly
END:VEVENT
BEGIN:VEVENT
DTSTART;TZID=America/Los_Angeles:20260616T173000
DTEND;TZID=America/Los_Angeles:20260616T183000
DTSTAMP:20260423T121009
CREATED:20250114T204019Z
LAST-MODIFIED:20260421T155143Z
UID:10002051-1781631000-1781634600@www.crestlinechamber.org
SUMMARY:Monthly Open Board Meeting 📆
DESCRIPTION:📢 Join us for the Crestline Chamber of Commerce Monthly Open Board Meeting! 🌟 Connect with local leaders\, share your ideas\, and stay informed about the latest community developments. This is your chance to have your voice heard and play a part in shaping Crestline’s future. Let’s work together to make our town thrive—see you there! 🏞️🤝
URL:https://www.crestlinechamber.org/event/monthly-open-board-meeting-%f0%9f%93%86/2026-06-16/
LOCATION:Crestline Chamber Office\, 24385 Lake Dr\, Crestline\, CA\, 92325\, United States
CATEGORIES:Community Meeting,Crestline Chamber Event,Lake Gregory,Monthly Chamber Meetings
ATTACH;FMTTYPE=image/jpeg:https://www.crestlinechamber.org/wp-content/uploads/2024/04/monthly-meeting.jpg
GEO:34.2437662;-117.2707116
X-APPLE-STRUCTURED-LOCATION;VALUE=URI;X-ADDRESS=Crestline Chamber Office 24385 Lake Dr Crestline CA 92325 United States;X-APPLE-RADIUS=500;X-TITLE=24385 Lake Dr:geo:-117.2707116,34.2437662
END:VEVENT
BEGIN:VEVENT
DTSTART;TZID=America/Los_Angeles:20260619T190000
DTEND;TZID=America/Los_Angeles:20260619T230000
DTSTAMP:20260423T121009
CREATED:20250731T204051Z
LAST-MODIFIED:20250731T204220Z
UID:10006381-1781895600-1781910000@www.crestlinechamber.org
SUMMARY:Friday Night Karaoke! 🎤 🎼 🎸
DESCRIPTION:
URL:https://www.crestlinechamber.org/event/friday-night-karaoke-%f0%9f%8e%a4-%f0%9f%8e%bc-%f0%9f%8e%b8/2026-06-19/
LOCATION:The Tudor House\, Lake Arrowhead\, 850 Arrowhead Villa Road\, Lake Arrowhead\, 92352\, United States
CATEGORIES:Community Event,Family Friendly,Live Music
ATTACH;FMTTYPE=image/jpeg:https://www.crestlinechamber.org/wp-content/uploads/2025/07/THKaraokeWebsiteImage-1640-x-924-px.jpg
END:VEVENT
BEGIN:VEVENT
DTSTART;TZID=America/Los_Angeles:20260623T113000
DTEND;TZID=America/Los_Angeles:20260623T123000
DTSTAMP:20260423T121009
CREATED:20250127T195254Z
LAST-MODIFIED:20250127T201007Z
UID:10002439-1782214200-1782217800@www.crestlinechamber.org
SUMMARY:Library Beginners\, Active Einsteins  📚🧠
DESCRIPTION:📚🧠 Exciting Programs at the Crestline Branch Library! \n🌟 Library Beginners:\nNew to the library? No problem! Discover how to find books\, use resources\, and explore all the amazing services we offer. A perfect start for lifelong learners! \n🧠 Active Einsteins:\nLet young minds thrive with hands-on STEM activities\, experiments\, and creative learning designed to spark curiosity and inspire the next generation of thinkers! \n📅 Check our schedule for upcoming sessions and programs for all ages. The Crestline Branch Library is where learning meets fun! ✨
URL:https://www.crestlinechamber.org/event/library-beginners-%f0%9f%93%9a/2026-06-23/
LOCATION:Crestline Branch Library\, 24105 Lake Gregory Dr\, Crestline\, CA\, 92325
CATEGORIES:Community Event,Family Friendly
END:VEVENT
BEGIN:VEVENT
DTSTART;TZID=America/Los_Angeles:20260626T190000
DTEND;TZID=America/Los_Angeles:20260626T230000
DTSTAMP:20260423T121009
CREATED:20250731T204051Z
LAST-MODIFIED:20250731T204220Z
UID:10006382-1782500400-1782514800@www.crestlinechamber.org
SUMMARY:Friday Night Karaoke! 🎤 🎼 🎸
DESCRIPTION:
URL:https://www.crestlinechamber.org/event/friday-night-karaoke-%f0%9f%8e%a4-%f0%9f%8e%bc-%f0%9f%8e%b8/2026-06-26/
LOCATION:The Tudor House\, Lake Arrowhead\, 850 Arrowhead Villa Road\, Lake Arrowhead\, 92352\, United States
CATEGORIES:Community Event,Family Friendly,Live Music
ATTACH;FMTTYPE=image/jpeg:https://www.crestlinechamber.org/wp-content/uploads/2025/07/THKaraokeWebsiteImage-1640-x-924-px.jpg
END:VEVENT
BEGIN:VEVENT
DTSTART;TZID=America/Los_Angeles:20260630T113000
DTEND;TZID=America/Los_Angeles:20260630T123000
DTSTAMP:20260423T121009
CREATED:20250127T195254Z
LAST-MODIFIED:20250127T201007Z
UID:10002440-1782819000-1782822600@www.crestlinechamber.org
SUMMARY:Library Beginners\, Active Einsteins  📚🧠
DESCRIPTION:📚🧠 Exciting Programs at the Crestline Branch Library! \n🌟 Library Beginners:\nNew to the library? No problem! Discover how to find books\, use resources\, and explore all the amazing services we offer. A perfect start for lifelong learners! \n🧠 Active Einsteins:\nLet young minds thrive with hands-on STEM activities\, experiments\, and creative learning designed to spark curiosity and inspire the next generation of thinkers! \n📅 Check our schedule for upcoming sessions and programs for all ages. The Crestline Branch Library is where learning meets fun! ✨
URL:https://www.crestlinechamber.org/event/library-beginners-%f0%9f%93%9a/2026-06-30/
LOCATION:Crestline Branch Library\, 24105 Lake Gregory Dr\, Crestline\, CA\, 92325
CATEGORIES:Community Event,Family Friendly
END:VEVENT
BEGIN:VEVENT
DTSTART;TZID=America/Los_Angeles:20260703T190000
DTEND;TZID=America/Los_Angeles:20260703T230000
DTSTAMP:20260423T121009
CREATED:20250731T204051Z
LAST-MODIFIED:20250731T204220Z
UID:10006383-1783105200-1783119600@www.crestlinechamber.org
SUMMARY:Friday Night Karaoke! 🎤 🎼 🎸
DESCRIPTION:
URL:https://www.crestlinechamber.org/event/friday-night-karaoke-%f0%9f%8e%a4-%f0%9f%8e%bc-%f0%9f%8e%b8/2026-07-03/
LOCATION:The Tudor House\, Lake Arrowhead\, 850 Arrowhead Villa Road\, Lake Arrowhead\, 92352\, United States
CATEGORIES:Community Event,Family Friendly,Live Music
ATTACH;FMTTYPE=image/jpeg:https://www.crestlinechamber.org/wp-content/uploads/2025/07/THKaraokeWebsiteImage-1640-x-924-px.jpg
END:VEVENT
BEGIN:VEVENT
DTSTART;TZID=America/Los_Angeles:20260703T210000
DTEND;TZID=America/Los_Angeles:20260703T213000
DTSTAMP:20260423T121009
CREATED:20250924T160237Z
LAST-MODIFIED:20250924T160237Z
UID:10006942-1783112400-1783114200@www.crestlinechamber.org
SUMMARY:Jamboree Days Fireworks 🎇 🧨 🎆
DESCRIPTION:
URL:https://www.crestlinechamber.org/event/jamboree-days-fireworks-%f0%9f%8e%87-%f0%9f%a7%a8-%f0%9f%8e%86/
LOCATION:Lake Gregory\, Crestline\, CA\, 92325\, United States
GEO:34.2429169;-117.2752583
END:VEVENT
BEGIN:VEVENT
DTSTART;VALUE=DATE:20260704
DTEND;VALUE=DATE:20260705
DTSTAMP:20260423T121009
CREATED:20250924T160422Z
LAST-MODIFIED:20250924T160422Z
UID:10006943-1783123200-1783209599@www.crestlinechamber.org
SUMMARY:Jamboree Days Parade & Open Street Fair 🎉 🇺🇸
DESCRIPTION:
URL:https://www.crestlinechamber.org/event/jamboree-days-parade-open-street-fair-%f0%9f%8e%89-%f0%9f%87%ba%f0%9f%87%b8/
LOCATION:Downtown and Top Town Crestline\, Crestline\, CA\, 92325
END:VEVENT
BEGIN:VEVENT
DTSTART;TZID=America/Los_Angeles:20260707T113000
DTEND;TZID=America/Los_Angeles:20260707T123000
DTSTAMP:20260423T121009
CREATED:20250127T195254Z
LAST-MODIFIED:20250127T201007Z
UID:10002441-1783423800-1783427400@www.crestlinechamber.org
SUMMARY:Library Beginners\, Active Einsteins  📚🧠
DESCRIPTION:📚🧠 Exciting Programs at the Crestline Branch Library! \n🌟 Library Beginners:\nNew to the library? No problem! Discover how to find books\, use resources\, and explore all the amazing services we offer. A perfect start for lifelong learners! \n🧠 Active Einsteins:\nLet young minds thrive with hands-on STEM activities\, experiments\, and creative learning designed to spark curiosity and inspire the next generation of thinkers! \n📅 Check our schedule for upcoming sessions and programs for all ages. The Crestline Branch Library is where learning meets fun! ✨
URL:https://www.crestlinechamber.org/event/library-beginners-%f0%9f%93%9a/2026-07-07/
LOCATION:Crestline Branch Library\, 24105 Lake Gregory Dr\, Crestline\, CA\, 92325
CATEGORIES:Community Event,Family Friendly
END:VEVENT
BEGIN:VEVENT
DTSTART;TZID=America/Los_Angeles:20260710T190000
DTEND;TZID=America/Los_Angeles:20260710T230000
DTSTAMP:20260423T121009
CREATED:20250731T204051Z
LAST-MODIFIED:20250731T204220Z
UID:10006384-1783710000-1783724400@www.crestlinechamber.org
SUMMARY:Friday Night Karaoke! 🎤 🎼 🎸
DESCRIPTION:
URL:https://www.crestlinechamber.org/event/friday-night-karaoke-%f0%9f%8e%a4-%f0%9f%8e%bc-%f0%9f%8e%b8/2026-07-10/
LOCATION:The Tudor House\, Lake Arrowhead\, 850 Arrowhead Villa Road\, Lake Arrowhead\, 92352\, United States
CATEGORIES:Community Event,Family Friendly,Live Music
ATTACH;FMTTYPE=image/jpeg:https://www.crestlinechamber.org/wp-content/uploads/2025/07/THKaraokeWebsiteImage-1640-x-924-px.jpg
END:VEVENT
BEGIN:VEVENT
DTSTART;TZID=America/Los_Angeles:20260714T113000
DTEND;TZID=America/Los_Angeles:20260714T123000
DTSTAMP:20260423T121009
CREATED:20250127T195254Z
LAST-MODIFIED:20250127T201007Z
UID:10002442-1784028600-1784032200@www.crestlinechamber.org
SUMMARY:Library Beginners\, Active Einsteins  📚🧠
DESCRIPTION:📚🧠 Exciting Programs at the Crestline Branch Library! \n🌟 Library Beginners:\nNew to the library? No problem! Discover how to find books\, use resources\, and explore all the amazing services we offer. A perfect start for lifelong learners! \n🧠 Active Einsteins:\nLet young minds thrive with hands-on STEM activities\, experiments\, and creative learning designed to spark curiosity and inspire the next generation of thinkers! \n📅 Check our schedule for upcoming sessions and programs for all ages. The Crestline Branch Library is where learning meets fun! ✨
URL:https://www.crestlinechamber.org/event/library-beginners-%f0%9f%93%9a/2026-07-14/
LOCATION:Crestline Branch Library\, 24105 Lake Gregory Dr\, Crestline\, CA\, 92325
CATEGORIES:Community Event,Family Friendly
END:VEVENT
END:VCALENDAR