BEGIN:VCALENDAR
VERSION:2.0
PRODID:-//Crestline Chamber of Commerce - ECPv6.15.20//NONSGML v1.0//EN
CALSCALE:GREGORIAN
METHOD:PUBLISH
X-WR-CALNAME:Crestline Chamber of Commerce
X-ORIGINAL-URL:https://www.crestlinechamber.org
X-WR-CALDESC:Events for Crestline Chamber of Commerce
REFRESH-INTERVAL;VALUE=DURATION:PT1H
X-Robots-Tag:noindex
X-PUBLISHED-TTL:PT1H
BEGIN:VTIMEZONE
TZID:America/Los_Angeles
BEGIN:DAYLIGHT
TZOFFSETFROM:-0800
TZOFFSETTO:-0700
TZNAME:PDT
DTSTART:20240310T100000
END:DAYLIGHT
BEGIN:STANDARD
TZOFFSETFROM:-0700
TZOFFSETTO:-0800
TZNAME:PST
DTSTART:20241103T090000
END:STANDARD
BEGIN:DAYLIGHT
TZOFFSETFROM:-0800
TZOFFSETTO:-0700
TZNAME:PDT
DTSTART:20250309T100000
END:DAYLIGHT
BEGIN:STANDARD
TZOFFSETFROM:-0700
TZOFFSETTO:-0800
TZNAME:PST
DTSTART:20251102T090000
END:STANDARD
BEGIN:DAYLIGHT
TZOFFSETFROM:-0800
TZOFFSETTO:-0700
TZNAME:PDT
DTSTART:20260308T100000
END:DAYLIGHT
BEGIN:STANDARD
TZOFFSETFROM:-0700
TZOFFSETTO:-0800
TZNAME:PST
DTSTART:20261101T090000
END:STANDARD
END:VTIMEZONE
BEGIN:VEVENT
DTSTART;TZID=America/Los_Angeles:20250912T190000
DTEND;TZID=America/Los_Angeles:20250912T230000
DTSTAMP:20260424T024411
CREATED:20250731T204051Z
LAST-MODIFIED:20250731T204220Z
UID:10006341-1757703600-1757718000@www.crestlinechamber.org
SUMMARY:Friday Night Karaoke! 🎤 🎼 🎸
DESCRIPTION:
URL:https://www.crestlinechamber.org/event/friday-night-karaoke-%f0%9f%8e%a4-%f0%9f%8e%bc-%f0%9f%8e%b8/2025-09-12/
LOCATION:The Tudor House\, Lake Arrowhead\, 850 Arrowhead Villa Road\, Lake Arrowhead\, 92352\, United States
CATEGORIES:Community Event,Family Friendly,Live Music
ATTACH;FMTTYPE=image/jpeg:https://www.crestlinechamber.org/wp-content/uploads/2025/07/THKaraokeWebsiteImage-1640-x-924-px.jpg
END:VEVENT
BEGIN:VEVENT
DTSTART;TZID=America/Los_Angeles:20250909T113000
DTEND;TZID=America/Los_Angeles:20250909T123000
DTSTAMP:20260424T024411
CREATED:20250127T195254Z
LAST-MODIFIED:20250127T201007Z
UID:10002398-1757417400-1757421000@www.crestlinechamber.org
SUMMARY:Library Beginners\, Active Einsteins  📚🧠
DESCRIPTION:📚🧠 Exciting Programs at the Crestline Branch Library! \n🌟 Library Beginners:\nNew to the library? No problem! Discover how to find books\, use resources\, and explore all the amazing services we offer. A perfect start for lifelong learners! \n🧠 Active Einsteins:\nLet young minds thrive with hands-on STEM activities\, experiments\, and creative learning designed to spark curiosity and inspire the next generation of thinkers! \n📅 Check our schedule for upcoming sessions and programs for all ages. The Crestline Branch Library is where learning meets fun! ✨
URL:https://www.crestlinechamber.org/event/library-beginners-%f0%9f%93%9a/2025-09-09/
LOCATION:Crestline Branch Library\, 24105 Lake Gregory Dr\, Crestline\, CA\, 92325
CATEGORIES:Community Event,Family Friendly
END:VEVENT
BEGIN:VEVENT
DTSTART;TZID=America/Los_Angeles:20250905T190000
DTEND;TZID=America/Los_Angeles:20250905T230000
DTSTAMP:20260424T024411
CREATED:20250731T204051Z
LAST-MODIFIED:20250731T204220Z
UID:10006340-1757098800-1757113200@www.crestlinechamber.org
SUMMARY:Friday Night Karaoke! 🎤 🎼 🎸
DESCRIPTION:
URL:https://www.crestlinechamber.org/event/friday-night-karaoke-%f0%9f%8e%a4-%f0%9f%8e%bc-%f0%9f%8e%b8/2025-09-05/
LOCATION:The Tudor House\, Lake Arrowhead\, 850 Arrowhead Villa Road\, Lake Arrowhead\, 92352\, United States
CATEGORIES:Community Event,Family Friendly,Live Music
ATTACH;FMTTYPE=image/jpeg:https://www.crestlinechamber.org/wp-content/uploads/2025/07/THKaraokeWebsiteImage-1640-x-924-px.jpg
END:VEVENT
BEGIN:VEVENT
DTSTART;TZID=America/Los_Angeles:20250902T113000
DTEND;TZID=America/Los_Angeles:20250902T123000
DTSTAMP:20260424T024411
CREATED:20250127T195254Z
LAST-MODIFIED:20250127T201007Z
UID:10002397-1756812600-1756816200@www.crestlinechamber.org
SUMMARY:Library Beginners\, Active Einsteins  📚🧠
DESCRIPTION:📚🧠 Exciting Programs at the Crestline Branch Library! \n🌟 Library Beginners:\nNew to the library? No problem! Discover how to find books\, use resources\, and explore all the amazing services we offer. A perfect start for lifelong learners! \n🧠 Active Einsteins:\nLet young minds thrive with hands-on STEM activities\, experiments\, and creative learning designed to spark curiosity and inspire the next generation of thinkers! \n📅 Check our schedule for upcoming sessions and programs for all ages. The Crestline Branch Library is where learning meets fun! ✨
URL:https://www.crestlinechamber.org/event/library-beginners-%f0%9f%93%9a/2025-09-02/
LOCATION:Crestline Branch Library\, 24105 Lake Gregory Dr\, Crestline\, CA\, 92325
CATEGORIES:Community Event,Family Friendly
END:VEVENT
BEGIN:VEVENT
DTSTART;TZID=America/Los_Angeles:20250829T190000
DTEND;TZID=America/Los_Angeles:20250829T230000
DTSTAMP:20260424T024411
CREATED:20250731T204051Z
LAST-MODIFIED:20250731T204220Z
UID:10006339-1756494000-1756508400@www.crestlinechamber.org
SUMMARY:Friday Night Karaoke! 🎤 🎼 🎸
DESCRIPTION:
URL:https://www.crestlinechamber.org/event/friday-night-karaoke-%f0%9f%8e%a4-%f0%9f%8e%bc-%f0%9f%8e%b8/2025-08-29/
LOCATION:The Tudor House\, Lake Arrowhead\, 850 Arrowhead Villa Road\, Lake Arrowhead\, 92352\, United States
CATEGORIES:Community Event,Family Friendly,Live Music
ATTACH;FMTTYPE=image/jpeg:https://www.crestlinechamber.org/wp-content/uploads/2025/07/THKaraokeWebsiteImage-1640-x-924-px.jpg
END:VEVENT
BEGIN:VEVENT
DTSTART;TZID=America/Los_Angeles:20250828T180000
DTEND;TZID=America/Los_Angeles:20250828T193000
DTSTAMP:20260424T024411
CREATED:20250731T203749Z
LAST-MODIFIED:20250731T203749Z
UID:10006334-1756404000-1756409400@www.crestlinechamber.org
SUMMARY:Theater Games & Beginning Improv Exercises 🎭
DESCRIPTION:
URL:https://www.crestlinechamber.org/event/theater-games-beginning-improv-exercises-%f0%9f%8e%ad/2025-08-28/
LOCATION:Mountain Couseling & Training HQ\, 340 CA-138\, Crestline\, CA\, 92325
CATEGORIES:Community Event,Community Meeting,Family Friendly
ATTACH;FMTTYPE=image/png:https://www.crestlinechamber.org/wp-content/uploads/2025/07/Improv-Workshop-Flyer-1.png
END:VEVENT
BEGIN:VEVENT
DTSTART;TZID=America/Los_Angeles:20250826T190000
DTEND;TZID=America/Los_Angeles:20250826T203000
DTSTAMP:20260424T024411
CREATED:20250731T203330Z
LAST-MODIFIED:20250731T203330Z
UID:10006328-1756234800-1756240200@www.crestlinechamber.org
SUMMARY:MBDC Monthly Meeting 📅
DESCRIPTION:
URL:https://www.crestlinechamber.org/event/mbdc-monthly-meeting-%f0%9f%93%85/2025-08-26/
LOCATION:Online
CATEGORIES:Community Meeting
ATTACH;FMTTYPE=application/pdf:https://www.crestlinechamber.org/wp-content/uploads/2025/07/img20250619_09504098.pdf
END:VEVENT
BEGIN:VEVENT
DTSTART;TZID=America/Los_Angeles:20250826T190000
DTEND;TZID=America/Los_Angeles:20250826T203000
DTSTAMP:20260424T024411
CREATED:20250619T172834Z
LAST-MODIFIED:20250619T172834Z
UID:10005470-1756234800-1756240200@www.crestlinechamber.org
SUMMARY:Mountain Bears Democrats Meeting 📅
DESCRIPTION:Zoom Listen Only – Email Mountainbeardemsecretary@gmail.com for link!
URL:https://www.crestlinechamber.org/event/mountain-bears-democrats-meeting-%f0%9f%93%85/2025-08-26/
LOCATION:26816 CA – 189\, Blue Jay\, 26186 CA-189\, Blue Jay\, CA\, 92317\, United States
END:VEVENT
BEGIN:VEVENT
DTSTART;TZID=America/Los_Angeles:20250826T113000
DTEND;TZID=America/Los_Angeles:20250826T123000
DTSTAMP:20260424T024411
CREATED:20250127T195254Z
LAST-MODIFIED:20250127T201007Z
UID:10002396-1756207800-1756211400@www.crestlinechamber.org
SUMMARY:Library Beginners\, Active Einsteins  📚🧠
DESCRIPTION:📚🧠 Exciting Programs at the Crestline Branch Library! \n🌟 Library Beginners:\nNew to the library? No problem! Discover how to find books\, use resources\, and explore all the amazing services we offer. A perfect start for lifelong learners! \n🧠 Active Einsteins:\nLet young minds thrive with hands-on STEM activities\, experiments\, and creative learning designed to spark curiosity and inspire the next generation of thinkers! \n📅 Check our schedule for upcoming sessions and programs for all ages. The Crestline Branch Library is where learning meets fun! ✨
URL:https://www.crestlinechamber.org/event/library-beginners-%f0%9f%93%9a/2025-08-26/
LOCATION:Crestline Branch Library\, 24105 Lake Gregory Dr\, Crestline\, CA\, 92325
CATEGORIES:Community Event,Family Friendly
END:VEVENT
BEGIN:VEVENT
DTSTART;TZID=America/Los_Angeles:20250823T130000
DTEND;TZID=America/Los_Angeles:20250823T210000
DTSTAMP:20260424T024411
CREATED:20250619T174936Z
LAST-MODIFIED:20250619T174936Z
UID:10005474-1755954000-1755982800@www.crestlinechamber.org
SUMMARY:Brawlin Brews 🍻 🤼
DESCRIPTION:
URL:https://www.crestlinechamber.org/event/brawlin-brews-%f0%9f%8d%bb-%f0%9f%a4%bc/
LOCATION:The Tudor House\, Lake Arrowhead\, 850 Arrowhead Villa Road\, Lake Arrowhead\, 92352\, United States
CATEGORIES:Community Event,Family Friendly,Live Music
END:VEVENT
BEGIN:VEVENT
DTSTART;TZID=America/Los_Angeles:20250822T190000
DTEND;TZID=America/Los_Angeles:20250822T230000
DTSTAMP:20260424T024411
CREATED:20250731T204051Z
LAST-MODIFIED:20250731T204220Z
UID:10006338-1755889200-1755903600@www.crestlinechamber.org
SUMMARY:Friday Night Karaoke! 🎤 🎼 🎸
DESCRIPTION:
URL:https://www.crestlinechamber.org/event/friday-night-karaoke-%f0%9f%8e%a4-%f0%9f%8e%bc-%f0%9f%8e%b8/2025-08-22/
LOCATION:The Tudor House\, Lake Arrowhead\, 850 Arrowhead Villa Road\, Lake Arrowhead\, 92352\, United States
CATEGORIES:Community Event,Family Friendly,Live Music
ATTACH;FMTTYPE=image/jpeg:https://www.crestlinechamber.org/wp-content/uploads/2025/07/THKaraokeWebsiteImage-1640-x-924-px.jpg
END:VEVENT
BEGIN:VEVENT
DTSTART;TZID=America/Los_Angeles:20250821T180000
DTEND;TZID=America/Los_Angeles:20250821T193000
DTSTAMP:20260424T024411
CREATED:20250731T203749Z
LAST-MODIFIED:20250731T203749Z
UID:10006333-1755799200-1755804600@www.crestlinechamber.org
SUMMARY:Theater Games & Beginning Improv Exercises 🎭
DESCRIPTION:
URL:https://www.crestlinechamber.org/event/theater-games-beginning-improv-exercises-%f0%9f%8e%ad/2025-08-21/
LOCATION:Mountain Couseling & Training HQ\, 340 CA-138\, Crestline\, CA\, 92325
CATEGORIES:Community Event,Community Meeting,Family Friendly
ATTACH;FMTTYPE=image/png:https://www.crestlinechamber.org/wp-content/uploads/2025/07/Improv-Workshop-Flyer-1.png
END:VEVENT
BEGIN:VEVENT
DTSTART;TZID=America/Los_Angeles:20250819T173000
DTEND;TZID=America/Los_Angeles:20250819T183000
DTSTAMP:20260424T024411
CREATED:20250114T204019Z
LAST-MODIFIED:20260421T155143Z
UID:10002041-1755624600-1755628200@www.crestlinechamber.org
SUMMARY:Monthly Open Board Meeting 📆
DESCRIPTION:📢 Join us for the Crestline Chamber of Commerce Monthly Open Board Meeting! 🌟 Connect with local leaders\, share your ideas\, and stay informed about the latest community developments. This is your chance to have your voice heard and play a part in shaping Crestline’s future. Let’s work together to make our town thrive—see you there! 🏞️🤝
URL:https://www.crestlinechamber.org/event/monthly-open-board-meeting-%f0%9f%93%86/2025-08-19/
LOCATION:Crestline Chamber Office\, 24385 Lake Dr\, Crestline\, CA\, 92325\, United States
CATEGORIES:Community Meeting,Crestline Chamber Event,Lake Gregory,Monthly Chamber Meetings
ATTACH;FMTTYPE=image/jpeg:https://www.crestlinechamber.org/wp-content/uploads/2024/04/monthly-meeting.jpg
GEO:34.2437662;-117.2707116
X-APPLE-STRUCTURED-LOCATION;VALUE=URI;X-ADDRESS=Crestline Chamber Office 24385 Lake Dr Crestline CA 92325 United States;X-APPLE-RADIUS=500;X-TITLE=24385 Lake Dr:geo:-117.2707116,34.2437662
END:VEVENT
BEGIN:VEVENT
DTSTART;TZID=America/Los_Angeles:20250819T113000
DTEND;TZID=America/Los_Angeles:20250819T123000
DTSTAMP:20260424T024411
CREATED:20250127T195254Z
LAST-MODIFIED:20250127T201007Z
UID:10002395-1755603000-1755606600@www.crestlinechamber.org
SUMMARY:Library Beginners\, Active Einsteins  📚🧠
DESCRIPTION:📚🧠 Exciting Programs at the Crestline Branch Library! \n🌟 Library Beginners:\nNew to the library? No problem! Discover how to find books\, use resources\, and explore all the amazing services we offer. A perfect start for lifelong learners! \n🧠 Active Einsteins:\nLet young minds thrive with hands-on STEM activities\, experiments\, and creative learning designed to spark curiosity and inspire the next generation of thinkers! \n📅 Check our schedule for upcoming sessions and programs for all ages. The Crestline Branch Library is where learning meets fun! ✨
URL:https://www.crestlinechamber.org/event/library-beginners-%f0%9f%93%9a/2025-08-19/
LOCATION:Crestline Branch Library\, 24105 Lake Gregory Dr\, Crestline\, CA\, 92325
CATEGORIES:Community Event,Family Friendly
END:VEVENT
BEGIN:VEVENT
DTSTART;TZID=America/Los_Angeles:20250815T190000
DTEND;TZID=America/Los_Angeles:20250815T230000
DTSTAMP:20260424T024411
CREATED:20250731T204051Z
LAST-MODIFIED:20250731T204220Z
UID:10006337-1755284400-1755298800@www.crestlinechamber.org
SUMMARY:Friday Night Karaoke! 🎤 🎼 🎸
DESCRIPTION:
URL:https://www.crestlinechamber.org/event/friday-night-karaoke-%f0%9f%8e%a4-%f0%9f%8e%bc-%f0%9f%8e%b8/2025-08-15/
LOCATION:The Tudor House\, Lake Arrowhead\, 850 Arrowhead Villa Road\, Lake Arrowhead\, 92352\, United States
CATEGORIES:Community Event,Family Friendly,Live Music
ATTACH;FMTTYPE=image/jpeg:https://www.crestlinechamber.org/wp-content/uploads/2025/07/THKaraokeWebsiteImage-1640-x-924-px.jpg
END:VEVENT
BEGIN:VEVENT
DTSTART;TZID=America/Los_Angeles:20250814T180000
DTEND;TZID=America/Los_Angeles:20250814T193000
DTSTAMP:20260424T024411
CREATED:20250731T203749Z
LAST-MODIFIED:20250731T203749Z
UID:10006332-1755194400-1755199800@www.crestlinechamber.org
SUMMARY:Theater Games & Beginning Improv Exercises 🎭
DESCRIPTION:
URL:https://www.crestlinechamber.org/event/theater-games-beginning-improv-exercises-%f0%9f%8e%ad/2025-08-14/
LOCATION:Mountain Couseling & Training HQ\, 340 CA-138\, Crestline\, CA\, 92325
CATEGORIES:Community Event,Community Meeting,Family Friendly
ATTACH;FMTTYPE=image/png:https://www.crestlinechamber.org/wp-content/uploads/2025/07/Improv-Workshop-Flyer-1.png
END:VEVENT
BEGIN:VEVENT
DTSTART;TZID=America/Los_Angeles:20250812T113000
DTEND;TZID=America/Los_Angeles:20250812T123000
DTSTAMP:20260424T024412
CREATED:20250127T195254Z
LAST-MODIFIED:20250127T201007Z
UID:10002394-1754998200-1755001800@www.crestlinechamber.org
SUMMARY:Library Beginners\, Active Einsteins  📚🧠
DESCRIPTION:📚🧠 Exciting Programs at the Crestline Branch Library! \n🌟 Library Beginners:\nNew to the library? No problem! Discover how to find books\, use resources\, and explore all the amazing services we offer. A perfect start for lifelong learners! \n🧠 Active Einsteins:\nLet young minds thrive with hands-on STEM activities\, experiments\, and creative learning designed to spark curiosity and inspire the next generation of thinkers! \n📅 Check our schedule for upcoming sessions and programs for all ages. The Crestline Branch Library is where learning meets fun! ✨
URL:https://www.crestlinechamber.org/event/library-beginners-%f0%9f%93%9a/2025-08-12/
LOCATION:Crestline Branch Library\, 24105 Lake Gregory Dr\, Crestline\, CA\, 92325
CATEGORIES:Community Event,Family Friendly
END:VEVENT
BEGIN:VEVENT
DTSTART;TZID=America/Los_Angeles:20250808T190000
DTEND;TZID=America/Los_Angeles:20250808T230000
DTSTAMP:20260424T024412
CREATED:20250731T204051Z
LAST-MODIFIED:20250731T204220Z
UID:10006336-1754679600-1754694000@www.crestlinechamber.org
SUMMARY:Friday Night Karaoke! 🎤 🎼 🎸
DESCRIPTION:
URL:https://www.crestlinechamber.org/event/friday-night-karaoke-%f0%9f%8e%a4-%f0%9f%8e%bc-%f0%9f%8e%b8/2025-08-08/
LOCATION:The Tudor House\, Lake Arrowhead\, 850 Arrowhead Villa Road\, Lake Arrowhead\, 92352\, United States
CATEGORIES:Community Event,Family Friendly,Live Music
ATTACH;FMTTYPE=image/jpeg:https://www.crestlinechamber.org/wp-content/uploads/2025/07/THKaraokeWebsiteImage-1640-x-924-px.jpg
END:VEVENT
BEGIN:VEVENT
DTSTART;TZID=America/Los_Angeles:20250807T180000
DTEND;TZID=America/Los_Angeles:20250807T193000
DTSTAMP:20260424T024412
CREATED:20250731T203749Z
LAST-MODIFIED:20250731T203749Z
UID:10006331-1754589600-1754595000@www.crestlinechamber.org
SUMMARY:Theater Games & Beginning Improv Exercises 🎭
DESCRIPTION:
URL:https://www.crestlinechamber.org/event/theater-games-beginning-improv-exercises-%f0%9f%8e%ad/2025-08-07/
LOCATION:Mountain Couseling & Training HQ\, 340 CA-138\, Crestline\, CA\, 92325
CATEGORIES:Community Event,Community Meeting,Family Friendly
ATTACH;FMTTYPE=image/png:https://www.crestlinechamber.org/wp-content/uploads/2025/07/Improv-Workshop-Flyer-1.png
END:VEVENT
BEGIN:VEVENT
DTSTART;TZID=America/Los_Angeles:20250805T113000
DTEND;TZID=America/Los_Angeles:20250805T123000
DTSTAMP:20260424T024412
CREATED:20250127T195254Z
LAST-MODIFIED:20250127T201007Z
UID:10002393-1754393400-1754397000@www.crestlinechamber.org
SUMMARY:Library Beginners\, Active Einsteins  📚🧠
DESCRIPTION:📚🧠 Exciting Programs at the Crestline Branch Library! \n🌟 Library Beginners:\nNew to the library? No problem! Discover how to find books\, use resources\, and explore all the amazing services we offer. A perfect start for lifelong learners! \n🧠 Active Einsteins:\nLet young minds thrive with hands-on STEM activities\, experiments\, and creative learning designed to spark curiosity and inspire the next generation of thinkers! \n📅 Check our schedule for upcoming sessions and programs for all ages. The Crestline Branch Library is where learning meets fun! ✨
URL:https://www.crestlinechamber.org/event/library-beginners-%f0%9f%93%9a/2025-08-05/
LOCATION:Crestline Branch Library\, 24105 Lake Gregory Dr\, Crestline\, CA\, 92325
CATEGORIES:Community Event,Family Friendly
END:VEVENT
BEGIN:VEVENT
DTSTART;TZID=America/Los_Angeles:20250802T150000
DTEND;TZID=America/Los_Angeles:20250802T200000
DTSTAMP:20260424T024412
CREATED:20250114T200745Z
LAST-MODIFIED:20250114T200745Z
UID:10002028-1754146800-1754164800@www.crestlinechamber.org
SUMMARY:Summer Series: Corks N' Hops ✨🍷🍻❤️
DESCRIPTION:🍷🎶 Corks N’ Hops is back and better than ever—your favorite summer tradition is here to keep the good times flowing! Stroll\, sip\, and savor fine wine\, craft beer\, and mouthwatering bites\, all set to the beat of live music. It’s the event of the season\, where every stop is a toast to unforgettable summer nights. Let’s raise a glass and make it a night to remember! 🌟🍺🎉
URL:https://www.crestlinechamber.org/event/summer-series-corks-n-hops-%e2%9c%a8%f0%9f%8d%b7%f0%9f%8d%bb%e2%9d%a4%ef%b8%8f/
LOCATION:Lake Drive (Next to 7-11)\, 24152 Lake Drive\, Crestline\, CA\, 92325\, United States
CATEGORIES:Community Event,Crestline Chamber Event,Lake Gregory,Live Music
END:VEVENT
BEGIN:VEVENT
DTSTART;TZID=America/Los_Angeles:20250801T190000
DTEND;TZID=America/Los_Angeles:20250801T230000
DTSTAMP:20260424T024412
CREATED:20250731T204051Z
LAST-MODIFIED:20250731T204220Z
UID:10006335-1754074800-1754089200@www.crestlinechamber.org
SUMMARY:Friday Night Karaoke! 🎤 🎼 🎸
DESCRIPTION:
URL:https://www.crestlinechamber.org/event/friday-night-karaoke-%f0%9f%8e%a4-%f0%9f%8e%bc-%f0%9f%8e%b8/2025-08-01/
LOCATION:The Tudor House\, Lake Arrowhead\, 850 Arrowhead Villa Road\, Lake Arrowhead\, 92352\, United States
CATEGORIES:Community Event,Family Friendly,Live Music
ATTACH;FMTTYPE=image/jpeg:https://www.crestlinechamber.org/wp-content/uploads/2025/07/THKaraokeWebsiteImage-1640-x-924-px.jpg
END:VEVENT
BEGIN:VEVENT
DTSTART;TZID=America/Los_Angeles:20250729T113000
DTEND;TZID=America/Los_Angeles:20250729T123000
DTSTAMP:20260424T024412
CREATED:20250127T195254Z
LAST-MODIFIED:20250127T201007Z
UID:10002392-1753788600-1753792200@www.crestlinechamber.org
SUMMARY:Library Beginners\, Active Einsteins  📚🧠
DESCRIPTION:📚🧠 Exciting Programs at the Crestline Branch Library! \n🌟 Library Beginners:\nNew to the library? No problem! Discover how to find books\, use resources\, and explore all the amazing services we offer. A perfect start for lifelong learners! \n🧠 Active Einsteins:\nLet young minds thrive with hands-on STEM activities\, experiments\, and creative learning designed to spark curiosity and inspire the next generation of thinkers! \n📅 Check our schedule for upcoming sessions and programs for all ages. The Crestline Branch Library is where learning meets fun! ✨
URL:https://www.crestlinechamber.org/event/library-beginners-%f0%9f%93%9a/2025-07-29/
LOCATION:Crestline Branch Library\, 24105 Lake Gregory Dr\, Crestline\, CA\, 92325
CATEGORIES:Community Event,Family Friendly
END:VEVENT
BEGIN:VEVENT
DTSTART;TZID=America/Los_Angeles:20250722T190000
DTEND;TZID=America/Los_Angeles:20250722T203000
DTSTAMP:20260424T024412
CREATED:20250619T172834Z
LAST-MODIFIED:20250619T172834Z
UID:10005469-1753210800-1753216200@www.crestlinechamber.org
SUMMARY:Mountain Bears Democrats Meeting 📅
DESCRIPTION:Zoom Listen Only – Email Mountainbeardemsecretary@gmail.com for link!
URL:https://www.crestlinechamber.org/event/mountain-bears-democrats-meeting-%f0%9f%93%85/2025-07-22/
LOCATION:26816 CA – 189\, Blue Jay\, 26186 CA-189\, Blue Jay\, CA\, 92317\, United States
END:VEVENT
BEGIN:VEVENT
DTSTART;TZID=America/Los_Angeles:20250722T113000
DTEND;TZID=America/Los_Angeles:20250722T123000
DTSTAMP:20260424T024412
CREATED:20250127T195254Z
LAST-MODIFIED:20250127T201007Z
UID:10002391-1753183800-1753187400@www.crestlinechamber.org
SUMMARY:Library Beginners\, Active Einsteins  📚🧠
DESCRIPTION:📚🧠 Exciting Programs at the Crestline Branch Library! \n🌟 Library Beginners:\nNew to the library? No problem! Discover how to find books\, use resources\, and explore all the amazing services we offer. A perfect start for lifelong learners! \n🧠 Active Einsteins:\nLet young minds thrive with hands-on STEM activities\, experiments\, and creative learning designed to spark curiosity and inspire the next generation of thinkers! \n📅 Check our schedule for upcoming sessions and programs for all ages. The Crestline Branch Library is where learning meets fun! ✨
URL:https://www.crestlinechamber.org/event/library-beginners-%f0%9f%93%9a/2025-07-22/
LOCATION:Crestline Branch Library\, 24105 Lake Gregory Dr\, Crestline\, CA\, 92325
CATEGORIES:Community Event,Family Friendly
END:VEVENT
BEGIN:VEVENT
DTSTART;TZID=America/Los_Angeles:20250715T173000
DTEND;TZID=America/Los_Angeles:20250715T183000
DTSTAMP:20260424T024412
CREATED:20250114T204019Z
LAST-MODIFIED:20260421T155143Z
UID:10002040-1752600600-1752604200@www.crestlinechamber.org
SUMMARY:Monthly Open Board Meeting 📆
DESCRIPTION:📢 Join us for the Crestline Chamber of Commerce Monthly Open Board Meeting! 🌟 Connect with local leaders\, share your ideas\, and stay informed about the latest community developments. This is your chance to have your voice heard and play a part in shaping Crestline’s future. Let’s work together to make our town thrive—see you there! 🏞️🤝
URL:https://www.crestlinechamber.org/event/monthly-open-board-meeting-%f0%9f%93%86/2025-07-15/
LOCATION:Crestline Chamber Office\, 24385 Lake Dr\, Crestline\, CA\, 92325\, United States
CATEGORIES:Community Meeting,Crestline Chamber Event,Lake Gregory,Monthly Chamber Meetings
ATTACH;FMTTYPE=image/jpeg:https://www.crestlinechamber.org/wp-content/uploads/2024/04/monthly-meeting.jpg
GEO:34.2437662;-117.2707116
X-APPLE-STRUCTURED-LOCATION;VALUE=URI;X-ADDRESS=Crestline Chamber Office 24385 Lake Dr Crestline CA 92325 United States;X-APPLE-RADIUS=500;X-TITLE=24385 Lake Dr:geo:-117.2707116,34.2437662
END:VEVENT
BEGIN:VEVENT
DTSTART;TZID=America/Los_Angeles:20250715T113000
DTEND;TZID=America/Los_Angeles:20250715T123000
DTSTAMP:20260424T024412
CREATED:20250127T195254Z
LAST-MODIFIED:20250127T201007Z
UID:10002390-1752579000-1752582600@www.crestlinechamber.org
SUMMARY:Library Beginners\, Active Einsteins  📚🧠
DESCRIPTION:📚🧠 Exciting Programs at the Crestline Branch Library! \n🌟 Library Beginners:\nNew to the library? No problem! Discover how to find books\, use resources\, and explore all the amazing services we offer. A perfect start for lifelong learners! \n🧠 Active Einsteins:\nLet young minds thrive with hands-on STEM activities\, experiments\, and creative learning designed to spark curiosity and inspire the next generation of thinkers! \n📅 Check our schedule for upcoming sessions and programs for all ages. The Crestline Branch Library is where learning meets fun! ✨
URL:https://www.crestlinechamber.org/event/library-beginners-%f0%9f%93%9a/2025-07-15/
LOCATION:Crestline Branch Library\, 24105 Lake Gregory Dr\, Crestline\, CA\, 92325
CATEGORIES:Community Event,Family Friendly
END:VEVENT
BEGIN:VEVENT
DTSTART;TZID=America/Los_Angeles:20250712T150000
DTEND;TZID=America/Los_Angeles:20250712T200000
DTSTAMP:20260424T024412
CREATED:20250114T195715Z
LAST-MODIFIED:20250114T200037Z
UID:10002027-1752332400-1752350400@www.crestlinechamber.org
SUMMARY:Summer Series: Corks N' Hops ❤️🍷🍻✨
DESCRIPTION:🍷🎶 Corks N’ Hops is back and better than ever—your favorite summer tradition is here to keep the good times flowing! Stroll\, sip and savor fine wine\, craft beer\, and mouthwatering bites\, all set to the beat of live music. It’s the event of the season\, where every stop is a toast to unforgettable summer nights. Let’s raise a glass and make it a night to remember! 🌟🍺🎉
URL:https://www.crestlinechamber.org/event/summer-series-corks-n-hops-%e2%9d%a4%ef%b8%8f%f0%9f%8d%b7%f0%9f%8d%bb%e2%9c%a8/
LOCATION:Lake Drive (Next to 7-11)\, 24152 Lake Drive\, Crestline\, CA\, 92325\, United States
CATEGORIES:Community Event,Crestline Chamber Event,Lake Gregory,Live Music
END:VEVENT
BEGIN:VEVENT
DTSTART;TZID=America/Los_Angeles:20250708T113000
DTEND;TZID=America/Los_Angeles:20250708T123000
DTSTAMP:20260424T024412
CREATED:20250127T195254Z
LAST-MODIFIED:20250127T201007Z
UID:10002389-1751974200-1751977800@www.crestlinechamber.org
SUMMARY:Library Beginners\, Active Einsteins  📚🧠
DESCRIPTION:📚🧠 Exciting Programs at the Crestline Branch Library! \n🌟 Library Beginners:\nNew to the library? No problem! Discover how to find books\, use resources\, and explore all the amazing services we offer. A perfect start for lifelong learners! \n🧠 Active Einsteins:\nLet young minds thrive with hands-on STEM activities\, experiments\, and creative learning designed to spark curiosity and inspire the next generation of thinkers! \n📅 Check our schedule for upcoming sessions and programs for all ages. The Crestline Branch Library is where learning meets fun! ✨
URL:https://www.crestlinechamber.org/event/library-beginners-%f0%9f%93%9a/2025-07-08/
LOCATION:Crestline Branch Library\, 24105 Lake Gregory Dr\, Crestline\, CA\, 92325
CATEGORIES:Community Event,Family Friendly
END:VEVENT
BEGIN:VEVENT
DTSTART;VALUE=DATE:20250705
DTEND;VALUE=DATE:20250706
DTSTAMP:20260424T024412
CREATED:20250114T202758Z
LAST-MODIFIED:20250114T202758Z
UID:10002032-1751673600-1751759999@www.crestlinechamber.org
SUMMARY:Jamboree Days! 🎆 🎇 🇺🇸 ⭐️
DESCRIPTION:🌟 Get ready for Crestline’s beloved Annual Jamboree Days\, a celebration of community\, tradition\, and fun! 🎉 This summer classic brings the town together with a lively parade\, exciting carnival rides\, live music\, and mouthwatering food vendors. From the patriotic spirit of the festivities to the dazzling fireworks show lighting up the night sky\, Jamboree Days is the perfect blend of small-town charm and big-time fun. Bring the whole family and make memories that will last a lifetime—Crestline is calling\, and the party’s waiting! 🇺🇸✨
URL:https://www.crestlinechamber.org/event/jamboree-days-%f0%9f%8e%86-%f0%9f%8e%87-%f0%9f%87%ba%f0%9f%87%b8-%e2%ad%90%ef%b8%8f/
LOCATION:Lake Gregory\, Crestline\, CA\, 92325\, United States
CATEGORIES:Community Event,Crestline Chamber Event,Family Friendly,Lake Gregory,Live Music
GEO:34.2429169;-117.2752583
END:VEVENT
END:VCALENDAR