BEGIN:VCALENDAR
VERSION:2.0
PRODID:-//Crestline Chamber of Commerce - ECPv6.15.20//NONSGML v1.0//EN
CALSCALE:GREGORIAN
METHOD:PUBLISH
X-WR-CALNAME:Crestline Chamber of Commerce
X-ORIGINAL-URL:https://www.crestlinechamber.org
X-WR-CALDESC:Events for Crestline Chamber of Commerce
REFRESH-INTERVAL;VALUE=DURATION:PT1H
X-Robots-Tag:noindex
X-PUBLISHED-TTL:PT1H
BEGIN:VTIMEZONE
TZID:America/Los_Angeles
BEGIN:DAYLIGHT
TZOFFSETFROM:-0800
TZOFFSETTO:-0700
TZNAME:PDT
DTSTART:20210314T100000
END:DAYLIGHT
BEGIN:STANDARD
TZOFFSETFROM:-0700
TZOFFSETTO:-0800
TZNAME:PST
DTSTART:20211107T090000
END:STANDARD
BEGIN:DAYLIGHT
TZOFFSETFROM:-0800
TZOFFSETTO:-0700
TZNAME:PDT
DTSTART:20220313T100000
END:DAYLIGHT
BEGIN:STANDARD
TZOFFSETFROM:-0700
TZOFFSETTO:-0800
TZNAME:PST
DTSTART:20221106T090000
END:STANDARD
BEGIN:DAYLIGHT
TZOFFSETFROM:-0800
TZOFFSETTO:-0700
TZNAME:PDT
DTSTART:20230312T100000
END:DAYLIGHT
BEGIN:STANDARD
TZOFFSETFROM:-0700
TZOFFSETTO:-0800
TZNAME:PST
DTSTART:20231105T090000
END:STANDARD
END:VTIMEZONE
BEGIN:VEVENT
DTSTART;TZID=America/Los_Angeles:20221124T120000
DTEND;TZID=America/Los_Angeles:20221124T160000
DTSTAMP:20260423T171948
CREATED:20221123T193715Z
LAST-MODIFIED:20221123T193715Z
UID:10000186-1669291200-1669305600@www.crestlinechamber.org
SUMMARY:Crestline-Lake Gregory Rotary Club Annual Thanksgiving Dinner
DESCRIPTION:Join Crestline-Lake Gregory Rotary Club on Thanksgiving Day from 12-4pm at San Moritz Lodge for their FREE Annual Thanksgiving Day Dinner
URL:https://www.crestlinechamber.org/event/crestline-lake-gregory-rotary-club-annual-thanksgiving-dinner-2/
LOCATION:San Moritz Lodge\, 24640 San Moritz Dr.\, Crestline\, CA\, 92325\, United States
GEO:34.2389643;-117.2661879
X-APPLE-STRUCTURED-LOCATION;VALUE=URI;X-ADDRESS=San Moritz Lodge 24640 San Moritz Dr. Crestline CA 92325 United States;X-APPLE-RADIUS=500;X-TITLE=24640 San Moritz Dr.:geo:-117.2661879,34.2389643
END:VEVENT
END:VCALENDAR