BEGIN:VCALENDAR
VERSION:2.0
PRODID:-//Crestline Chamber of Commerce - ECPv6.15.20//NONSGML v1.0//EN
CALSCALE:GREGORIAN
METHOD:PUBLISH
X-ORIGINAL-URL:https://www.crestlinechamber.org
X-WR-CALDESC:Events for Crestline Chamber of Commerce
REFRESH-INTERVAL;VALUE=DURATION:PT1H
X-Robots-Tag:noindex
X-PUBLISHED-TTL:PT1H
BEGIN:VTIMEZONE
TZID:America/Los_Angeles
BEGIN:DAYLIGHT
TZOFFSETFROM:-0800
TZOFFSETTO:-0700
TZNAME:PDT
DTSTART:20250309T100000
END:DAYLIGHT
BEGIN:STANDARD
TZOFFSETFROM:-0700
TZOFFSETTO:-0800
TZNAME:PST
DTSTART:20251102T090000
END:STANDARD
BEGIN:DAYLIGHT
TZOFFSETFROM:-0800
TZOFFSETTO:-0700
TZNAME:PDT
DTSTART:20260308T100000
END:DAYLIGHT
BEGIN:STANDARD
TZOFFSETFROM:-0700
TZOFFSETTO:-0800
TZNAME:PST
DTSTART:20261101T090000
END:STANDARD
BEGIN:DAYLIGHT
TZOFFSETFROM:-0800
TZOFFSETTO:-0700
TZNAME:PDT
DTSTART:20270314T100000
END:DAYLIGHT
BEGIN:STANDARD
TZOFFSETFROM:-0700
TZOFFSETTO:-0800
TZNAME:PST
DTSTART:20271107T090000
END:STANDARD
END:VTIMEZONE
BEGIN:VEVENT
DTSTART;TZID=America/Los_Angeles:20260506T143000
DTEND;TZID=America/Los_Angeles:20260506T180000
DTSTAMP:20260423T153720
CREATED:20260409T134946Z
LAST-MODIFIED:20260409T134946Z
UID:10007532-1778077800-1778090400@www.crestlinechamber.org
SUMMARY:Mountain Health & Resource Fair: Stronger Together
DESCRIPTION:Join us for a day of health\, resources\, and community care 🌞 \n📅 May 6 | 2:30–6 PM\n📍 Rim High School \n🩺 FREE services include:\n😁 Dental screenings\n👀 Vision screenings\n🏃‍♂️ Sports physicals\n📋 County & Medi-Cal info\n🚴‍♀️ Bike helmets + more! \nCome refresh\, recharge\, and take care of what matters most 💫
URL:https://www.crestlinechamber.org/event/mountain-health-resource-fair-stronger-together/
LOCATION:Rim of the World High School\, 27400 CA-18\, Lake Arrowhead\, CA\, 92352\, United States
CATEGORIES:Community Event,Family Friendly
ATTACH;FMTTYPE=image/jpeg:https://www.crestlinechamber.org/wp-content/uploads/2026/04/656655621_1450712223732248_9060302465088167009_n.jpg
GEO:34.2321985;-117.2110218
X-APPLE-STRUCTURED-LOCATION;VALUE=URI;X-ADDRESS=Rim of the World High School 27400 CA-18 Lake Arrowhead CA 92352 United States;X-APPLE-RADIUS=500;X-TITLE=27400 CA-18:geo:-117.2110218,34.2321985
END:VEVENT
END:VCALENDAR