BEGIN:VCALENDAR
VERSION:2.0
PRODID:-//Crestline Chamber of Commerce - ECPv6.15.20//NONSGML v1.0//EN
CALSCALE:GREGORIAN
METHOD:PUBLISH
X-WR-CALNAME:Crestline Chamber of Commerce
X-ORIGINAL-URL:https://www.crestlinechamber.org
X-WR-CALDESC:Events for Crestline Chamber of Commerce
REFRESH-INTERVAL;VALUE=DURATION:PT1H
X-Robots-Tag:noindex
X-PUBLISHED-TTL:PT1H
BEGIN:VTIMEZONE
TZID:America/Los_Angeles
BEGIN:DAYLIGHT
TZOFFSETFROM:-0800
TZOFFSETTO:-0700
TZNAME:PDT
DTSTART:20240310T100000
END:DAYLIGHT
BEGIN:STANDARD
TZOFFSETFROM:-0700
TZOFFSETTO:-0800
TZNAME:PST
DTSTART:20241103T090000
END:STANDARD
BEGIN:DAYLIGHT
TZOFFSETFROM:-0800
TZOFFSETTO:-0700
TZNAME:PDT
DTSTART:20250309T100000
END:DAYLIGHT
BEGIN:STANDARD
TZOFFSETFROM:-0700
TZOFFSETTO:-0800
TZNAME:PST
DTSTART:20251102T090000
END:STANDARD
BEGIN:DAYLIGHT
TZOFFSETFROM:-0800
TZOFFSETTO:-0700
TZNAME:PDT
DTSTART:20260308T100000
END:DAYLIGHT
BEGIN:STANDARD
TZOFFSETFROM:-0700
TZOFFSETTO:-0800
TZNAME:PST
DTSTART:20261101T090000
END:STANDARD
END:VTIMEZONE
BEGIN:VEVENT
DTSTART;TZID=America/Los_Angeles:20250213T120000
DTEND;TZID=America/Los_Angeles:20250213T140000
DTSTAMP:20260423T215752
CREATED:20250128T174657Z
LAST-MODIFIED:20250128T174657Z
UID:10003994-1739448000-1739455200@www.crestlinechamber.org
SUMMARY:Crestline-Lake Gregory Rotary Club Meeting 📅
DESCRIPTION:Join the Crestline-Lake Gregory Rotary Club as we come together to make a difference in our community and beyond! Be part of the conversation\, share ideas\, and help us create meaningful change. \nWhether you’re a long-time member or curious about getting involved\, we’d love to see you there. Together\, we can make a lasting impact! 🤝✨
URL:https://www.crestlinechamber.org/event/crestline-lake-gregory-rotary-club-meeting-%f0%9f%93%85/2025-02-13/
LOCATION:Top Town Cafe\, 23420 Crest Forest Dr\, Crestline\, CA\, 92325
CATEGORIES:Community Meeting,Family Friendly
ATTACH;FMTTYPE=image/png:https://www.crestlinechamber.org/wp-content/uploads/2024/05/RotaryMoE-R_CMYK-C.png
END:VEVENT
BEGIN:VEVENT
DTSTART;TZID=America/Los_Angeles:20250206T120000
DTEND;TZID=America/Los_Angeles:20250206T140000
DTSTAMP:20260423T215752
CREATED:20250128T174657Z
LAST-MODIFIED:20250128T174657Z
UID:10003993-1738843200-1738850400@www.crestlinechamber.org
SUMMARY:Crestline-Lake Gregory Rotary Club Meeting 📅
DESCRIPTION:Join the Crestline-Lake Gregory Rotary Club as we come together to make a difference in our community and beyond! Be part of the conversation\, share ideas\, and help us create meaningful change. \nWhether you’re a long-time member or curious about getting involved\, we’d love to see you there. Together\, we can make a lasting impact! 🤝✨
URL:https://www.crestlinechamber.org/event/crestline-lake-gregory-rotary-club-meeting-%f0%9f%93%85/2025-02-06/
LOCATION:Top Town Cafe\, 23420 Crest Forest Dr\, Crestline\, CA\, 92325
CATEGORIES:Community Meeting,Family Friendly
ATTACH;FMTTYPE=image/png:https://www.crestlinechamber.org/wp-content/uploads/2024/05/RotaryMoE-R_CMYK-C.png
END:VEVENT
BEGIN:VEVENT
DTSTART;TZID=America/Los_Angeles:20250130T120000
DTEND;TZID=America/Los_Angeles:20250130T140000
DTSTAMP:20260423T215752
CREATED:20250128T174657Z
LAST-MODIFIED:20250128T174657Z
UID:10003992-1738238400-1738245600@www.crestlinechamber.org
SUMMARY:Crestline-Lake Gregory Rotary Club Meeting 📅
DESCRIPTION:Join the Crestline-Lake Gregory Rotary Club as we come together to make a difference in our community and beyond! Be part of the conversation\, share ideas\, and help us create meaningful change. \nWhether you’re a long-time member or curious about getting involved\, we’d love to see you there. Together\, we can make a lasting impact! 🤝✨
URL:https://www.crestlinechamber.org/event/crestline-lake-gregory-rotary-club-meeting-%f0%9f%93%85/2025-01-30/
LOCATION:Top Town Cafe\, 23420 Crest Forest Dr\, Crestline\, CA\, 92325
CATEGORIES:Community Meeting,Family Friendly
ATTACH;FMTTYPE=image/png:https://www.crestlinechamber.org/wp-content/uploads/2024/05/RotaryMoE-R_CMYK-C.png
END:VEVENT
END:VCALENDAR