BEGIN:VCALENDAR
VERSION:2.0
PRODID:-//Crestline Chamber of Commerce - ECPv6.15.20//NONSGML v1.0//EN
CALSCALE:GREGORIAN
METHOD:PUBLISH
X-ORIGINAL-URL:https://www.crestlinechamber.org
X-WR-CALDESC:Events for Crestline Chamber of Commerce
REFRESH-INTERVAL;VALUE=DURATION:PT1H
X-Robots-Tag:noindex
X-PUBLISHED-TTL:PT1H
BEGIN:VTIMEZONE
TZID:America/Los_Angeles
BEGIN:DAYLIGHT
TZOFFSETFROM:-0800
TZOFFSETTO:-0700
TZNAME:PDT
DTSTART:20210314T100000
END:DAYLIGHT
BEGIN:STANDARD
TZOFFSETFROM:-0700
TZOFFSETTO:-0800
TZNAME:PST
DTSTART:20211107T090000
END:STANDARD
BEGIN:DAYLIGHT
TZOFFSETFROM:-0800
TZOFFSETTO:-0700
TZNAME:PDT
DTSTART:20220313T100000
END:DAYLIGHT
BEGIN:STANDARD
TZOFFSETFROM:-0700
TZOFFSETTO:-0800
TZNAME:PST
DTSTART:20221106T090000
END:STANDARD
BEGIN:DAYLIGHT
TZOFFSETFROM:-0800
TZOFFSETTO:-0700
TZNAME:PDT
DTSTART:20230312T100000
END:DAYLIGHT
BEGIN:STANDARD
TZOFFSETFROM:-0700
TZOFFSETTO:-0800
TZNAME:PST
DTSTART:20231105T090000
END:STANDARD
BEGIN:DAYLIGHT
TZOFFSETFROM:-0800
TZOFFSETTO:-0700
TZNAME:PDT
DTSTART:20240310T100000
END:DAYLIGHT
BEGIN:STANDARD
TZOFFSETFROM:-0700
TZOFFSETTO:-0800
TZNAME:PST
DTSTART:20241103T090000
END:STANDARD
BEGIN:DAYLIGHT
TZOFFSETFROM:-0800
TZOFFSETTO:-0700
TZNAME:PDT
DTSTART:20250309T100000
END:DAYLIGHT
BEGIN:STANDARD
TZOFFSETFROM:-0700
TZOFFSETTO:-0800
TZNAME:PST
DTSTART:20251102T090000
END:STANDARD
BEGIN:DAYLIGHT
TZOFFSETFROM:-0800
TZOFFSETTO:-0700
TZNAME:PDT
DTSTART:20260308T100000
END:DAYLIGHT
BEGIN:STANDARD
TZOFFSETFROM:-0700
TZOFFSETTO:-0800
TZNAME:PST
DTSTART:20261101T090000
END:STANDARD
END:VTIMEZONE
BEGIN:VEVENT
DTSTART;TZID=America/Los_Angeles:20251201T170000
DTEND;TZID=America/Los_Angeles:20251201T200000
DTSTAMP:20260423T165206
CREATED:20250924T153655Z
LAST-MODIFIED:20251120T172603Z
UID:10006940-1764608400-1764619200@www.crestlinechamber.org
SUMMARY:Crestline Family Christmas 🎄 🎅 🤶
DESCRIPTION:* Tree lighting and story of Christmas @ 6:30 PM\n* Santa will be handing out gifts for kids 10 & Younger!\n*Photo-Op with Santa Claus\n*Activities and Games for kids!\n*Bonfire and Live Christmas Music!\n*FREE Hot Dogs\, Coffee\, and hot Chocolate!  \n*Don’t forget to bring a canned food item to donate to our local food bank!
URL:https://www.crestlinechamber.org/event/crestline-family-christmas-%f0%9f%8e%84-%f0%9f%8e%85-%f0%9f%a4%b6/
LOCATION:Lake Gregory North Beach
CATEGORIES:Community Event,Crestline Chamber Event,Family Friendly,Lake Gregory
END:VEVENT
BEGIN:VEVENT
DTSTART;TZID=America/Los_Angeles:20250721T100000
DTEND;TZID=America/Los_Angeles:20250721T140000
DTSTAMP:20260423T165206
CREATED:20250721T222324Z
LAST-MODIFIED:20250721T222324Z
UID:10005788-1753092000-1753106400@www.crestlinechamber.org
SUMMARY:Mountain Pet Expo and Adoptions
DESCRIPTION:There will be pet adoptions\, vendors selling pet related items and services\, city of San bernardino will be there to help with licensing\,  YAPS will be there to provide free vaccines\, leashes and toys.
URL:https://www.crestlinechamber.org/event/mountain-pet-expo-and-adoptions/
LOCATION:Goodwins Market\, 24089 Lake Gregory Dr\, Crestline\, CA\, 92325\, United States
CATEGORIES:Family Friendly
END:VEVENT
BEGIN:VEVENT
DTSTART;TZID=America/Los_Angeles:20231202T170000
DTEND;TZID=America/Los_Angeles:20231202T200000
DTSTAMP:20260423T165206
CREATED:20231121T224506Z
LAST-MODIFIED:20231130T013630Z
UID:10000883-1701536400-1701547200@www.crestlinechamber.org
SUMMARY:Goodwin's Annual Crestline Family Christmas Saturday 12/2/23
DESCRIPTION:Goodwin’s is happy to announce that we WILL be having the Crestline Family Christmas this year. Mark your calendar for one month from today 12/2/23!     Without having the store in operation we were unsure if we would have the ability to pull it off this year\, but with the help of The Lake Gregory Company we will be able to rent the kitchen to cook the hotdogs and prepare the hot chocolate and coffee!We know how much the community loves this event so we knew we had to make it happen. So\, let’s make this the best year ever! Bring a canned food or shelf stable item to the event. There will be craft stations for kids\, bonfire\, hotdogs\, hot chocolate\, coffee\, popcorn\, and cookies… And don’t forget Santa pictures and gifts for kids 10 and under.
URL:https://www.crestlinechamber.org/event/goodwins-annual-crestline-family-christmas-saturday-12-2-23/
LOCATION:Lake Gregory\, Crestline\, CA\, 92325\, United States
CATEGORIES:Family Friendly,Lake Gregory,Live Music
GEO:34.2429169;-117.2752583
END:VEVENT
BEGIN:VEVENT
DTSTART;TZID=America/Los_Angeles:20221203T170000
DTEND;TZID=America/Los_Angeles:20221203T200000
DTSTAMP:20260423T165206
CREATED:20221126T183836Z
LAST-MODIFIED:20221126T183836Z
UID:10000192-1670086800-1670097600@www.crestlinechamber.org
SUMMARY:Crestline Family Christmas
DESCRIPTION:
URL:https://www.crestlinechamber.org/event/crestline-family-christmas/
LOCATION:Lake Gregory\, Crestline\, CA\, 92325\, United States
CATEGORIES:Family Friendly
GEO:34.2429169;-117.2752583
END:VEVENT
END:VCALENDAR