BEGIN:VCALENDAR
VERSION:2.0
PRODID:-//Crestline Chamber of Commerce - ECPv6.15.20//NONSGML v1.0//EN
CALSCALE:GREGORIAN
METHOD:PUBLISH
X-ORIGINAL-URL:https://www.crestlinechamber.org
X-WR-CALDESC:Events for Crestline Chamber of Commerce
REFRESH-INTERVAL;VALUE=DURATION:PT1H
X-Robots-Tag:noindex
X-PUBLISHED-TTL:PT1H
BEGIN:VTIMEZONE
TZID:America/Los_Angeles
BEGIN:DAYLIGHT
TZOFFSETFROM:-0800
TZOFFSETTO:-0700
TZNAME:PDT
DTSTART:20250309T100000
END:DAYLIGHT
BEGIN:STANDARD
TZOFFSETFROM:-0700
TZOFFSETTO:-0800
TZNAME:PST
DTSTART:20251102T090000
END:STANDARD
BEGIN:DAYLIGHT
TZOFFSETFROM:-0800
TZOFFSETTO:-0700
TZNAME:PDT
DTSTART:20260308T100000
END:DAYLIGHT
BEGIN:STANDARD
TZOFFSETFROM:-0700
TZOFFSETTO:-0800
TZNAME:PST
DTSTART:20261101T090000
END:STANDARD
BEGIN:DAYLIGHT
TZOFFSETFROM:-0800
TZOFFSETTO:-0700
TZNAME:PDT
DTSTART:20270314T100000
END:DAYLIGHT
BEGIN:STANDARD
TZOFFSETFROM:-0700
TZOFFSETTO:-0800
TZNAME:PST
DTSTART:20271107T090000
END:STANDARD
END:VTIMEZONE
BEGIN:VEVENT
DTSTART;TZID=America/Los_Angeles:20260425T090000
DTEND;TZID=America/Los_Angeles:20260425T120000
DTSTAMP:20260423T164429
CREATED:20260409T145002Z
LAST-MODIFIED:20260409T145002Z
UID:10007536-1777107600-1777118400@www.crestlinechamber.org
SUMMARY:Heap's Peak Arboretum's Native Plant Sale
DESCRIPTION:The Heaps Peak Arboretum Native Plant Sale is almost here! 💚✨ \n📅 Saturday\, April 25 | 9 AM – Noon\n⏰ Come early for the BEST selection! \n🌿 Hardy\, beautiful plants perfect for our mountain climate\n💚 Support local education + community programs \n💸 Want 20% OFF?\nBecome a member by April 16 and save! \n🌧️ Rain or snow? We’ve got you—backup date is May 2 \nLet’s grow something beautiful together 🌼🏔️
URL:https://www.crestlinechamber.org/event/heaps-peak-arboretums-native-plant-sale/
LOCATION:Heaps Peak Arboretum\, 29358 Rim of the World Hwy\, Skyforest\, CA\, 92385\, United States
ATTACH;FMTTYPE=image/jpeg:https://www.crestlinechamber.org/wp-content/uploads/2026/04/Plant-Sale-Flyer-Spring-2026-v.1-8.5x11-inch-flyer.jpg
ORGANIZER;CN="Heaps Peak Arboretum":MAILTO:kinzel1812@aol.com
GEO:34.233999;-117.160518
X-APPLE-STRUCTURED-LOCATION;VALUE=URI;X-ADDRESS=Heaps Peak Arboretum 29358 Rim of the World Hwy Skyforest CA 92385 United States;X-APPLE-RADIUS=500;X-TITLE=29358 Rim of the World Hwy:geo:-117.160518,34.233999
END:VEVENT
END:VCALENDAR