BEGIN:VCALENDAR
VERSION:2.0
PRODID:-//Crestline Chamber of Commerce - ECPv6.15.20//NONSGML v1.0//EN
CALSCALE:GREGORIAN
METHOD:PUBLISH
X-WR-CALNAME:Crestline Chamber of Commerce
X-ORIGINAL-URL:https://www.crestlinechamber.org
X-WR-CALDESC:Events for Crestline Chamber of Commerce
REFRESH-INTERVAL;VALUE=DURATION:PT1H
X-Robots-Tag:noindex
X-PUBLISHED-TTL:PT1H
BEGIN:VTIMEZONE
TZID:America/Los_Angeles
BEGIN:DAYLIGHT
TZOFFSETFROM:-0800
TZOFFSETTO:-0700
TZNAME:PDT
DTSTART:20220313T100000
END:DAYLIGHT
BEGIN:STANDARD
TZOFFSETFROM:-0700
TZOFFSETTO:-0800
TZNAME:PST
DTSTART:20221106T090000
END:STANDARD
BEGIN:DAYLIGHT
TZOFFSETFROM:-0800
TZOFFSETTO:-0700
TZNAME:PDT
DTSTART:20230312T100000
END:DAYLIGHT
BEGIN:STANDARD
TZOFFSETFROM:-0700
TZOFFSETTO:-0800
TZNAME:PST
DTSTART:20231105T090000
END:STANDARD
BEGIN:DAYLIGHT
TZOFFSETFROM:-0800
TZOFFSETTO:-0700
TZNAME:PDT
DTSTART:20240310T100000
END:DAYLIGHT
BEGIN:STANDARD
TZOFFSETFROM:-0700
TZOFFSETTO:-0800
TZNAME:PST
DTSTART:20241103T090000
END:STANDARD
END:VTIMEZONE
BEGIN:VEVENT
DTSTART;TZID=America/Los_Angeles:20231202T130000
DTEND;TZID=America/Los_Angeles:20231202T153000
DTSTAMP:20260423T231426
CREATED:20231130T012418Z
LAST-MODIFIED:20231201T182714Z
UID:10000890-1701522000-1701531000@www.crestlinechamber.org
SUMMARY:Blue Jay Christmas Parade
DESCRIPTION:Blue Jay Christmas Parade \nJoin us for the 39th Annual Blue Jay Christmas Parade! The theme is “Deck the Forest!” Download Parade Entry forms or Sponsorship forms online at www.thelakearrowheadvillage.com or LakeArrowheadChamber.com or BlueJayParade.com today!!!
URL:https://www.crestlinechamber.org/event/30999/
LOCATION:HWY 18 Blue Jay
CATEGORIES:Community Event,Family Friendly,Live Music
END:VEVENT
END:VCALENDAR