BEGIN:VCALENDAR
VERSION:2.0
PRODID:-//Crestline Chamber of Commerce - ECPv6.15.20//NONSGML v1.0//EN
CALSCALE:GREGORIAN
METHOD:PUBLISH
X-WR-CALNAME:Crestline Chamber of Commerce
X-ORIGINAL-URL:https://www.crestlinechamber.org
X-WR-CALDESC:Events for Crestline Chamber of Commerce
REFRESH-INTERVAL;VALUE=DURATION:PT1H
X-Robots-Tag:noindex
X-PUBLISHED-TTL:PT1H
BEGIN:VTIMEZONE
TZID:America/Los_Angeles
BEGIN:DAYLIGHT
TZOFFSETFROM:-0800
TZOFFSETTO:-0700
TZNAME:PDT
DTSTART:20220313T100000
END:DAYLIGHT
BEGIN:STANDARD
TZOFFSETFROM:-0700
TZOFFSETTO:-0800
TZNAME:PST
DTSTART:20221106T090000
END:STANDARD
BEGIN:DAYLIGHT
TZOFFSETFROM:-0800
TZOFFSETTO:-0700
TZNAME:PDT
DTSTART:20230312T100000
END:DAYLIGHT
BEGIN:STANDARD
TZOFFSETFROM:-0700
TZOFFSETTO:-0800
TZNAME:PST
DTSTART:20231105T090000
END:STANDARD
BEGIN:DAYLIGHT
TZOFFSETFROM:-0800
TZOFFSETTO:-0700
TZNAME:PDT
DTSTART:20240310T100000
END:DAYLIGHT
BEGIN:STANDARD
TZOFFSETFROM:-0700
TZOFFSETTO:-0800
TZNAME:PST
DTSTART:20241103T090000
END:STANDARD
BEGIN:DAYLIGHT
TZOFFSETFROM:-0800
TZOFFSETTO:-0700
TZNAME:PDT
DTSTART:20250309T100000
END:DAYLIGHT
BEGIN:STANDARD
TZOFFSETFROM:-0700
TZOFFSETTO:-0800
TZNAME:PST
DTSTART:20251102T090000
END:STANDARD
BEGIN:DAYLIGHT
TZOFFSETFROM:-0800
TZOFFSETTO:-0700
TZNAME:PDT
DTSTART:20260308T100000
END:DAYLIGHT
BEGIN:STANDARD
TZOFFSETFROM:-0700
TZOFFSETTO:-0800
TZNAME:PST
DTSTART:20261101T090000
END:STANDARD
BEGIN:DAYLIGHT
TZOFFSETFROM:-0800
TZOFFSETTO:-0700
TZNAME:PDT
DTSTART:20270314T100000
END:DAYLIGHT
BEGIN:STANDARD
TZOFFSETFROM:-0700
TZOFFSETTO:-0800
TZNAME:PST
DTSTART:20271107T090000
END:STANDARD
END:VTIMEZONE
BEGIN:VEVENT
DTSTART;TZID=America/Los_Angeles:20260418T070000
DTEND;TZID=America/Los_Angeles:20260418T133000
DTSTAMP:20260423T153415
CREATED:20260409T130417Z
LAST-MODIFIED:20260409T130417Z
UID:10007526-1776495600-1776519000@www.crestlinechamber.org
SUMMARY:Lake Gregory's Annual Trout Derby
DESCRIPTION:One of the most exciting days on the lake is almost here—grab your gear + rally your crew! 💙🌄 \n🏆 $1\,000 GRAND PRIZE on the line! \n📅 Saturday\, April 18\n⏰ 7:00 AM – 1:30 PM\n📍 Lake Gregory \n🎟️ Tickets are ON SALE NOW\n⏳ Register by April 17 @ 9 PM \nWhether you’re in it to win or just for the fun—don’t miss this epic day on the water
URL:https://www.crestlinechamber.org/event/lake-gregorys-annual-trout-derby/
LOCATION:24650 San Moritz Drive\, Crestine\, CA 92325
CATEGORIES:Community Event
END:VEVENT
BEGIN:VEVENT
DTSTART;TZID=America/Los_Angeles:20250831T180000
DTEND;TZID=America/Los_Angeles:20250831T200000
DTSTAMP:20260423T153415
CREATED:20250619T201425Z
LAST-MODIFIED:20250619T201425Z
UID:10005785-1756663200-1756670400@www.crestlinechamber.org
SUMMARY:Burgers N' Brews 🍻 🍔
DESCRIPTION:
URL:https://www.crestlinechamber.org/event/burgers-n-brews-%f0%9f%8d%bb-%f0%9f%8d%94/2025-08-31/
LOCATION:Lake Gregory\, Crestline\, CA\, 92325\, United States
CATEGORIES:Community Event,Family Friendly,Lake Gregory,Live Music
GEO:34.2429169;-117.2752583
END:VEVENT
BEGIN:VEVENT
DTSTART;TZID=America/Los_Angeles:20250830T180000
DTEND;TZID=America/Los_Angeles:20250830T200000
DTSTAMP:20260423T153415
CREATED:20250619T201425Z
LAST-MODIFIED:20250619T201425Z
UID:10005784-1756576800-1756584000@www.crestlinechamber.org
SUMMARY:Burgers N' Brews 🍻 🍔
DESCRIPTION:
URL:https://www.crestlinechamber.org/event/burgers-n-brews-%f0%9f%8d%bb-%f0%9f%8d%94/2025-08-30/
LOCATION:Lake Gregory\, Crestline\, CA\, 92325\, United States
CATEGORIES:Community Event,Family Friendly,Lake Gregory,Live Music
GEO:34.2429169;-117.2752583
END:VEVENT
BEGIN:VEVENT
DTSTART;TZID=America/Los_Angeles:20250829T160000
DTEND;TZID=America/Los_Angeles:20250829T200000
DTSTAMP:20260423T153415
CREATED:20250619T170044Z
LAST-MODIFIED:20250619T170205Z
UID:10005455-1756483200-1756497600@www.crestlinechamber.org
SUMMARY:The Market at Lake Gregory ✨
DESCRIPTION:
URL:https://www.crestlinechamber.org/event/the-market-at-lake-gregory-7/2025-08-29/
LOCATION:Lake Gregory\, Crestline\, CA\, 92325\, United States
CATEGORIES:Community Event,Family Friendly,Lake Gregory,Live Music
GEO:34.2429169;-117.2752583
END:VEVENT
BEGIN:VEVENT
DTSTART;TZID=America/Los_Angeles:20250822T160000
DTEND;TZID=America/Los_Angeles:20250822T200000
DTSTAMP:20260423T153415
CREATED:20250619T170044Z
LAST-MODIFIED:20250619T170205Z
UID:10005454-1755878400-1755892800@www.crestlinechamber.org
SUMMARY:The Market at Lake Gregory ✨
DESCRIPTION:
URL:https://www.crestlinechamber.org/event/the-market-at-lake-gregory-7/2025-08-22/
LOCATION:Lake Gregory\, Crestline\, CA\, 92325\, United States
CATEGORIES:Community Event,Family Friendly,Lake Gregory,Live Music
GEO:34.2429169;-117.2752583
END:VEVENT
BEGIN:VEVENT
DTSTART;TZID=America/Los_Angeles:20250815T160000
DTEND;TZID=America/Los_Angeles:20250815T200000
DTSTAMP:20260423T153415
CREATED:20250619T170044Z
LAST-MODIFIED:20250619T170205Z
UID:10005453-1755273600-1755288000@www.crestlinechamber.org
SUMMARY:The Market at Lake Gregory ✨
DESCRIPTION:
URL:https://www.crestlinechamber.org/event/the-market-at-lake-gregory-7/2025-08-15/
LOCATION:Lake Gregory\, Crestline\, CA\, 92325\, United States
CATEGORIES:Community Event,Family Friendly,Lake Gregory,Live Music
GEO:34.2429169;-117.2752583
END:VEVENT
BEGIN:VEVENT
DTSTART;TZID=America/Los_Angeles:20250808T160000
DTEND;TZID=America/Los_Angeles:20250808T200000
DTSTAMP:20260423T153416
CREATED:20250619T170044Z
LAST-MODIFIED:20250619T170205Z
UID:10005452-1754668800-1754683200@www.crestlinechamber.org
SUMMARY:The Market at Lake Gregory ✨
DESCRIPTION:
URL:https://www.crestlinechamber.org/event/the-market-at-lake-gregory-7/2025-08-08/
LOCATION:Lake Gregory\, Crestline\, CA\, 92325\, United States
CATEGORIES:Community Event,Family Friendly,Lake Gregory,Live Music
GEO:34.2429169;-117.2752583
END:VEVENT
BEGIN:VEVENT
DTSTART;TZID=America/Los_Angeles:20250806T200000
DTEND;TZID=America/Los_Angeles:20250806T220000
DTSTAMP:20260423T153416
CREATED:20250619T200051Z
LAST-MODIFIED:20250619T200051Z
UID:10005781-1754510400-1754517600@www.crestlinechamber.org
SUMMARY:Sunset Movie Nights 🍿 🎥
DESCRIPTION:
URL:https://www.crestlinechamber.org/event/sunset-movie-nights-%f0%9f%8d%bf-%f0%9f%8e%a5/2025-08-06/
LOCATION:The Meadow at Lake Gregory\, 24640 San Moritz Dr\, Crestline\, CA\, 92325\, United States
GEO:34.2389643;-117.2661879
X-APPLE-STRUCTURED-LOCATION;VALUE=URI;X-ADDRESS=The Meadow at Lake Gregory 24640 San Moritz Dr Crestline CA 92325 United States;X-APPLE-RADIUS=500;X-TITLE=24640 San Moritz Dr:geo:-117.2661879,34.2389643
END:VEVENT
BEGIN:VEVENT
DTSTART;TZID=America/Los_Angeles:20250801T160000
DTEND;TZID=America/Los_Angeles:20250801T200000
DTSTAMP:20260423T153416
CREATED:20250619T170044Z
LAST-MODIFIED:20250619T170205Z
UID:10005451-1754064000-1754078400@www.crestlinechamber.org
SUMMARY:The Market at Lake Gregory ✨
DESCRIPTION:
URL:https://www.crestlinechamber.org/event/the-market-at-lake-gregory-7/2025-08-01/
LOCATION:Lake Gregory\, Crestline\, CA\, 92325\, United States
CATEGORIES:Community Event,Family Friendly,Lake Gregory,Live Music
GEO:34.2429169;-117.2752583
END:VEVENT
BEGIN:VEVENT
DTSTART;TZID=America/Los_Angeles:20250730T200000
DTEND;TZID=America/Los_Angeles:20250730T220000
DTSTAMP:20260423T153416
CREATED:20250619T200051Z
LAST-MODIFIED:20250619T200051Z
UID:10005780-1753905600-1753912800@www.crestlinechamber.org
SUMMARY:Sunset Movie Nights 🍿 🎥
DESCRIPTION:
URL:https://www.crestlinechamber.org/event/sunset-movie-nights-%f0%9f%8d%bf-%f0%9f%8e%a5/2025-07-30/
LOCATION:The Meadow at Lake Gregory\, 24640 San Moritz Dr\, Crestline\, CA\, 92325\, United States
GEO:34.2389643;-117.2661879
X-APPLE-STRUCTURED-LOCATION;VALUE=URI;X-ADDRESS=The Meadow at Lake Gregory 24640 San Moritz Dr Crestline CA 92325 United States;X-APPLE-RADIUS=500;X-TITLE=24640 San Moritz Dr:geo:-117.2661879,34.2389643
END:VEVENT
BEGIN:VEVENT
DTSTART;TZID=America/Los_Angeles:20250725T160000
DTEND;TZID=America/Los_Angeles:20250725T200000
DTSTAMP:20260423T153416
CREATED:20250619T170044Z
LAST-MODIFIED:20250619T170205Z
UID:10005450-1753459200-1753473600@www.crestlinechamber.org
SUMMARY:The Market at Lake Gregory ✨
DESCRIPTION:
URL:https://www.crestlinechamber.org/event/the-market-at-lake-gregory-7/2025-07-25/
LOCATION:Lake Gregory\, Crestline\, CA\, 92325\, United States
CATEGORIES:Community Event,Family Friendly,Lake Gregory,Live Music
GEO:34.2429169;-117.2752583
END:VEVENT
BEGIN:VEVENT
DTSTART;TZID=America/Los_Angeles:20250723T200000
DTEND;TZID=America/Los_Angeles:20250723T220000
DTSTAMP:20260423T153416
CREATED:20250619T200051Z
LAST-MODIFIED:20250619T200051Z
UID:10005779-1753300800-1753308000@www.crestlinechamber.org
SUMMARY:Sunset Movie Nights 🍿 🎥
DESCRIPTION:
URL:https://www.crestlinechamber.org/event/sunset-movie-nights-%f0%9f%8d%bf-%f0%9f%8e%a5/2025-07-23/
LOCATION:The Meadow at Lake Gregory\, 24640 San Moritz Dr\, Crestline\, CA\, 92325\, United States
GEO:34.2389643;-117.2661879
X-APPLE-STRUCTURED-LOCATION;VALUE=URI;X-ADDRESS=The Meadow at Lake Gregory 24640 San Moritz Dr Crestline CA 92325 United States;X-APPLE-RADIUS=500;X-TITLE=24640 San Moritz Dr:geo:-117.2661879,34.2389643
END:VEVENT
BEGIN:VEVENT
DTSTART;TZID=America/Los_Angeles:20250718T160000
DTEND;TZID=America/Los_Angeles:20250718T200000
DTSTAMP:20260423T153416
CREATED:20250619T170044Z
LAST-MODIFIED:20250619T170205Z
UID:10005449-1752854400-1752868800@www.crestlinechamber.org
SUMMARY:The Market at Lake Gregory ✨
DESCRIPTION:
URL:https://www.crestlinechamber.org/event/the-market-at-lake-gregory-7/2025-07-18/
LOCATION:Lake Gregory\, Crestline\, CA\, 92325\, United States
CATEGORIES:Community Event,Family Friendly,Lake Gregory,Live Music
GEO:34.2429169;-117.2752583
END:VEVENT
BEGIN:VEVENT
DTSTART;TZID=America/Los_Angeles:20250716T200000
DTEND;TZID=America/Los_Angeles:20250716T220000
DTSTAMP:20260423T153416
CREATED:20250619T200051Z
LAST-MODIFIED:20250619T200051Z
UID:10005778-1752696000-1752703200@www.crestlinechamber.org
SUMMARY:Sunset Movie Nights 🍿 🎥
DESCRIPTION:
URL:https://www.crestlinechamber.org/event/sunset-movie-nights-%f0%9f%8d%bf-%f0%9f%8e%a5/2025-07-16/
LOCATION:The Meadow at Lake Gregory\, 24640 San Moritz Dr\, Crestline\, CA\, 92325\, United States
GEO:34.2389643;-117.2661879
X-APPLE-STRUCTURED-LOCATION;VALUE=URI;X-ADDRESS=The Meadow at Lake Gregory 24640 San Moritz Dr Crestline CA 92325 United States;X-APPLE-RADIUS=500;X-TITLE=24640 San Moritz Dr:geo:-117.2661879,34.2389643
END:VEVENT
BEGIN:VEVENT
DTSTART;TZID=America/Los_Angeles:20250713T130000
DTEND;TZID=America/Los_Angeles:20250713T170000
DTSTAMP:20260423T153416
CREATED:20250619T195546Z
LAST-MODIFIED:20250619T195546Z
UID:10005774-1752411600-1752426000@www.crestlinechamber.org
SUMMARY:Paws N' Paddles 🐶 🐾
DESCRIPTION:
URL:https://www.crestlinechamber.org/event/paws-n-paddles-%f0%9f%90%b6-%f0%9f%90%be/
LOCATION:The Meadow at Lake Gregory\, 24640 San Moritz Dr\, Crestline\, CA\, 92325\, United States
CATEGORIES:Community Event,Family Friendly,Lake Gregory
GEO:34.2389643;-117.2661879
X-APPLE-STRUCTURED-LOCATION;VALUE=URI;X-ADDRESS=The Meadow at Lake Gregory 24640 San Moritz Dr Crestline CA 92325 United States;X-APPLE-RADIUS=500;X-TITLE=24640 San Moritz Dr:geo:-117.2661879,34.2389643
END:VEVENT
BEGIN:VEVENT
DTSTART;TZID=America/Los_Angeles:20250711T160000
DTEND;TZID=America/Los_Angeles:20250711T200000
DTSTAMP:20260423T153416
CREATED:20250619T170044Z
LAST-MODIFIED:20250619T170205Z
UID:10005448-1752249600-1752264000@www.crestlinechamber.org
SUMMARY:The Market at Lake Gregory ✨
DESCRIPTION:
URL:https://www.crestlinechamber.org/event/the-market-at-lake-gregory-7/2025-07-11/
LOCATION:Lake Gregory\, Crestline\, CA\, 92325\, United States
CATEGORIES:Community Event,Family Friendly,Lake Gregory,Live Music
GEO:34.2429169;-117.2752583
END:VEVENT
BEGIN:VEVENT
DTSTART;TZID=America/Los_Angeles:20250709T200000
DTEND;TZID=America/Los_Angeles:20250709T220000
DTSTAMP:20260423T153416
CREATED:20250619T200051Z
LAST-MODIFIED:20250619T200051Z
UID:10005777-1752091200-1752098400@www.crestlinechamber.org
SUMMARY:Sunset Movie Nights 🍿 🎥
DESCRIPTION:
URL:https://www.crestlinechamber.org/event/sunset-movie-nights-%f0%9f%8d%bf-%f0%9f%8e%a5/2025-07-09/
LOCATION:The Meadow at Lake Gregory\, 24640 San Moritz Dr\, Crestline\, CA\, 92325\, United States
GEO:34.2389643;-117.2661879
X-APPLE-STRUCTURED-LOCATION;VALUE=URI;X-ADDRESS=The Meadow at Lake Gregory 24640 San Moritz Dr Crestline CA 92325 United States;X-APPLE-RADIUS=500;X-TITLE=24640 San Moritz Dr:geo:-117.2661879,34.2389643
END:VEVENT
BEGIN:VEVENT
DTSTART;TZID=America/Los_Angeles:20250704T160000
DTEND;TZID=America/Los_Angeles:20250704T200000
DTSTAMP:20260423T153416
CREATED:20250619T170044Z
LAST-MODIFIED:20250619T170205Z
UID:10005447-1751644800-1751659200@www.crestlinechamber.org
SUMMARY:The Market at Lake Gregory ✨
DESCRIPTION:
URL:https://www.crestlinechamber.org/event/the-market-at-lake-gregory-7/2025-07-04/
LOCATION:Lake Gregory\, Crestline\, CA\, 92325\, United States
CATEGORIES:Community Event,Family Friendly,Lake Gregory,Live Music
GEO:34.2429169;-117.2752583
END:VEVENT
BEGIN:VEVENT
DTSTART;TZID=America/Los_Angeles:20250702T200000
DTEND;TZID=America/Los_Angeles:20250702T220000
DTSTAMP:20260423T153416
CREATED:20250619T200051Z
LAST-MODIFIED:20250619T200051Z
UID:10005776-1751486400-1751493600@www.crestlinechamber.org
SUMMARY:Sunset Movie Nights 🍿 🎥
DESCRIPTION:
URL:https://www.crestlinechamber.org/event/sunset-movie-nights-%f0%9f%8d%bf-%f0%9f%8e%a5/2025-07-02/
LOCATION:The Meadow at Lake Gregory\, 24640 San Moritz Dr\, Crestline\, CA\, 92325\, United States
GEO:34.2389643;-117.2661879
X-APPLE-STRUCTURED-LOCATION;VALUE=URI;X-ADDRESS=The Meadow at Lake Gregory 24640 San Moritz Dr Crestline CA 92325 United States;X-APPLE-RADIUS=500;X-TITLE=24640 San Moritz Dr:geo:-117.2661879,34.2389643
END:VEVENT
BEGIN:VEVENT
DTSTART;TZID=America/Los_Angeles:20250627T160000
DTEND;TZID=America/Los_Angeles:20250627T200000
DTSTAMP:20260423T153416
CREATED:20250619T170044Z
LAST-MODIFIED:20250619T170205Z
UID:10005446-1751040000-1751054400@www.crestlinechamber.org
SUMMARY:The Market at Lake Gregory ✨
DESCRIPTION:
URL:https://www.crestlinechamber.org/event/the-market-at-lake-gregory-7/2025-06-27/
LOCATION:Lake Gregory\, Crestline\, CA\, 92325\, United States
CATEGORIES:Community Event,Family Friendly,Lake Gregory,Live Music
GEO:34.2429169;-117.2752583
END:VEVENT
BEGIN:VEVENT
DTSTART;TZID=America/Los_Angeles:20250625T200000
DTEND;TZID=America/Los_Angeles:20250625T220000
DTSTAMP:20260423T153416
CREATED:20250619T200051Z
LAST-MODIFIED:20250619T200051Z
UID:10005775-1750881600-1750888800@www.crestlinechamber.org
SUMMARY:Sunset Movie Nights 🍿 🎥
DESCRIPTION:
URL:https://www.crestlinechamber.org/event/sunset-movie-nights-%f0%9f%8d%bf-%f0%9f%8e%a5/2025-06-25/
LOCATION:The Meadow at Lake Gregory\, 24640 San Moritz Dr\, Crestline\, CA\, 92325\, United States
GEO:34.2389643;-117.2661879
X-APPLE-STRUCTURED-LOCATION;VALUE=URI;X-ADDRESS=The Meadow at Lake Gregory 24640 San Moritz Dr Crestline CA 92325 United States;X-APPLE-RADIUS=500;X-TITLE=24640 San Moritz Dr:geo:-117.2661879,34.2389643
END:VEVENT
BEGIN:VEVENT
DTSTART;TZID=America/Los_Angeles:20250620T160000
DTEND;TZID=America/Los_Angeles:20250620T200000
DTSTAMP:20260423T153416
CREATED:20250619T170044Z
LAST-MODIFIED:20250619T170205Z
UID:10005445-1750435200-1750449600@www.crestlinechamber.org
SUMMARY:The Market at Lake Gregory ✨
DESCRIPTION:
URL:https://www.crestlinechamber.org/event/the-market-at-lake-gregory-7/2025-06-20/
LOCATION:Lake Gregory\, Crestline\, CA\, 92325\, United States
CATEGORIES:Community Event,Family Friendly,Lake Gregory,Live Music
GEO:34.2429169;-117.2752583
END:VEVENT
BEGIN:VEVENT
DTSTART;TZID=America/Los_Angeles:20250412T100000
DTEND;TZID=America/Los_Angeles:20250412T170000
DTSTAMP:20260423T153416
CREATED:20250328T220955Z
LAST-MODIFIED:20250328T220955Z
UID:10005372-1744452000-1744477200@www.crestlinechamber.org
SUMMARY:Lake Gregory Company Hiring Event!
DESCRIPTION:
URL:https://www.crestlinechamber.org/event/lake-gregory-company-hiring-event/
LOCATION:San Moritz Lodge\, 24640 San Moritz Dr.\, Crestline\, CA\, 92325\, United States
GEO:34.2389643;-117.2661879
X-APPLE-STRUCTURED-LOCATION;VALUE=URI;X-ADDRESS=San Moritz Lodge 24640 San Moritz Dr. Crestline CA 92325 United States;X-APPLE-RADIUS=500;X-TITLE=24640 San Moritz Dr.:geo:-117.2661879,34.2389643
END:VEVENT
BEGIN:VEVENT
DTSTART;TZID=America/Los_Angeles:20230910T130000
DTEND;TZID=America/Los_Angeles:20230910T170000
DTSTAMP:20260423T153416
CREATED:20230616T193647Z
LAST-MODIFIED:20230831T153605Z
UID:10000281-1694350800-1694365200@www.crestlinechamber.org
SUMMARY:Paws N Paddles
DESCRIPTION:You’re invited for a day of paddling with your pup. This event takes place every 2nd Sunday of the month from June 11th – Sept. 10th from 1 PM – 5 PM(the last boat rental goes out at 4 PM).
URL:https://www.crestlinechamber.org/event/paws-n-paddles/
LOCATION:Crest Forest Senior Citizens Club\, 24658 San Moritz Dr.\, Crestline\, 92325\, United States
CATEGORIES:Family Friendly,Lake Gregory
GEO:34.2431624;-117.2610605
X-APPLE-STRUCTURED-LOCATION;VALUE=URI;X-ADDRESS=Crest Forest Senior Citizens Club 24658 San Moritz Dr. Crestline 92325 United States;X-APPLE-RADIUS=500;X-TITLE=24658 San Moritz Dr.:geo:-117.2610605,34.2431624
END:VEVENT
BEGIN:VEVENT
DTSTART;TZID=America/Los_Angeles:20230903T180000
DTEND;TZID=America/Los_Angeles:20230903T200000
DTSTAMP:20260423T153416
CREATED:20230828T192113Z
LAST-MODIFIED:20230831T152622Z
UID:10000312-1693764000-1693771200@www.crestlinechamber.org
SUMMARY:Burgers N Brews
DESCRIPTION:Event: Burgers N Brews\nDate: Sunday\, September 3rd\nTime: 6:00 PM – 8:00 PM\nCost: Free\nLocation: 24171 Lake Drive\, Crestline CA 92325 \nContact: Phone(909-338-2233) or Email(info@lakegregory.com)\nDetails: Join us for Burgers N Brews on Sunday\, September 3rd! This is a free event that can be enjoyed by the whole family on our Lakeview Terrace. There will be food\, drinks\, live music\, and outdoor games. We hope to see you there! \nMoe Hawkins Burgers – Food vendor: https://moehawkinsburgersonwheels.com/\nJonny Miller and Suns – Band: jonnymillerandsuns\nBear Claw Saloon – Alcohol Vendor
URL:https://www.crestlinechamber.org/event/burgers-n-brews-2/
LOCATION:Lake Gregory\, Crestline\, CA\, 92325\, United States
CATEGORIES:Family Friendly,Lake Gregory,Live Music
GEO:34.2429169;-117.2752583
END:VEVENT
BEGIN:VEVENT
DTSTART;TZID=America/Los_Angeles:20230629T200000
DTEND;TZID=America/Los_Angeles:20230824T220000
DTSTAMP:20260423T153416
CREATED:20230617T233757Z
LAST-MODIFIED:20230617T233757Z
UID:10000288-1688068800-1692914400@www.crestlinechamber.org
SUMMARY:Summer Movie Series
DESCRIPTION:Join us for a movie under the stars! Blankets and lawn chairs are welcome as we transform our meadow into a movie theatre. This event is free and takes place every Thursday at sunset from June 8th – Aug. 3rd.
URL:https://www.crestlinechamber.org/event/summer-movie-series/2023-06-29/
LOCATION:The Meadow at Lake Gregory\, 24640 San Moritz Dr\, Crestline\, CA\, 92325\, United States
GEO:34.2389643;-117.2661879
X-APPLE-STRUCTURED-LOCATION;VALUE=URI;X-ADDRESS=The Meadow at Lake Gregory 24640 San Moritz Dr Crestline CA 92325 United States;X-APPLE-RADIUS=500;X-TITLE=24640 San Moritz Dr:geo:-117.2661879,34.2389643
END:VEVENT
BEGIN:VEVENT
DTSTART;TZID=America/Los_Angeles:20230622T200000
DTEND;TZID=America/Los_Angeles:20230817T220000
DTSTAMP:20260423T153416
CREATED:20230617T233757Z
LAST-MODIFIED:20230617T233757Z
UID:10000287-1687464000-1692309600@www.crestlinechamber.org
SUMMARY:Summer Movie Series
DESCRIPTION:Join us for a movie under the stars! Blankets and lawn chairs are welcome as we transform our meadow into a movie theatre. This event is free and takes place every Thursday at sunset from June 8th – Aug. 3rd.
URL:https://www.crestlinechamber.org/event/summer-movie-series/2023-06-22/
LOCATION:The Meadow at Lake Gregory\, 24640 San Moritz Dr\, Crestline\, CA\, 92325\, United States
GEO:34.2389643;-117.2661879
X-APPLE-STRUCTURED-LOCATION;VALUE=URI;X-ADDRESS=The Meadow at Lake Gregory 24640 San Moritz Dr Crestline CA 92325 United States;X-APPLE-RADIUS=500;X-TITLE=24640 San Moritz Dr:geo:-117.2661879,34.2389643
END:VEVENT
BEGIN:VEVENT
DTSTART;TZID=America/Los_Angeles:20230615T200000
DTEND;TZID=America/Los_Angeles:20230810T220000
DTSTAMP:20260423T153416
CREATED:20230617T233757Z
LAST-MODIFIED:20230617T233757Z
UID:10000286-1686859200-1691704800@www.crestlinechamber.org
SUMMARY:Summer Movie Series
DESCRIPTION:Join us for a movie under the stars! Blankets and lawn chairs are welcome as we transform our meadow into a movie theatre. This event is free and takes place every Thursday at sunset from June 8th – Aug. 3rd.
URL:https://www.crestlinechamber.org/event/summer-movie-series/2023-06-15/
LOCATION:The Meadow at Lake Gregory\, 24640 San Moritz Dr\, Crestline\, CA\, 92325\, United States
GEO:34.2389643;-117.2661879
X-APPLE-STRUCTURED-LOCATION;VALUE=URI;X-ADDRESS=The Meadow at Lake Gregory 24640 San Moritz Dr Crestline CA 92325 United States;X-APPLE-RADIUS=500;X-TITLE=24640 San Moritz Dr:geo:-117.2661879,34.2389643
END:VEVENT
BEGIN:VEVENT
DTSTART;TZID=America/Los_Angeles:20230608T200000
DTEND;TZID=America/Los_Angeles:20230803T220000
DTSTAMP:20260423T153416
CREATED:20230617T233757Z
LAST-MODIFIED:20230617T233757Z
UID:10000285-1686254400-1691100000@www.crestlinechamber.org
SUMMARY:Summer Movie Series
DESCRIPTION:Join us for a movie under the stars! Blankets and lawn chairs are welcome as we transform our meadow into a movie theatre. This event is free and takes place every Thursday at sunset from June 8th – Aug. 3rd.
URL:https://www.crestlinechamber.org/event/summer-movie-series/2023-06-08/
LOCATION:The Meadow at Lake Gregory\, 24640 San Moritz Dr\, Crestline\, CA\, 92325\, United States
GEO:34.2389643;-117.2661879
X-APPLE-STRUCTURED-LOCATION;VALUE=URI;X-ADDRESS=The Meadow at Lake Gregory 24640 San Moritz Dr Crestline CA 92325 United States;X-APPLE-RADIUS=500;X-TITLE=24640 San Moritz Dr:geo:-117.2661879,34.2389643
END:VEVENT
BEGIN:VEVENT
DTSTART;TZID=America/Los_Angeles:20230505T160000
DTEND;TZID=America/Los_Angeles:20230505T200000
DTSTAMP:20260423T153416
CREATED:20230502T163139Z
LAST-MODIFIED:20230502T163139Z
UID:10000238-1683302400-1683316800@www.crestlinechamber.org
SUMMARY:Cinco de Mayo Craft Beer and fine Wine Garden at Lake Gregory
DESCRIPTION:May 5th at 4:00pm until 8:00pm at North shore of Lake Gregory \nCanterito Hard Seltzer \nCraft Mexican Lager \nClubtails and Margarita cans \nBaja Brewing cans \nWine Special import- Mi Prima Vera \n 
URL:https://www.crestlinechamber.org/event/cinco-de-mayo-craft-beer-and-fine-wine-garden-at-lake-gregory/
CATEGORIES:Family Friendly,Lake Gregory,Live Music
END:VEVENT
END:VCALENDAR