BEGIN:VCALENDAR
VERSION:2.0
PRODID:-//Crestline Chamber of Commerce - ECPv6.15.20//NONSGML v1.0//EN
CALSCALE:GREGORIAN
METHOD:PUBLISH
X-ORIGINAL-URL:https://www.crestlinechamber.org
X-WR-CALDESC:Events for Crestline Chamber of Commerce
REFRESH-INTERVAL;VALUE=DURATION:PT1H
X-Robots-Tag:noindex
X-PUBLISHED-TTL:PT1H
BEGIN:VTIMEZONE
TZID:America/Los_Angeles
BEGIN:DAYLIGHT
TZOFFSETFROM:-0800
TZOFFSETTO:-0700
TZNAME:PDT
DTSTART:20220313T100000
END:DAYLIGHT
BEGIN:STANDARD
TZOFFSETFROM:-0700
TZOFFSETTO:-0800
TZNAME:PST
DTSTART:20221106T090000
END:STANDARD
BEGIN:DAYLIGHT
TZOFFSETFROM:-0800
TZOFFSETTO:-0700
TZNAME:PDT
DTSTART:20230312T100000
END:DAYLIGHT
BEGIN:STANDARD
TZOFFSETFROM:-0700
TZOFFSETTO:-0800
TZNAME:PST
DTSTART:20231105T090000
END:STANDARD
BEGIN:DAYLIGHT
TZOFFSETFROM:-0800
TZOFFSETTO:-0700
TZNAME:PDT
DTSTART:20240310T100000
END:DAYLIGHT
BEGIN:STANDARD
TZOFFSETFROM:-0700
TZOFFSETTO:-0800
TZNAME:PST
DTSTART:20241103T090000
END:STANDARD
END:VTIMEZONE
BEGIN:VEVENT
DTSTART;TZID=America/Los_Angeles:20231210T183000
DTEND;TZID=America/Los_Angeles:20231210T200000
DTSTAMP:20260424T042046
CREATED:20231130T013458Z
LAST-MODIFIED:20231130T013458Z
UID:10000891-1702233000-1702238400@www.crestlinechamber.org
SUMMARY:Colonial Christmas Concert with Mountain Fife’s and Drums
DESCRIPTION:Join us for an evening of colonial music\, 18th century dancing\, and a musical recital of historic events which forged our American heritage. \nPurchase charming colonial Christmas gifts\, and enjoy Fife and Drum apparel available for sale. Proceeds support the Mountain Fifes & Drums and our upcoming events\, including our trip to Drummer’s Call in Williamsburg\, Virginia in May 2025. Apple pie\, colonial cookies**\, hot cider and coffee will be served. **GF available \nTickets:\nAdults $20\, Children 12 and under $15. \nSeating is limited\, so reserve your tickets soon! \nPlease follow the link to the donation page and make a one time donation\, put the number of tickets and “will call” in the notes section. You could also pay online and put it the notes that you have received tickets from a corps member.
URL:https://www.crestlinechamber.org/event/colonial-christmas-concert-with-mountain-fifes-and-drums/
CATEGORIES:Community Event,Family Friendly,Live Music
ORGANIZER;CN="Mountain Fifes and Drums":MAILTO:mountainfifesanddrums@gmail.com
END:VEVENT
END:VCALENDAR