BEGIN:VCALENDAR
VERSION:2.0
PRODID:-//Crestline Chamber of Commerce - ECPv6.15.20//NONSGML v1.0//EN
CALSCALE:GREGORIAN
METHOD:PUBLISH
X-ORIGINAL-URL:https://www.crestlinechamber.org
X-WR-CALDESC:Events for Crestline Chamber of Commerce
REFRESH-INTERVAL;VALUE=DURATION:PT1H
X-Robots-Tag:noindex
X-PUBLISHED-TTL:PT1H
BEGIN:VTIMEZONE
TZID:America/Los_Angeles
BEGIN:DAYLIGHT
TZOFFSETFROM:-0800
TZOFFSETTO:-0700
TZNAME:PDT
DTSTART:20210314T100000
END:DAYLIGHT
BEGIN:STANDARD
TZOFFSETFROM:-0700
TZOFFSETTO:-0800
TZNAME:PST
DTSTART:20211107T090000
END:STANDARD
BEGIN:DAYLIGHT
TZOFFSETFROM:-0800
TZOFFSETTO:-0700
TZNAME:PDT
DTSTART:20220313T100000
END:DAYLIGHT
BEGIN:STANDARD
TZOFFSETFROM:-0700
TZOFFSETTO:-0800
TZNAME:PST
DTSTART:20221106T090000
END:STANDARD
BEGIN:DAYLIGHT
TZOFFSETFROM:-0800
TZOFFSETTO:-0700
TZNAME:PDT
DTSTART:20230312T100000
END:DAYLIGHT
BEGIN:STANDARD
TZOFFSETFROM:-0700
TZOFFSETTO:-0800
TZNAME:PST
DTSTART:20231105T090000
END:STANDARD
BEGIN:DAYLIGHT
TZOFFSETFROM:-0800
TZOFFSETTO:-0700
TZNAME:PDT
DTSTART:20240310T100000
END:DAYLIGHT
BEGIN:STANDARD
TZOFFSETFROM:-0700
TZOFFSETTO:-0800
TZNAME:PST
DTSTART:20241103T090000
END:STANDARD
END:VTIMEZONE
BEGIN:VEVENT
DTSTART;TZID=America/Los_Angeles:20230819T100000
DTEND;TZID=America/Los_Angeles:20230819T120000
DTSTAMP:20260424T011209
CREATED:20230814T225809Z
LAST-MODIFIED:20230814T225809Z
UID:10000307-1692439200-1692446400@www.crestlinechamber.org
SUMMARY:Disaster Resource Summit
DESCRIPTION:All community members are invited from Cedarpines Park to Green Valley Lake.\nYou will be excited with what we have and are develoiping to be ready for any natural disaster that may impact our community.  We will unveil a one stop location/website for up-to-date and accurate information.  Learn about preparations that you need to make today!  More than a dozen agenecies\, including FEMA\, CalOES\, and the Red Cross\, will join us to share information and services.
URL:https://www.crestlinechamber.org/event/disaster-resource-summit/
LOCATION:Lake Gregory Education & Community Center\, 24740 San Moritz Way\, Crestline\, CA\, 92325\, United States
GEO:34.2434129;-117.263106
X-APPLE-STRUCTURED-LOCATION;VALUE=URI;X-ADDRESS=Lake Gregory Education & Community Center 24740 San Moritz Way Crestline CA 92325 United States;X-APPLE-RADIUS=500;X-TITLE=24740 San Moritz Way:geo:-117.263106,34.2434129
END:VEVENT
BEGIN:VEVENT
DTSTART;TZID=America/Los_Angeles:20221001T093000
DTEND;TZID=America/Los_Angeles:20221001T160000
DTSTAMP:20260424T011209
CREATED:20221003T211445Z
LAST-MODIFIED:20221003T211445Z
UID:10000172-1664616600-1664640000@www.crestlinechamber.org
SUMMARY:Pine Cone Festival
DESCRIPTION:Free family fun at the Annual Pine Cone Festival! Featured TWICE in the Auto Club’s Westways Magazine as one of the “5 Worth the Drive” this is a great community event.Join us at Rim Nordic/Snow Valley\, on Highway 18 between Big Bear and Running Springs. The Festival’s theme is fire prevention\, forest health and family fun. Come meet our VIP Smokey Bear and check out all the fire engines and other first responders\, compete in the World Famous Pine Cone Olympics\, enter your Coulter or sugar pine cone in the World’s Largest Pine Cone contest\, or bring your creative design to the Pine Cone Craft contest – all for prizes galore! Check out the amazing vendor booths with wonderful items for early holiday shopping and great food vendors to satisfy your taste buds. There will be music all day\, including Mountain Fifes & Drums\, Little Bear Valley Blues and Dan Arroyo. Admission is FREE!
URL:https://www.crestlinechamber.org/event/pine-cone-festival/
END:VEVENT
BEGIN:VEVENT
DTSTART;TZID=America/Los_Angeles:20220827T100000
DTEND;TZID=America/Los_Angeles:20220827T140000
DTSTAMP:20260424T011209
CREATED:20220811T201154Z
LAST-MODIFIED:20220811T201154Z
UID:10000152-1661594400-1661608800@www.crestlinechamber.org
SUMMARY:Feed the BEAST! Free Shredding Event.
DESCRIPTION:FREE Document shredding! Bring all of your old paperwork and more. No need to remove staples\, paperclips or even binder clips – the beast can eat it all. Event is at Rim High School\, from 10am to 2pm\, or until the truck is full. You can watch your material being shredded if you are concerned about your privacy. All material is recycled!
URL:https://www.crestlinechamber.org/event/feed-the-beast-free-shredding-event/
LOCATION:Rim of the World High School\, 27400 CA-18\, Lake Arrowhead\, CA\, 92352\, United States
GEO:34.2321985;-117.2110218
X-APPLE-STRUCTURED-LOCATION;VALUE=URI;X-ADDRESS=Rim of the World High School 27400 CA-18 Lake Arrowhead CA 92352 United States;X-APPLE-RADIUS=500;X-TITLE=27400 CA-18:geo:-117.2110218,34.2321985
END:VEVENT
END:VCALENDAR