BEGIN:VCALENDAR
VERSION:2.0
PRODID:-//Crestline Chamber of Commerce - ECPv6.15.20//NONSGML v1.0//EN
CALSCALE:GREGORIAN
METHOD:PUBLISH
X-ORIGINAL-URL:https://www.crestlinechamber.org
X-WR-CALDESC:Events for Crestline Chamber of Commerce
REFRESH-INTERVAL;VALUE=DURATION:PT1H
X-Robots-Tag:noindex
X-PUBLISHED-TTL:PT1H
BEGIN:VTIMEZONE
TZID:America/Los_Angeles
BEGIN:DAYLIGHT
TZOFFSETFROM:-0800
TZOFFSETTO:-0700
TZNAME:PDT
DTSTART:20230312T100000
END:DAYLIGHT
BEGIN:STANDARD
TZOFFSETFROM:-0700
TZOFFSETTO:-0800
TZNAME:PST
DTSTART:20231105T090000
END:STANDARD
BEGIN:DAYLIGHT
TZOFFSETFROM:-0800
TZOFFSETTO:-0700
TZNAME:PDT
DTSTART:20240310T100000
END:DAYLIGHT
BEGIN:STANDARD
TZOFFSETFROM:-0700
TZOFFSETTO:-0800
TZNAME:PST
DTSTART:20241103T090000
END:STANDARD
BEGIN:DAYLIGHT
TZOFFSETFROM:-0800
TZOFFSETTO:-0700
TZNAME:PDT
DTSTART:20250309T100000
END:DAYLIGHT
BEGIN:STANDARD
TZOFFSETFROM:-0700
TZOFFSETTO:-0800
TZNAME:PST
DTSTART:20251102T090000
END:STANDARD
BEGIN:DAYLIGHT
TZOFFSETFROM:-0800
TZOFFSETTO:-0700
TZNAME:PDT
DTSTART:20260308T100000
END:DAYLIGHT
BEGIN:STANDARD
TZOFFSETFROM:-0700
TZOFFSETTO:-0800
TZNAME:PST
DTSTART:20261101T090000
END:STANDARD
BEGIN:DAYLIGHT
TZOFFSETFROM:-0800
TZOFFSETTO:-0700
TZNAME:PDT
DTSTART:20270314T100000
END:DAYLIGHT
BEGIN:STANDARD
TZOFFSETFROM:-0700
TZOFFSETTO:-0800
TZNAME:PST
DTSTART:20271107T090000
END:STANDARD
END:VTIMEZONE
BEGIN:VEVENT
DTSTART;TZID=America/Los_Angeles:20260213T100000
DTEND;TZID=America/Los_Angeles:20260213T160000
DTSTAMP:20260423T231525
CREATED:20260131T161548Z
LAST-MODIFIED:20260131T161622Z
UID:10007392-1770976800-1770998400@www.crestlinechamber.org
SUMMARY:Fill the Bus ❤️
DESCRIPTION:We ❤️ our mountain veterans\, and this February\, we’re spreading some cozy\, warm\, heart-filled cheer! Join Mountain Transit and RIM Veterans for a special community donation drive at Goodwin & Sons Market. \nLet’s fill the bus and make sure our local heroes feel the love! 🚍💖\nWe’re collecting:\n🧦 Warm socks\n🧤 Gloves & beanies\n🛏️ Blankets\n🧥 Warm jackets & sweaters\n🥫 Non-perishable food (canned goods\, soup\, pasta\, rice\, protein bars)\n🪥 Hygiene kits (toothbrush\, toothpaste\, soap\, deodorant)\n🐾 Pet food (dog or cat) \nNew items only\, please! \nBring your heart\, bring your goodies\, and let’s make this bus overflow with love\, warmth\, and kindness! 💕✨
URL:https://www.crestlinechamber.org/event/fill-the-bus-%e2%9d%a4%ef%b8%8f/
LOCATION:Goodwins Market\, 24089 Lake Gregory Dr\, Crestline\, CA\, 92325\, United States
CATEGORIES:Family Friendly,Fundraiser
ORGANIZER;CN="Mountain Transit / SBCTA":MAILTO:info@mountaintransit.org
END:VEVENT
BEGIN:VEVENT
DTSTART;VALUE=DATE:20250204
DTEND;VALUE=DATE:20250205
DTSTAMP:20260423T231525
CREATED:20250124T222514Z
LAST-MODIFIED:20250124T222514Z
UID:10002105-1738627200-1738713599@www.crestlinechamber.org
SUMMARY:Transit Equity Day! 🚌 ❤️✨
DESCRIPTION:Hey there\, friends!\n \nWe’re excited to celebrate Transit Equity Day on February 4th! To mark the occasion\, we’re offering free rides Off The Mountain\, making it the perfect time to try our service at no cost!\n\nJust a heads up: Route 6 is the Off The Mountain (OTM) service. The first bus down from Lake Arrowhead departs at 5:15 AM. Please check our website and app for additional stops and schedules. The last bus returning up the mountain will depart from the Transit Center at 7:45 PM.\n \nFor all the details on schedules and times\, be sure to check out our website or app. We can’t wait to see you there!
URL:https://www.crestlinechamber.org/event/transit-equity-day-%f0%9f%9a%8c-%e2%9d%a4%ef%b8%8f%e2%9c%a8/
CATEGORIES:Community Event,Family Friendly,Lake Gregory
ORGANIZER;CN="Mountain Transit / SBCTA":MAILTO:info@mountaintransit.org
END:VEVENT
BEGIN:VEVENT
DTSTART;TZID=America/Los_Angeles:20240514T100000
DTEND;TZID=America/Los_Angeles:20240514T100000
DTSTAMP:20260423T231525
CREATED:20240429T182456Z
LAST-MODIFIED:20240429T182803Z
UID:10001310-1715680800-1715680800@www.crestlinechamber.org
SUMMARY:SBCTA's Mobility Needs Public Hearing
DESCRIPTION:
URL:https://www.crestlinechamber.org/event/sbctas-mobility-needs-public-hearing/
LOCATION:San Bernardino Transit Authority (SBCTA\, 1170 West 3rd Street\, First Floor\, San Bernardino\, CA\, 92410-1715\, United States
CATEGORIES:Community Meeting
ORGANIZER;CN="Mountain Transit / SBCTA":MAILTO:info@mountaintransit.org
END:VEVENT
END:VCALENDAR