BEGIN:VCALENDAR
VERSION:2.0
PRODID:-//Crestline Chamber of Commerce - ECPv6.15.20//NONSGML v1.0//EN
CALSCALE:GREGORIAN
METHOD:PUBLISH
X-ORIGINAL-URL:https://www.crestlinechamber.org
X-WR-CALDESC:Events for Crestline Chamber of Commerce
REFRESH-INTERVAL;VALUE=DURATION:PT1H
X-Robots-Tag:noindex
X-PUBLISHED-TTL:PT1H
BEGIN:VTIMEZONE
TZID:America/Los_Angeles
BEGIN:DAYLIGHT
TZOFFSETFROM:-0800
TZOFFSETTO:-0700
TZNAME:PDT
DTSTART:20250309T100000
END:DAYLIGHT
BEGIN:STANDARD
TZOFFSETFROM:-0700
TZOFFSETTO:-0800
TZNAME:PST
DTSTART:20251102T090000
END:STANDARD
BEGIN:DAYLIGHT
TZOFFSETFROM:-0800
TZOFFSETTO:-0700
TZNAME:PDT
DTSTART:20260308T100000
END:DAYLIGHT
BEGIN:STANDARD
TZOFFSETFROM:-0700
TZOFFSETTO:-0800
TZNAME:PST
DTSTART:20261101T090000
END:STANDARD
BEGIN:DAYLIGHT
TZOFFSETFROM:-0800
TZOFFSETTO:-0700
TZNAME:PDT
DTSTART:20270314T100000
END:DAYLIGHT
BEGIN:STANDARD
TZOFFSETFROM:-0700
TZOFFSETTO:-0800
TZNAME:PST
DTSTART:20271107T090000
END:STANDARD
END:VTIMEZONE
BEGIN:VEVENT
DTSTART;TZID=America/Los_Angeles:20260426T200000
DTEND;TZID=America/Los_Angeles:20260426T220000
DTSTAMP:20260423T150212
CREATED:20250619T190615Z
LAST-MODIFIED:20250619T190615Z
UID:10005547-1777233600-1777240800@www.crestlinechamber.org
SUMMARY:Cosmic Bowling 🎳  🌌
DESCRIPTION:
URL:https://www.crestlinechamber.org/event/cosmic-bowling-%f0%9f%8e%b3-%f0%9f%8c%8c/2026-04-26/
LOCATION:RIM Bowling & Entertainment Center\, 23991 Lake Drive\, Crestline\, CA\, 92325
CATEGORIES:Community Event,Family Friendly
END:VEVENT
BEGIN:VEVENT
DTSTART;TZID=America/Los_Angeles:20260503T200000
DTEND;TZID=America/Los_Angeles:20260503T220000
DTSTAMP:20260423T150212
CREATED:20250619T190615Z
LAST-MODIFIED:20250619T190615Z
UID:10005548-1777838400-1777845600@www.crestlinechamber.org
SUMMARY:Cosmic Bowling 🎳  🌌
DESCRIPTION:
URL:https://www.crestlinechamber.org/event/cosmic-bowling-%f0%9f%8e%b3-%f0%9f%8c%8c/2026-05-03/
LOCATION:RIM Bowling & Entertainment Center\, 23991 Lake Drive\, Crestline\, CA\, 92325
CATEGORIES:Community Event,Family Friendly
END:VEVENT
BEGIN:VEVENT
DTSTART;TZID=America/Los_Angeles:20260510T200000
DTEND;TZID=America/Los_Angeles:20260510T220000
DTSTAMP:20260423T150212
CREATED:20250619T190615Z
LAST-MODIFIED:20250619T190615Z
UID:10005549-1778443200-1778450400@www.crestlinechamber.org
SUMMARY:Cosmic Bowling 🎳  🌌
DESCRIPTION:
URL:https://www.crestlinechamber.org/event/cosmic-bowling-%f0%9f%8e%b3-%f0%9f%8c%8c/2026-05-10/
LOCATION:RIM Bowling & Entertainment Center\, 23991 Lake Drive\, Crestline\, CA\, 92325
CATEGORIES:Community Event,Family Friendly
END:VEVENT
BEGIN:VEVENT
DTSTART;TZID=America/Los_Angeles:20260517T200000
DTEND;TZID=America/Los_Angeles:20260517T220000
DTSTAMP:20260423T150212
CREATED:20250619T190615Z
LAST-MODIFIED:20250619T190615Z
UID:10005550-1779048000-1779055200@www.crestlinechamber.org
SUMMARY:Cosmic Bowling 🎳  🌌
DESCRIPTION:
URL:https://www.crestlinechamber.org/event/cosmic-bowling-%f0%9f%8e%b3-%f0%9f%8c%8c/2026-05-17/
LOCATION:RIM Bowling & Entertainment Center\, 23991 Lake Drive\, Crestline\, CA\, 92325
CATEGORIES:Community Event,Family Friendly
END:VEVENT
BEGIN:VEVENT
DTSTART;TZID=America/Los_Angeles:20260524T200000
DTEND;TZID=America/Los_Angeles:20260524T220000
DTSTAMP:20260423T150212
CREATED:20250619T190615Z
LAST-MODIFIED:20250619T190615Z
UID:10005551-1779652800-1779660000@www.crestlinechamber.org
SUMMARY:Cosmic Bowling 🎳  🌌
DESCRIPTION:
URL:https://www.crestlinechamber.org/event/cosmic-bowling-%f0%9f%8e%b3-%f0%9f%8c%8c/2026-05-24/
LOCATION:RIM Bowling & Entertainment Center\, 23991 Lake Drive\, Crestline\, CA\, 92325
CATEGORIES:Community Event,Family Friendly
END:VEVENT
BEGIN:VEVENT
DTSTART;TZID=America/Los_Angeles:20260531T200000
DTEND;TZID=America/Los_Angeles:20260531T220000
DTSTAMP:20260423T150212
CREATED:20250619T190615Z
LAST-MODIFIED:20250619T190615Z
UID:10005552-1780257600-1780264800@www.crestlinechamber.org
SUMMARY:Cosmic Bowling 🎳  🌌
DESCRIPTION:
URL:https://www.crestlinechamber.org/event/cosmic-bowling-%f0%9f%8e%b3-%f0%9f%8c%8c/2026-05-31/
LOCATION:RIM Bowling & Entertainment Center\, 23991 Lake Drive\, Crestline\, CA\, 92325
CATEGORIES:Community Event,Family Friendly
END:VEVENT
BEGIN:VEVENT
DTSTART;TZID=America/Los_Angeles:20260607T200000
DTEND;TZID=America/Los_Angeles:20260607T220000
DTSTAMP:20260423T150212
CREATED:20250619T190615Z
LAST-MODIFIED:20250619T190615Z
UID:10005553-1780862400-1780869600@www.crestlinechamber.org
SUMMARY:Cosmic Bowling 🎳  🌌
DESCRIPTION:
URL:https://www.crestlinechamber.org/event/cosmic-bowling-%f0%9f%8e%b3-%f0%9f%8c%8c/2026-06-07/
LOCATION:RIM Bowling & Entertainment Center\, 23991 Lake Drive\, Crestline\, CA\, 92325
CATEGORIES:Community Event,Family Friendly
END:VEVENT
BEGIN:VEVENT
DTSTART;TZID=America/Los_Angeles:20260614T200000
DTEND;TZID=America/Los_Angeles:20260614T220000
DTSTAMP:20260423T150212
CREATED:20250619T190615Z
LAST-MODIFIED:20250619T190615Z
UID:10005554-1781467200-1781474400@www.crestlinechamber.org
SUMMARY:Cosmic Bowling 🎳  🌌
DESCRIPTION:
URL:https://www.crestlinechamber.org/event/cosmic-bowling-%f0%9f%8e%b3-%f0%9f%8c%8c/2026-06-14/
LOCATION:RIM Bowling & Entertainment Center\, 23991 Lake Drive\, Crestline\, CA\, 92325
CATEGORIES:Community Event,Family Friendly
END:VEVENT
BEGIN:VEVENT
DTSTART;TZID=America/Los_Angeles:20260621T200000
DTEND;TZID=America/Los_Angeles:20260621T220000
DTSTAMP:20260423T150212
CREATED:20250619T190615Z
LAST-MODIFIED:20250619T190615Z
UID:10005555-1782072000-1782079200@www.crestlinechamber.org
SUMMARY:Cosmic Bowling 🎳  🌌
DESCRIPTION:
URL:https://www.crestlinechamber.org/event/cosmic-bowling-%f0%9f%8e%b3-%f0%9f%8c%8c/2026-06-21/
LOCATION:RIM Bowling & Entertainment Center\, 23991 Lake Drive\, Crestline\, CA\, 92325
CATEGORIES:Community Event,Family Friendly
END:VEVENT
BEGIN:VEVENT
DTSTART;TZID=America/Los_Angeles:20260628T200000
DTEND;TZID=America/Los_Angeles:20260628T220000
DTSTAMP:20260423T150212
CREATED:20250619T190615Z
LAST-MODIFIED:20250619T190615Z
UID:10005556-1782676800-1782684000@www.crestlinechamber.org
SUMMARY:Cosmic Bowling 🎳  🌌
DESCRIPTION:
URL:https://www.crestlinechamber.org/event/cosmic-bowling-%f0%9f%8e%b3-%f0%9f%8c%8c/2026-06-28/
LOCATION:RIM Bowling & Entertainment Center\, 23991 Lake Drive\, Crestline\, CA\, 92325
CATEGORIES:Community Event,Family Friendly
END:VEVENT
BEGIN:VEVENT
DTSTART;TZID=America/Los_Angeles:20260705T200000
DTEND;TZID=America/Los_Angeles:20260705T220000
DTSTAMP:20260423T150212
CREATED:20250619T190615Z
LAST-MODIFIED:20250619T190615Z
UID:10005557-1783281600-1783288800@www.crestlinechamber.org
SUMMARY:Cosmic Bowling 🎳  🌌
DESCRIPTION:
URL:https://www.crestlinechamber.org/event/cosmic-bowling-%f0%9f%8e%b3-%f0%9f%8c%8c/2026-07-05/
LOCATION:RIM Bowling & Entertainment Center\, 23991 Lake Drive\, Crestline\, CA\, 92325
CATEGORIES:Community Event,Family Friendly
END:VEVENT
BEGIN:VEVENT
DTSTART;TZID=America/Los_Angeles:20260712T200000
DTEND;TZID=America/Los_Angeles:20260712T220000
DTSTAMP:20260423T150212
CREATED:20250619T190615Z
LAST-MODIFIED:20250619T190615Z
UID:10005558-1783886400-1783893600@www.crestlinechamber.org
SUMMARY:Cosmic Bowling 🎳  🌌
DESCRIPTION:
URL:https://www.crestlinechamber.org/event/cosmic-bowling-%f0%9f%8e%b3-%f0%9f%8c%8c/2026-07-12/
LOCATION:RIM Bowling & Entertainment Center\, 23991 Lake Drive\, Crestline\, CA\, 92325
CATEGORIES:Community Event,Family Friendly
END:VEVENT
BEGIN:VEVENT
DTSTART;TZID=America/Los_Angeles:20260719T200000
DTEND;TZID=America/Los_Angeles:20260719T220000
DTSTAMP:20260423T150212
CREATED:20250619T190615Z
LAST-MODIFIED:20250619T190615Z
UID:10005559-1784491200-1784498400@www.crestlinechamber.org
SUMMARY:Cosmic Bowling 🎳  🌌
DESCRIPTION:
URL:https://www.crestlinechamber.org/event/cosmic-bowling-%f0%9f%8e%b3-%f0%9f%8c%8c/2026-07-19/
LOCATION:RIM Bowling & Entertainment Center\, 23991 Lake Drive\, Crestline\, CA\, 92325
CATEGORIES:Community Event,Family Friendly
END:VEVENT
BEGIN:VEVENT
DTSTART;TZID=America/Los_Angeles:20260726T200000
DTEND;TZID=America/Los_Angeles:20260726T220000
DTSTAMP:20260423T150212
CREATED:20250619T190615Z
LAST-MODIFIED:20250619T190615Z
UID:10005560-1785096000-1785103200@www.crestlinechamber.org
SUMMARY:Cosmic Bowling 🎳  🌌
DESCRIPTION:
URL:https://www.crestlinechamber.org/event/cosmic-bowling-%f0%9f%8e%b3-%f0%9f%8c%8c/2026-07-26/
LOCATION:RIM Bowling & Entertainment Center\, 23991 Lake Drive\, Crestline\, CA\, 92325
CATEGORIES:Community Event,Family Friendly
END:VEVENT
BEGIN:VEVENT
DTSTART;TZID=America/Los_Angeles:20260802T200000
DTEND;TZID=America/Los_Angeles:20260802T220000
DTSTAMP:20260423T150212
CREATED:20250619T190615Z
LAST-MODIFIED:20250619T190615Z
UID:10005561-1785700800-1785708000@www.crestlinechamber.org
SUMMARY:Cosmic Bowling 🎳  🌌
DESCRIPTION:
URL:https://www.crestlinechamber.org/event/cosmic-bowling-%f0%9f%8e%b3-%f0%9f%8c%8c/2026-08-02/
LOCATION:RIM Bowling & Entertainment Center\, 23991 Lake Drive\, Crestline\, CA\, 92325
CATEGORIES:Community Event,Family Friendly
END:VEVENT
BEGIN:VEVENT
DTSTART;TZID=America/Los_Angeles:20260809T200000
DTEND;TZID=America/Los_Angeles:20260809T220000
DTSTAMP:20260423T150212
CREATED:20250619T190615Z
LAST-MODIFIED:20250619T190615Z
UID:10005562-1786305600-1786312800@www.crestlinechamber.org
SUMMARY:Cosmic Bowling 🎳  🌌
DESCRIPTION:
URL:https://www.crestlinechamber.org/event/cosmic-bowling-%f0%9f%8e%b3-%f0%9f%8c%8c/2026-08-09/
LOCATION:RIM Bowling & Entertainment Center\, 23991 Lake Drive\, Crestline\, CA\, 92325
CATEGORIES:Community Event,Family Friendly
END:VEVENT
BEGIN:VEVENT
DTSTART;TZID=America/Los_Angeles:20260816T200000
DTEND;TZID=America/Los_Angeles:20260816T220000
DTSTAMP:20260423T150212
CREATED:20250619T190615Z
LAST-MODIFIED:20250619T190615Z
UID:10005563-1786910400-1786917600@www.crestlinechamber.org
SUMMARY:Cosmic Bowling 🎳  🌌
DESCRIPTION:
URL:https://www.crestlinechamber.org/event/cosmic-bowling-%f0%9f%8e%b3-%f0%9f%8c%8c/2026-08-16/
LOCATION:RIM Bowling & Entertainment Center\, 23991 Lake Drive\, Crestline\, CA\, 92325
CATEGORIES:Community Event,Family Friendly
END:VEVENT
BEGIN:VEVENT
DTSTART;TZID=America/Los_Angeles:20260823T200000
DTEND;TZID=America/Los_Angeles:20260823T220000
DTSTAMP:20260423T150212
CREATED:20250619T190615Z
LAST-MODIFIED:20250619T190615Z
UID:10005564-1787515200-1787522400@www.crestlinechamber.org
SUMMARY:Cosmic Bowling 🎳  🌌
DESCRIPTION:
URL:https://www.crestlinechamber.org/event/cosmic-bowling-%f0%9f%8e%b3-%f0%9f%8c%8c/2026-08-23/
LOCATION:RIM Bowling & Entertainment Center\, 23991 Lake Drive\, Crestline\, CA\, 92325
CATEGORIES:Community Event,Family Friendly
END:VEVENT
BEGIN:VEVENT
DTSTART;TZID=America/Los_Angeles:20260830T200000
DTEND;TZID=America/Los_Angeles:20260830T220000
DTSTAMP:20260423T150212
CREATED:20250619T190615Z
LAST-MODIFIED:20250619T190615Z
UID:10005565-1788120000-1788127200@www.crestlinechamber.org
SUMMARY:Cosmic Bowling 🎳  🌌
DESCRIPTION:
URL:https://www.crestlinechamber.org/event/cosmic-bowling-%f0%9f%8e%b3-%f0%9f%8c%8c/2026-08-30/
LOCATION:RIM Bowling & Entertainment Center\, 23991 Lake Drive\, Crestline\, CA\, 92325
CATEGORIES:Community Event,Family Friendly
END:VEVENT
BEGIN:VEVENT
DTSTART;TZID=America/Los_Angeles:20260906T200000
DTEND;TZID=America/Los_Angeles:20260906T220000
DTSTAMP:20260423T150212
CREATED:20250619T190615Z
LAST-MODIFIED:20250619T190615Z
UID:10005566-1788724800-1788732000@www.crestlinechamber.org
SUMMARY:Cosmic Bowling 🎳  🌌
DESCRIPTION:
URL:https://www.crestlinechamber.org/event/cosmic-bowling-%f0%9f%8e%b3-%f0%9f%8c%8c/2026-09-06/
LOCATION:RIM Bowling & Entertainment Center\, 23991 Lake Drive\, Crestline\, CA\, 92325
CATEGORIES:Community Event,Family Friendly
END:VEVENT
BEGIN:VEVENT
DTSTART;TZID=America/Los_Angeles:20260913T200000
DTEND;TZID=America/Los_Angeles:20260913T220000
DTSTAMP:20260423T150212
CREATED:20250619T190615Z
LAST-MODIFIED:20250619T190615Z
UID:10005567-1789329600-1789336800@www.crestlinechamber.org
SUMMARY:Cosmic Bowling 🎳  🌌
DESCRIPTION:
URL:https://www.crestlinechamber.org/event/cosmic-bowling-%f0%9f%8e%b3-%f0%9f%8c%8c/2026-09-13/
LOCATION:RIM Bowling & Entertainment Center\, 23991 Lake Drive\, Crestline\, CA\, 92325
CATEGORIES:Community Event,Family Friendly
END:VEVENT
BEGIN:VEVENT
DTSTART;TZID=America/Los_Angeles:20260920T200000
DTEND;TZID=America/Los_Angeles:20260920T220000
DTSTAMP:20260423T150212
CREATED:20250619T190615Z
LAST-MODIFIED:20250619T190615Z
UID:10005568-1789934400-1789941600@www.crestlinechamber.org
SUMMARY:Cosmic Bowling 🎳  🌌
DESCRIPTION:
URL:https://www.crestlinechamber.org/event/cosmic-bowling-%f0%9f%8e%b3-%f0%9f%8c%8c/2026-09-20/
LOCATION:RIM Bowling & Entertainment Center\, 23991 Lake Drive\, Crestline\, CA\, 92325
CATEGORIES:Community Event,Family Friendly
END:VEVENT
BEGIN:VEVENT
DTSTART;TZID=America/Los_Angeles:20260927T200000
DTEND;TZID=America/Los_Angeles:20260927T220000
DTSTAMP:20260423T150212
CREATED:20250619T190615Z
LAST-MODIFIED:20250619T190615Z
UID:10005569-1790539200-1790546400@www.crestlinechamber.org
SUMMARY:Cosmic Bowling 🎳  🌌
DESCRIPTION:
URL:https://www.crestlinechamber.org/event/cosmic-bowling-%f0%9f%8e%b3-%f0%9f%8c%8c/2026-09-27/
LOCATION:RIM Bowling & Entertainment Center\, 23991 Lake Drive\, Crestline\, CA\, 92325
CATEGORIES:Community Event,Family Friendly
END:VEVENT
BEGIN:VEVENT
DTSTART;TZID=America/Los_Angeles:20261004T200000
DTEND;TZID=America/Los_Angeles:20261004T220000
DTSTAMP:20260423T150212
CREATED:20250619T190615Z
LAST-MODIFIED:20250619T190615Z
UID:10005570-1791144000-1791151200@www.crestlinechamber.org
SUMMARY:Cosmic Bowling 🎳  🌌
DESCRIPTION:
URL:https://www.crestlinechamber.org/event/cosmic-bowling-%f0%9f%8e%b3-%f0%9f%8c%8c/2026-10-04/
LOCATION:RIM Bowling & Entertainment Center\, 23991 Lake Drive\, Crestline\, CA\, 92325
CATEGORIES:Community Event,Family Friendly
END:VEVENT
BEGIN:VEVENT
DTSTART;TZID=America/Los_Angeles:20261011T200000
DTEND;TZID=America/Los_Angeles:20261011T220000
DTSTAMP:20260423T150212
CREATED:20250619T190615Z
LAST-MODIFIED:20250619T190615Z
UID:10005571-1791748800-1791756000@www.crestlinechamber.org
SUMMARY:Cosmic Bowling 🎳  🌌
DESCRIPTION:
URL:https://www.crestlinechamber.org/event/cosmic-bowling-%f0%9f%8e%b3-%f0%9f%8c%8c/2026-10-11/
LOCATION:RIM Bowling & Entertainment Center\, 23991 Lake Drive\, Crestline\, CA\, 92325
CATEGORIES:Community Event,Family Friendly
END:VEVENT
BEGIN:VEVENT
DTSTART;TZID=America/Los_Angeles:20261018T200000
DTEND;TZID=America/Los_Angeles:20261018T220000
DTSTAMP:20260423T150212
CREATED:20250619T190615Z
LAST-MODIFIED:20250619T190615Z
UID:10005572-1792353600-1792360800@www.crestlinechamber.org
SUMMARY:Cosmic Bowling 🎳  🌌
DESCRIPTION:
URL:https://www.crestlinechamber.org/event/cosmic-bowling-%f0%9f%8e%b3-%f0%9f%8c%8c/2026-10-18/
LOCATION:RIM Bowling & Entertainment Center\, 23991 Lake Drive\, Crestline\, CA\, 92325
CATEGORIES:Community Event,Family Friendly
END:VEVENT
BEGIN:VEVENT
DTSTART;TZID=America/Los_Angeles:20261025T200000
DTEND;TZID=America/Los_Angeles:20261025T220000
DTSTAMP:20260423T150212
CREATED:20250619T190615Z
LAST-MODIFIED:20250619T190615Z
UID:10005573-1792958400-1792965600@www.crestlinechamber.org
SUMMARY:Cosmic Bowling 🎳  🌌
DESCRIPTION:
URL:https://www.crestlinechamber.org/event/cosmic-bowling-%f0%9f%8e%b3-%f0%9f%8c%8c/2026-10-25/
LOCATION:RIM Bowling & Entertainment Center\, 23991 Lake Drive\, Crestline\, CA\, 92325
CATEGORIES:Community Event,Family Friendly
END:VEVENT
BEGIN:VEVENT
DTSTART;TZID=America/Los_Angeles:20261101T200000
DTEND;TZID=America/Los_Angeles:20261101T220000
DTSTAMP:20260423T150212
CREATED:20250619T190615Z
LAST-MODIFIED:20250619T190615Z
UID:10005574-1793563200-1793570400@www.crestlinechamber.org
SUMMARY:Cosmic Bowling 🎳  🌌
DESCRIPTION:
URL:https://www.crestlinechamber.org/event/cosmic-bowling-%f0%9f%8e%b3-%f0%9f%8c%8c/2026-11-01/
LOCATION:RIM Bowling & Entertainment Center\, 23991 Lake Drive\, Crestline\, CA\, 92325
CATEGORIES:Community Event,Family Friendly
END:VEVENT
BEGIN:VEVENT
DTSTART;TZID=America/Los_Angeles:20261108T200000
DTEND;TZID=America/Los_Angeles:20261108T220000
DTSTAMP:20260423T150212
CREATED:20250619T190615Z
LAST-MODIFIED:20250619T190615Z
UID:10005575-1794168000-1794175200@www.crestlinechamber.org
SUMMARY:Cosmic Bowling 🎳  🌌
DESCRIPTION:
URL:https://www.crestlinechamber.org/event/cosmic-bowling-%f0%9f%8e%b3-%f0%9f%8c%8c/2026-11-08/
LOCATION:RIM Bowling & Entertainment Center\, 23991 Lake Drive\, Crestline\, CA\, 92325
CATEGORIES:Community Event,Family Friendly
END:VEVENT
BEGIN:VEVENT
DTSTART;TZID=America/Los_Angeles:20261115T200000
DTEND;TZID=America/Los_Angeles:20261115T220000
DTSTAMP:20260423T150212
CREATED:20250619T190615Z
LAST-MODIFIED:20250619T190615Z
UID:10005576-1794772800-1794780000@www.crestlinechamber.org
SUMMARY:Cosmic Bowling 🎳  🌌
DESCRIPTION:
URL:https://www.crestlinechamber.org/event/cosmic-bowling-%f0%9f%8e%b3-%f0%9f%8c%8c/2026-11-15/
LOCATION:RIM Bowling & Entertainment Center\, 23991 Lake Drive\, Crestline\, CA\, 92325
CATEGORIES:Community Event,Family Friendly
END:VEVENT
END:VCALENDAR