BEGIN:VCALENDAR
VERSION:2.0
PRODID:-//Crestline Chamber of Commerce - ECPv6.15.20//NONSGML v1.0//EN
CALSCALE:GREGORIAN
METHOD:PUBLISH
X-WR-CALNAME:Crestline Chamber of Commerce
X-ORIGINAL-URL:https://www.crestlinechamber.org
X-WR-CALDESC:Events for Crestline Chamber of Commerce
REFRESH-INTERVAL;VALUE=DURATION:PT1H
X-Robots-Tag:noindex
X-PUBLISHED-TTL:PT1H
BEGIN:VTIMEZONE
TZID:America/Los_Angeles
BEGIN:DAYLIGHT
TZOFFSETFROM:-0800
TZOFFSETTO:-0700
TZNAME:PDT
DTSTART:20280312T100000
END:DAYLIGHT
BEGIN:STANDARD
TZOFFSETFROM:-0700
TZOFFSETTO:-0800
TZNAME:PST
DTSTART:20281105T090000
END:STANDARD
BEGIN:DAYLIGHT
TZOFFSETFROM:-0800
TZOFFSETTO:-0700
TZNAME:PDT
DTSTART:20290311T100000
END:DAYLIGHT
BEGIN:STANDARD
TZOFFSETFROM:-0700
TZOFFSETTO:-0800
TZNAME:PST
DTSTART:20291104T090000
END:STANDARD
BEGIN:DAYLIGHT
TZOFFSETFROM:-0800
TZOFFSETTO:-0700
TZNAME:PDT
DTSTART:20300310T100000
END:DAYLIGHT
BEGIN:STANDARD
TZOFFSETFROM:-0700
TZOFFSETTO:-0800
TZNAME:PST
DTSTART:20301103T090000
END:STANDARD
BEGIN:DAYLIGHT
TZOFFSETFROM:-0800
TZOFFSETTO:-0700
TZNAME:PDT
DTSTART:20310309T100000
END:DAYLIGHT
BEGIN:STANDARD
TZOFFSETFROM:-0700
TZOFFSETTO:-0800
TZNAME:PST
DTSTART:20311102T090000
END:STANDARD
END:VTIMEZONE
BEGIN:VEVENT
DTSTART;TZID=America/Los_Angeles:20290715T200000
DTEND;TZID=America/Los_Angeles:20290715T220000
DTSTAMP:20260424T120344
CREATED:20250619T190615Z
LAST-MODIFIED:20250619T190615Z
UID:10005715-1878840000-1878847200@www.crestlinechamber.org
SUMMARY:Cosmic Bowling 🎳  🌌
DESCRIPTION:
URL:https://www.crestlinechamber.org/event/cosmic-bowling-%f0%9f%8e%b3-%f0%9f%8c%8c/2029-07-15/
LOCATION:RIM Bowling & Entertainment Center\, 23991 Lake Drive\, Crestline\, CA\, 92325
CATEGORIES:Community Event,Family Friendly
END:VEVENT
BEGIN:VEVENT
DTSTART;TZID=America/Los_Angeles:20290722T200000
DTEND;TZID=America/Los_Angeles:20290722T220000
DTSTAMP:20260424T120344
CREATED:20250619T190615Z
LAST-MODIFIED:20250619T190615Z
UID:10005716-1879444800-1879452000@www.crestlinechamber.org
SUMMARY:Cosmic Bowling 🎳  🌌
DESCRIPTION:
URL:https://www.crestlinechamber.org/event/cosmic-bowling-%f0%9f%8e%b3-%f0%9f%8c%8c/2029-07-22/
LOCATION:RIM Bowling & Entertainment Center\, 23991 Lake Drive\, Crestline\, CA\, 92325
CATEGORIES:Community Event,Family Friendly
END:VEVENT
BEGIN:VEVENT
DTSTART;TZID=America/Los_Angeles:20290729T200000
DTEND;TZID=America/Los_Angeles:20290729T220000
DTSTAMP:20260424T120344
CREATED:20250619T190615Z
LAST-MODIFIED:20250619T190615Z
UID:10005717-1880049600-1880056800@www.crestlinechamber.org
SUMMARY:Cosmic Bowling 🎳  🌌
DESCRIPTION:
URL:https://www.crestlinechamber.org/event/cosmic-bowling-%f0%9f%8e%b3-%f0%9f%8c%8c/2029-07-29/
LOCATION:RIM Bowling & Entertainment Center\, 23991 Lake Drive\, Crestline\, CA\, 92325
CATEGORIES:Community Event,Family Friendly
END:VEVENT
BEGIN:VEVENT
DTSTART;TZID=America/Los_Angeles:20290805T200000
DTEND;TZID=America/Los_Angeles:20290805T220000
DTSTAMP:20260424T120344
CREATED:20250619T190615Z
LAST-MODIFIED:20250619T190615Z
UID:10005718-1880654400-1880661600@www.crestlinechamber.org
SUMMARY:Cosmic Bowling 🎳  🌌
DESCRIPTION:
URL:https://www.crestlinechamber.org/event/cosmic-bowling-%f0%9f%8e%b3-%f0%9f%8c%8c/2029-08-05/
LOCATION:RIM Bowling & Entertainment Center\, 23991 Lake Drive\, Crestline\, CA\, 92325
CATEGORIES:Community Event,Family Friendly
END:VEVENT
BEGIN:VEVENT
DTSTART;TZID=America/Los_Angeles:20290812T200000
DTEND;TZID=America/Los_Angeles:20290812T220000
DTSTAMP:20260424T120344
CREATED:20250619T190615Z
LAST-MODIFIED:20250619T190615Z
UID:10005719-1881259200-1881266400@www.crestlinechamber.org
SUMMARY:Cosmic Bowling 🎳  🌌
DESCRIPTION:
URL:https://www.crestlinechamber.org/event/cosmic-bowling-%f0%9f%8e%b3-%f0%9f%8c%8c/2029-08-12/
LOCATION:RIM Bowling & Entertainment Center\, 23991 Lake Drive\, Crestline\, CA\, 92325
CATEGORIES:Community Event,Family Friendly
END:VEVENT
BEGIN:VEVENT
DTSTART;TZID=America/Los_Angeles:20290819T200000
DTEND;TZID=America/Los_Angeles:20290819T220000
DTSTAMP:20260424T120344
CREATED:20250619T190615Z
LAST-MODIFIED:20250619T190615Z
UID:10005720-1881864000-1881871200@www.crestlinechamber.org
SUMMARY:Cosmic Bowling 🎳  🌌
DESCRIPTION:
URL:https://www.crestlinechamber.org/event/cosmic-bowling-%f0%9f%8e%b3-%f0%9f%8c%8c/2029-08-19/
LOCATION:RIM Bowling & Entertainment Center\, 23991 Lake Drive\, Crestline\, CA\, 92325
CATEGORIES:Community Event,Family Friendly
END:VEVENT
BEGIN:VEVENT
DTSTART;TZID=America/Los_Angeles:20290826T200000
DTEND;TZID=America/Los_Angeles:20290826T220000
DTSTAMP:20260424T120344
CREATED:20250619T190615Z
LAST-MODIFIED:20250619T190615Z
UID:10005721-1882468800-1882476000@www.crestlinechamber.org
SUMMARY:Cosmic Bowling 🎳  🌌
DESCRIPTION:
URL:https://www.crestlinechamber.org/event/cosmic-bowling-%f0%9f%8e%b3-%f0%9f%8c%8c/2029-08-26/
LOCATION:RIM Bowling & Entertainment Center\, 23991 Lake Drive\, Crestline\, CA\, 92325
CATEGORIES:Community Event,Family Friendly
END:VEVENT
BEGIN:VEVENT
DTSTART;TZID=America/Los_Angeles:20290902T200000
DTEND;TZID=America/Los_Angeles:20290902T220000
DTSTAMP:20260424T120344
CREATED:20250619T190615Z
LAST-MODIFIED:20250619T190615Z
UID:10005722-1883073600-1883080800@www.crestlinechamber.org
SUMMARY:Cosmic Bowling 🎳  🌌
DESCRIPTION:
URL:https://www.crestlinechamber.org/event/cosmic-bowling-%f0%9f%8e%b3-%f0%9f%8c%8c/2029-09-02/
LOCATION:RIM Bowling & Entertainment Center\, 23991 Lake Drive\, Crestline\, CA\, 92325
CATEGORIES:Community Event,Family Friendly
END:VEVENT
BEGIN:VEVENT
DTSTART;TZID=America/Los_Angeles:20290909T200000
DTEND;TZID=America/Los_Angeles:20290909T220000
DTSTAMP:20260424T120344
CREATED:20250619T190615Z
LAST-MODIFIED:20250619T190615Z
UID:10005723-1883678400-1883685600@www.crestlinechamber.org
SUMMARY:Cosmic Bowling 🎳  🌌
DESCRIPTION:
URL:https://www.crestlinechamber.org/event/cosmic-bowling-%f0%9f%8e%b3-%f0%9f%8c%8c/2029-09-09/
LOCATION:RIM Bowling & Entertainment Center\, 23991 Lake Drive\, Crestline\, CA\, 92325
CATEGORIES:Community Event,Family Friendly
END:VEVENT
BEGIN:VEVENT
DTSTART;TZID=America/Los_Angeles:20290916T200000
DTEND;TZID=America/Los_Angeles:20290916T220000
DTSTAMP:20260424T120344
CREATED:20250619T190615Z
LAST-MODIFIED:20250619T190615Z
UID:10005724-1884283200-1884290400@www.crestlinechamber.org
SUMMARY:Cosmic Bowling 🎳  🌌
DESCRIPTION:
URL:https://www.crestlinechamber.org/event/cosmic-bowling-%f0%9f%8e%b3-%f0%9f%8c%8c/2029-09-16/
LOCATION:RIM Bowling & Entertainment Center\, 23991 Lake Drive\, Crestline\, CA\, 92325
CATEGORIES:Community Event,Family Friendly
END:VEVENT
BEGIN:VEVENT
DTSTART;TZID=America/Los_Angeles:20290923T200000
DTEND;TZID=America/Los_Angeles:20290923T220000
DTSTAMP:20260424T120344
CREATED:20250619T190615Z
LAST-MODIFIED:20250619T190615Z
UID:10005725-1884888000-1884895200@www.crestlinechamber.org
SUMMARY:Cosmic Bowling 🎳  🌌
DESCRIPTION:
URL:https://www.crestlinechamber.org/event/cosmic-bowling-%f0%9f%8e%b3-%f0%9f%8c%8c/2029-09-23/
LOCATION:RIM Bowling & Entertainment Center\, 23991 Lake Drive\, Crestline\, CA\, 92325
CATEGORIES:Community Event,Family Friendly
END:VEVENT
BEGIN:VEVENT
DTSTART;TZID=America/Los_Angeles:20290930T200000
DTEND;TZID=America/Los_Angeles:20290930T220000
DTSTAMP:20260424T120344
CREATED:20250619T190615Z
LAST-MODIFIED:20250619T190615Z
UID:10005726-1885492800-1885500000@www.crestlinechamber.org
SUMMARY:Cosmic Bowling 🎳  🌌
DESCRIPTION:
URL:https://www.crestlinechamber.org/event/cosmic-bowling-%f0%9f%8e%b3-%f0%9f%8c%8c/2029-09-30/
LOCATION:RIM Bowling & Entertainment Center\, 23991 Lake Drive\, Crestline\, CA\, 92325
CATEGORIES:Community Event,Family Friendly
END:VEVENT
BEGIN:VEVENT
DTSTART;TZID=America/Los_Angeles:20291007T200000
DTEND;TZID=America/Los_Angeles:20291007T220000
DTSTAMP:20260424T120344
CREATED:20250619T190615Z
LAST-MODIFIED:20250619T190615Z
UID:10005727-1886097600-1886104800@www.crestlinechamber.org
SUMMARY:Cosmic Bowling 🎳  🌌
DESCRIPTION:
URL:https://www.crestlinechamber.org/event/cosmic-bowling-%f0%9f%8e%b3-%f0%9f%8c%8c/2029-10-07/
LOCATION:RIM Bowling & Entertainment Center\, 23991 Lake Drive\, Crestline\, CA\, 92325
CATEGORIES:Community Event,Family Friendly
END:VEVENT
BEGIN:VEVENT
DTSTART;TZID=America/Los_Angeles:20291014T200000
DTEND;TZID=America/Los_Angeles:20291014T220000
DTSTAMP:20260424T120344
CREATED:20250619T190615Z
LAST-MODIFIED:20250619T190615Z
UID:10005728-1886702400-1886709600@www.crestlinechamber.org
SUMMARY:Cosmic Bowling 🎳  🌌
DESCRIPTION:
URL:https://www.crestlinechamber.org/event/cosmic-bowling-%f0%9f%8e%b3-%f0%9f%8c%8c/2029-10-14/
LOCATION:RIM Bowling & Entertainment Center\, 23991 Lake Drive\, Crestline\, CA\, 92325
CATEGORIES:Community Event,Family Friendly
END:VEVENT
BEGIN:VEVENT
DTSTART;TZID=America/Los_Angeles:20291021T200000
DTEND;TZID=America/Los_Angeles:20291021T220000
DTSTAMP:20260424T120344
CREATED:20250619T190615Z
LAST-MODIFIED:20250619T190615Z
UID:10005729-1887307200-1887314400@www.crestlinechamber.org
SUMMARY:Cosmic Bowling 🎳  🌌
DESCRIPTION:
URL:https://www.crestlinechamber.org/event/cosmic-bowling-%f0%9f%8e%b3-%f0%9f%8c%8c/2029-10-21/
LOCATION:RIM Bowling & Entertainment Center\, 23991 Lake Drive\, Crestline\, CA\, 92325
CATEGORIES:Community Event,Family Friendly
END:VEVENT
BEGIN:VEVENT
DTSTART;TZID=America/Los_Angeles:20291028T200000
DTEND;TZID=America/Los_Angeles:20291028T220000
DTSTAMP:20260424T120344
CREATED:20250619T190615Z
LAST-MODIFIED:20250619T190615Z
UID:10005730-1887912000-1887919200@www.crestlinechamber.org
SUMMARY:Cosmic Bowling 🎳  🌌
DESCRIPTION:
URL:https://www.crestlinechamber.org/event/cosmic-bowling-%f0%9f%8e%b3-%f0%9f%8c%8c/2029-10-28/
LOCATION:RIM Bowling & Entertainment Center\, 23991 Lake Drive\, Crestline\, CA\, 92325
CATEGORIES:Community Event,Family Friendly
END:VEVENT
BEGIN:VEVENT
DTSTART;TZID=America/Los_Angeles:20291104T200000
DTEND;TZID=America/Los_Angeles:20291104T220000
DTSTAMP:20260424T120344
CREATED:20250619T190615Z
LAST-MODIFIED:20250619T190615Z
UID:10005731-1888516800-1888524000@www.crestlinechamber.org
SUMMARY:Cosmic Bowling 🎳  🌌
DESCRIPTION:
URL:https://www.crestlinechamber.org/event/cosmic-bowling-%f0%9f%8e%b3-%f0%9f%8c%8c/2029-11-04/
LOCATION:RIM Bowling & Entertainment Center\, 23991 Lake Drive\, Crestline\, CA\, 92325
CATEGORIES:Community Event,Family Friendly
END:VEVENT
BEGIN:VEVENT
DTSTART;TZID=America/Los_Angeles:20291111T200000
DTEND;TZID=America/Los_Angeles:20291111T220000
DTSTAMP:20260424T120344
CREATED:20250619T190615Z
LAST-MODIFIED:20250619T190615Z
UID:10005732-1889121600-1889128800@www.crestlinechamber.org
SUMMARY:Cosmic Bowling 🎳  🌌
DESCRIPTION:
URL:https://www.crestlinechamber.org/event/cosmic-bowling-%f0%9f%8e%b3-%f0%9f%8c%8c/2029-11-11/
LOCATION:RIM Bowling & Entertainment Center\, 23991 Lake Drive\, Crestline\, CA\, 92325
CATEGORIES:Community Event,Family Friendly
END:VEVENT
BEGIN:VEVENT
DTSTART;TZID=America/Los_Angeles:20291118T200000
DTEND;TZID=America/Los_Angeles:20291118T220000
DTSTAMP:20260424T120344
CREATED:20250619T190615Z
LAST-MODIFIED:20250619T190615Z
UID:10005733-1889726400-1889733600@www.crestlinechamber.org
SUMMARY:Cosmic Bowling 🎳  🌌
DESCRIPTION:
URL:https://www.crestlinechamber.org/event/cosmic-bowling-%f0%9f%8e%b3-%f0%9f%8c%8c/2029-11-18/
LOCATION:RIM Bowling & Entertainment Center\, 23991 Lake Drive\, Crestline\, CA\, 92325
CATEGORIES:Community Event,Family Friendly
END:VEVENT
BEGIN:VEVENT
DTSTART;TZID=America/Los_Angeles:20291125T200000
DTEND;TZID=America/Los_Angeles:20291125T220000
DTSTAMP:20260424T120344
CREATED:20250619T190615Z
LAST-MODIFIED:20250619T190615Z
UID:10005734-1890331200-1890338400@www.crestlinechamber.org
SUMMARY:Cosmic Bowling 🎳  🌌
DESCRIPTION:
URL:https://www.crestlinechamber.org/event/cosmic-bowling-%f0%9f%8e%b3-%f0%9f%8c%8c/2029-11-25/
LOCATION:RIM Bowling & Entertainment Center\, 23991 Lake Drive\, Crestline\, CA\, 92325
CATEGORIES:Community Event,Family Friendly
END:VEVENT
BEGIN:VEVENT
DTSTART;TZID=America/Los_Angeles:20291202T200000
DTEND;TZID=America/Los_Angeles:20291202T220000
DTSTAMP:20260424T120344
CREATED:20250619T190615Z
LAST-MODIFIED:20250619T190615Z
UID:10005735-1890936000-1890943200@www.crestlinechamber.org
SUMMARY:Cosmic Bowling 🎳  🌌
DESCRIPTION:
URL:https://www.crestlinechamber.org/event/cosmic-bowling-%f0%9f%8e%b3-%f0%9f%8c%8c/2029-12-02/
LOCATION:RIM Bowling & Entertainment Center\, 23991 Lake Drive\, Crestline\, CA\, 92325
CATEGORIES:Community Event,Family Friendly
END:VEVENT
BEGIN:VEVENT
DTSTART;TZID=America/Los_Angeles:20291209T200000
DTEND;TZID=America/Los_Angeles:20291209T220000
DTSTAMP:20260424T120344
CREATED:20250619T190615Z
LAST-MODIFIED:20250619T190615Z
UID:10005736-1891540800-1891548000@www.crestlinechamber.org
SUMMARY:Cosmic Bowling 🎳  🌌
DESCRIPTION:
URL:https://www.crestlinechamber.org/event/cosmic-bowling-%f0%9f%8e%b3-%f0%9f%8c%8c/2029-12-09/
LOCATION:RIM Bowling & Entertainment Center\, 23991 Lake Drive\, Crestline\, CA\, 92325
CATEGORIES:Community Event,Family Friendly
END:VEVENT
BEGIN:VEVENT
DTSTART;TZID=America/Los_Angeles:20291216T200000
DTEND;TZID=America/Los_Angeles:20291216T220000
DTSTAMP:20260424T120344
CREATED:20250619T190615Z
LAST-MODIFIED:20250619T190615Z
UID:10005737-1892145600-1892152800@www.crestlinechamber.org
SUMMARY:Cosmic Bowling 🎳  🌌
DESCRIPTION:
URL:https://www.crestlinechamber.org/event/cosmic-bowling-%f0%9f%8e%b3-%f0%9f%8c%8c/2029-12-16/
LOCATION:RIM Bowling & Entertainment Center\, 23991 Lake Drive\, Crestline\, CA\, 92325
CATEGORIES:Community Event,Family Friendly
END:VEVENT
BEGIN:VEVENT
DTSTART;TZID=America/Los_Angeles:20291223T200000
DTEND;TZID=America/Los_Angeles:20291223T220000
DTSTAMP:20260424T120344
CREATED:20250619T190615Z
LAST-MODIFIED:20250619T190615Z
UID:10005738-1892750400-1892757600@www.crestlinechamber.org
SUMMARY:Cosmic Bowling 🎳  🌌
DESCRIPTION:
URL:https://www.crestlinechamber.org/event/cosmic-bowling-%f0%9f%8e%b3-%f0%9f%8c%8c/2029-12-23/
LOCATION:RIM Bowling & Entertainment Center\, 23991 Lake Drive\, Crestline\, CA\, 92325
CATEGORIES:Community Event,Family Friendly
END:VEVENT
BEGIN:VEVENT
DTSTART;TZID=America/Los_Angeles:20291230T200000
DTEND;TZID=America/Los_Angeles:20291230T220000
DTSTAMP:20260424T120344
CREATED:20250619T190615Z
LAST-MODIFIED:20250619T190615Z
UID:10005739-1893355200-1893362400@www.crestlinechamber.org
SUMMARY:Cosmic Bowling 🎳  🌌
DESCRIPTION:
URL:https://www.crestlinechamber.org/event/cosmic-bowling-%f0%9f%8e%b3-%f0%9f%8c%8c/2029-12-30/
LOCATION:RIM Bowling & Entertainment Center\, 23991 Lake Drive\, Crestline\, CA\, 92325
CATEGORIES:Community Event,Family Friendly
END:VEVENT
BEGIN:VEVENT
DTSTART;TZID=America/Los_Angeles:20300106T200000
DTEND;TZID=America/Los_Angeles:20300106T220000
DTSTAMP:20260424T120344
CREATED:20250619T190615Z
LAST-MODIFIED:20250619T190615Z
UID:10005740-1893960000-1893967200@www.crestlinechamber.org
SUMMARY:Cosmic Bowling 🎳  🌌
DESCRIPTION:
URL:https://www.crestlinechamber.org/event/cosmic-bowling-%f0%9f%8e%b3-%f0%9f%8c%8c/2030-01-06/
LOCATION:RIM Bowling & Entertainment Center\, 23991 Lake Drive\, Crestline\, CA\, 92325
CATEGORIES:Community Event,Family Friendly
END:VEVENT
BEGIN:VEVENT
DTSTART;TZID=America/Los_Angeles:20300113T200000
DTEND;TZID=America/Los_Angeles:20300113T220000
DTSTAMP:20260424T120344
CREATED:20250619T190615Z
LAST-MODIFIED:20250619T190615Z
UID:10005741-1894564800-1894572000@www.crestlinechamber.org
SUMMARY:Cosmic Bowling 🎳  🌌
DESCRIPTION:
URL:https://www.crestlinechamber.org/event/cosmic-bowling-%f0%9f%8e%b3-%f0%9f%8c%8c/2030-01-13/
LOCATION:RIM Bowling & Entertainment Center\, 23991 Lake Drive\, Crestline\, CA\, 92325
CATEGORIES:Community Event,Family Friendly
END:VEVENT
BEGIN:VEVENT
DTSTART;TZID=America/Los_Angeles:20300120T200000
DTEND;TZID=America/Los_Angeles:20300120T220000
DTSTAMP:20260424T120344
CREATED:20250619T190615Z
LAST-MODIFIED:20250619T190615Z
UID:10005742-1895169600-1895176800@www.crestlinechamber.org
SUMMARY:Cosmic Bowling 🎳  🌌
DESCRIPTION:
URL:https://www.crestlinechamber.org/event/cosmic-bowling-%f0%9f%8e%b3-%f0%9f%8c%8c/2030-01-20/
LOCATION:RIM Bowling & Entertainment Center\, 23991 Lake Drive\, Crestline\, CA\, 92325
CATEGORIES:Community Event,Family Friendly
END:VEVENT
BEGIN:VEVENT
DTSTART;TZID=America/Los_Angeles:20300127T200000
DTEND;TZID=America/Los_Angeles:20300127T220000
DTSTAMP:20260424T120344
CREATED:20250619T190615Z
LAST-MODIFIED:20250619T190615Z
UID:10005743-1895774400-1895781600@www.crestlinechamber.org
SUMMARY:Cosmic Bowling 🎳  🌌
DESCRIPTION:
URL:https://www.crestlinechamber.org/event/cosmic-bowling-%f0%9f%8e%b3-%f0%9f%8c%8c/2030-01-27/
LOCATION:RIM Bowling & Entertainment Center\, 23991 Lake Drive\, Crestline\, CA\, 92325
CATEGORIES:Community Event,Family Friendly
END:VEVENT
BEGIN:VEVENT
DTSTART;TZID=America/Los_Angeles:20300203T200000
DTEND;TZID=America/Los_Angeles:20300203T220000
DTSTAMP:20260424T120344
CREATED:20250619T190615Z
LAST-MODIFIED:20250619T190615Z
UID:10005744-1896379200-1896386400@www.crestlinechamber.org
SUMMARY:Cosmic Bowling 🎳  🌌
DESCRIPTION:
URL:https://www.crestlinechamber.org/event/cosmic-bowling-%f0%9f%8e%b3-%f0%9f%8c%8c/2030-02-03/
LOCATION:RIM Bowling & Entertainment Center\, 23991 Lake Drive\, Crestline\, CA\, 92325
CATEGORIES:Community Event,Family Friendly
END:VEVENT
END:VCALENDAR