BEGIN:VCALENDAR
VERSION:2.0
PRODID:-//Crestline Chamber of Commerce - ECPv6.15.20//NONSGML v1.0//EN
CALSCALE:GREGORIAN
METHOD:PUBLISH
X-ORIGINAL-URL:https://www.crestlinechamber.org
X-WR-CALDESC:Events for Crestline Chamber of Commerce
REFRESH-INTERVAL;VALUE=DURATION:PT1H
X-Robots-Tag:noindex
X-PUBLISHED-TTL:PT1H
BEGIN:VTIMEZONE
TZID:America/Los_Angeles
BEGIN:DAYLIGHT
TZOFFSETFROM:-0800
TZOFFSETTO:-0700
TZNAME:PDT
DTSTART:20290311T100000
END:DAYLIGHT
BEGIN:STANDARD
TZOFFSETFROM:-0700
TZOFFSETTO:-0800
TZNAME:PST
DTSTART:20291104T090000
END:STANDARD
BEGIN:DAYLIGHT
TZOFFSETFROM:-0800
TZOFFSETTO:-0700
TZNAME:PDT
DTSTART:20300310T100000
END:DAYLIGHT
BEGIN:STANDARD
TZOFFSETFROM:-0700
TZOFFSETTO:-0800
TZNAME:PST
DTSTART:20301103T090000
END:STANDARD
BEGIN:DAYLIGHT
TZOFFSETFROM:-0800
TZOFFSETTO:-0700
TZNAME:PDT
DTSTART:20310309T100000
END:DAYLIGHT
BEGIN:STANDARD
TZOFFSETFROM:-0700
TZOFFSETTO:-0800
TZNAME:PST
DTSTART:20311102T090000
END:STANDARD
END:VTIMEZONE
BEGIN:VEVENT
DTSTART;TZID=America/Los_Angeles:20300324T200000
DTEND;TZID=America/Los_Angeles:20300324T220000
DTSTAMP:20260424T163502
CREATED:20250619T190615Z
LAST-MODIFIED:20250619T190615Z
UID:10005751-1900612800-1900620000@www.crestlinechamber.org
SUMMARY:Cosmic Bowling 🎳  🌌
DESCRIPTION:
URL:https://www.crestlinechamber.org/event/cosmic-bowling-%f0%9f%8e%b3-%f0%9f%8c%8c/2030-03-24/
LOCATION:RIM Bowling & Entertainment Center\, 23991 Lake Drive\, Crestline\, CA\, 92325
CATEGORIES:Community Event,Family Friendly
END:VEVENT
BEGIN:VEVENT
DTSTART;TZID=America/Los_Angeles:20300331T200000
DTEND;TZID=America/Los_Angeles:20300331T220000
DTSTAMP:20260424T163502
CREATED:20250619T190615Z
LAST-MODIFIED:20250619T190615Z
UID:10005752-1901217600-1901224800@www.crestlinechamber.org
SUMMARY:Cosmic Bowling 🎳  🌌
DESCRIPTION:
URL:https://www.crestlinechamber.org/event/cosmic-bowling-%f0%9f%8e%b3-%f0%9f%8c%8c/2030-03-31/
LOCATION:RIM Bowling & Entertainment Center\, 23991 Lake Drive\, Crestline\, CA\, 92325
CATEGORIES:Community Event,Family Friendly
END:VEVENT
BEGIN:VEVENT
DTSTART;TZID=America/Los_Angeles:20300407T200000
DTEND;TZID=America/Los_Angeles:20300407T220000
DTSTAMP:20260424T163502
CREATED:20250619T190615Z
LAST-MODIFIED:20250619T190615Z
UID:10005753-1901822400-1901829600@www.crestlinechamber.org
SUMMARY:Cosmic Bowling 🎳  🌌
DESCRIPTION:
URL:https://www.crestlinechamber.org/event/cosmic-bowling-%f0%9f%8e%b3-%f0%9f%8c%8c/2030-04-07/
LOCATION:RIM Bowling & Entertainment Center\, 23991 Lake Drive\, Crestline\, CA\, 92325
CATEGORIES:Community Event,Family Friendly
END:VEVENT
BEGIN:VEVENT
DTSTART;TZID=America/Los_Angeles:20300414T200000
DTEND;TZID=America/Los_Angeles:20300414T220000
DTSTAMP:20260424T163502
CREATED:20250619T190615Z
LAST-MODIFIED:20250619T190615Z
UID:10005754-1902427200-1902434400@www.crestlinechamber.org
SUMMARY:Cosmic Bowling 🎳  🌌
DESCRIPTION:
URL:https://www.crestlinechamber.org/event/cosmic-bowling-%f0%9f%8e%b3-%f0%9f%8c%8c/2030-04-14/
LOCATION:RIM Bowling & Entertainment Center\, 23991 Lake Drive\, Crestline\, CA\, 92325
CATEGORIES:Community Event,Family Friendly
END:VEVENT
BEGIN:VEVENT
DTSTART;TZID=America/Los_Angeles:20300421T200000
DTEND;TZID=America/Los_Angeles:20300421T220000
DTSTAMP:20260424T163502
CREATED:20250619T190615Z
LAST-MODIFIED:20250619T190615Z
UID:10005755-1903032000-1903039200@www.crestlinechamber.org
SUMMARY:Cosmic Bowling 🎳  🌌
DESCRIPTION:
URL:https://www.crestlinechamber.org/event/cosmic-bowling-%f0%9f%8e%b3-%f0%9f%8c%8c/2030-04-21/
LOCATION:RIM Bowling & Entertainment Center\, 23991 Lake Drive\, Crestline\, CA\, 92325
CATEGORIES:Community Event,Family Friendly
END:VEVENT
BEGIN:VEVENT
DTSTART;TZID=America/Los_Angeles:20300428T200000
DTEND;TZID=America/Los_Angeles:20300428T220000
DTSTAMP:20260424T163502
CREATED:20250619T190615Z
LAST-MODIFIED:20250619T190615Z
UID:10005756-1903636800-1903644000@www.crestlinechamber.org
SUMMARY:Cosmic Bowling 🎳  🌌
DESCRIPTION:
URL:https://www.crestlinechamber.org/event/cosmic-bowling-%f0%9f%8e%b3-%f0%9f%8c%8c/2030-04-28/
LOCATION:RIM Bowling & Entertainment Center\, 23991 Lake Drive\, Crestline\, CA\, 92325
CATEGORIES:Community Event,Family Friendly
END:VEVENT
BEGIN:VEVENT
DTSTART;TZID=America/Los_Angeles:20300505T200000
DTEND;TZID=America/Los_Angeles:20300505T220000
DTSTAMP:20260424T163502
CREATED:20250619T190615Z
LAST-MODIFIED:20250619T190615Z
UID:10005757-1904241600-1904248800@www.crestlinechamber.org
SUMMARY:Cosmic Bowling 🎳  🌌
DESCRIPTION:
URL:https://www.crestlinechamber.org/event/cosmic-bowling-%f0%9f%8e%b3-%f0%9f%8c%8c/2030-05-05/
LOCATION:RIM Bowling & Entertainment Center\, 23991 Lake Drive\, Crestline\, CA\, 92325
CATEGORIES:Community Event,Family Friendly
END:VEVENT
BEGIN:VEVENT
DTSTART;TZID=America/Los_Angeles:20300512T200000
DTEND;TZID=America/Los_Angeles:20300512T220000
DTSTAMP:20260424T163502
CREATED:20250619T190615Z
LAST-MODIFIED:20250619T190615Z
UID:10005758-1904846400-1904853600@www.crestlinechamber.org
SUMMARY:Cosmic Bowling 🎳  🌌
DESCRIPTION:
URL:https://www.crestlinechamber.org/event/cosmic-bowling-%f0%9f%8e%b3-%f0%9f%8c%8c/2030-05-12/
LOCATION:RIM Bowling & Entertainment Center\, 23991 Lake Drive\, Crestline\, CA\, 92325
CATEGORIES:Community Event,Family Friendly
END:VEVENT
BEGIN:VEVENT
DTSTART;TZID=America/Los_Angeles:20300519T200000
DTEND;TZID=America/Los_Angeles:20300519T220000
DTSTAMP:20260424T163502
CREATED:20250619T190615Z
LAST-MODIFIED:20250619T190615Z
UID:10005759-1905451200-1905458400@www.crestlinechamber.org
SUMMARY:Cosmic Bowling 🎳  🌌
DESCRIPTION:
URL:https://www.crestlinechamber.org/event/cosmic-bowling-%f0%9f%8e%b3-%f0%9f%8c%8c/2030-05-19/
LOCATION:RIM Bowling & Entertainment Center\, 23991 Lake Drive\, Crestline\, CA\, 92325
CATEGORIES:Community Event,Family Friendly
END:VEVENT
BEGIN:VEVENT
DTSTART;TZID=America/Los_Angeles:20300526T200000
DTEND;TZID=America/Los_Angeles:20300526T220000
DTSTAMP:20260424T163502
CREATED:20250619T190615Z
LAST-MODIFIED:20250619T190615Z
UID:10005760-1906056000-1906063200@www.crestlinechamber.org
SUMMARY:Cosmic Bowling 🎳  🌌
DESCRIPTION:
URL:https://www.crestlinechamber.org/event/cosmic-bowling-%f0%9f%8e%b3-%f0%9f%8c%8c/2030-05-26/
LOCATION:RIM Bowling & Entertainment Center\, 23991 Lake Drive\, Crestline\, CA\, 92325
CATEGORIES:Community Event,Family Friendly
END:VEVENT
BEGIN:VEVENT
DTSTART;TZID=America/Los_Angeles:20300602T200000
DTEND;TZID=America/Los_Angeles:20300602T220000
DTSTAMP:20260424T163502
CREATED:20250619T190615Z
LAST-MODIFIED:20250619T190615Z
UID:10005761-1906660800-1906668000@www.crestlinechamber.org
SUMMARY:Cosmic Bowling 🎳  🌌
DESCRIPTION:
URL:https://www.crestlinechamber.org/event/cosmic-bowling-%f0%9f%8e%b3-%f0%9f%8c%8c/2030-06-02/
LOCATION:RIM Bowling & Entertainment Center\, 23991 Lake Drive\, Crestline\, CA\, 92325
CATEGORIES:Community Event,Family Friendly
END:VEVENT
BEGIN:VEVENT
DTSTART;TZID=America/Los_Angeles:20300609T200000
DTEND;TZID=America/Los_Angeles:20300609T220000
DTSTAMP:20260424T163502
CREATED:20250619T190615Z
LAST-MODIFIED:20250619T190615Z
UID:10005762-1907265600-1907272800@www.crestlinechamber.org
SUMMARY:Cosmic Bowling 🎳  🌌
DESCRIPTION:
URL:https://www.crestlinechamber.org/event/cosmic-bowling-%f0%9f%8e%b3-%f0%9f%8c%8c/2030-06-09/
LOCATION:RIM Bowling & Entertainment Center\, 23991 Lake Drive\, Crestline\, CA\, 92325
CATEGORIES:Community Event,Family Friendly
END:VEVENT
BEGIN:VEVENT
DTSTART;TZID=America/Los_Angeles:20300616T200000
DTEND;TZID=America/Los_Angeles:20300616T220000
DTSTAMP:20260424T163502
CREATED:20250619T190615Z
LAST-MODIFIED:20250619T190615Z
UID:10005763-1907870400-1907877600@www.crestlinechamber.org
SUMMARY:Cosmic Bowling 🎳  🌌
DESCRIPTION:
URL:https://www.crestlinechamber.org/event/cosmic-bowling-%f0%9f%8e%b3-%f0%9f%8c%8c/2030-06-16/
LOCATION:RIM Bowling & Entertainment Center\, 23991 Lake Drive\, Crestline\, CA\, 92325
CATEGORIES:Community Event,Family Friendly
END:VEVENT
END:VCALENDAR