BEGIN:VCALENDAR
VERSION:2.0
PRODID:-//Crestline Chamber of Commerce - ECPv6.15.20//NONSGML v1.0//EN
CALSCALE:GREGORIAN
METHOD:PUBLISH
X-WR-CALNAME:Crestline Chamber of Commerce
X-ORIGINAL-URL:https://www.crestlinechamber.org
X-WR-CALDESC:Events for Crestline Chamber of Commerce
REFRESH-INTERVAL;VALUE=DURATION:PT1H
X-Robots-Tag:noindex
X-PUBLISHED-TTL:PT1H
BEGIN:VTIMEZONE
TZID:America/Los_Angeles
BEGIN:DAYLIGHT
TZOFFSETFROM:-0800
TZOFFSETTO:-0700
TZNAME:PDT
DTSTART:20260308T100000
END:DAYLIGHT
BEGIN:STANDARD
TZOFFSETFROM:-0700
TZOFFSETTO:-0800
TZNAME:PST
DTSTART:20261101T090000
END:STANDARD
BEGIN:DAYLIGHT
TZOFFSETFROM:-0800
TZOFFSETTO:-0700
TZNAME:PDT
DTSTART:20270314T100000
END:DAYLIGHT
BEGIN:STANDARD
TZOFFSETFROM:-0700
TZOFFSETTO:-0800
TZNAME:PST
DTSTART:20271107T090000
END:STANDARD
BEGIN:DAYLIGHT
TZOFFSETFROM:-0800
TZOFFSETTO:-0700
TZNAME:PDT
DTSTART:20280312T100000
END:DAYLIGHT
BEGIN:STANDARD
TZOFFSETFROM:-0700
TZOFFSETTO:-0800
TZNAME:PST
DTSTART:20281105T090000
END:STANDARD
BEGIN:DAYLIGHT
TZOFFSETFROM:-0800
TZOFFSETTO:-0700
TZNAME:PDT
DTSTART:20290311T100000
END:DAYLIGHT
BEGIN:STANDARD
TZOFFSETFROM:-0700
TZOFFSETTO:-0800
TZNAME:PST
DTSTART:20291104T090000
END:STANDARD
END:VTIMEZONE
BEGIN:VEVENT
DTSTART;TZID=America/Los_Angeles:20271205T200000
DTEND;TZID=America/Los_Angeles:20271205T220000
DTSTAMP:20260424T005225
CREATED:20250619T190615Z
LAST-MODIFIED:20250619T190615Z
UID:10005631-1828036800-1828044000@www.crestlinechamber.org
SUMMARY:Cosmic Bowling 🎳  🌌
DESCRIPTION:
URL:https://www.crestlinechamber.org/event/cosmic-bowling-%f0%9f%8e%b3-%f0%9f%8c%8c/2027-12-05/
LOCATION:RIM Bowling & Entertainment Center\, 23991 Lake Drive\, Crestline\, CA\, 92325
CATEGORIES:Community Event,Family Friendly
END:VEVENT
BEGIN:VEVENT
DTSTART;TZID=America/Los_Angeles:20271212T200000
DTEND;TZID=America/Los_Angeles:20271212T220000
DTSTAMP:20260424T005225
CREATED:20250619T190615Z
LAST-MODIFIED:20250619T190615Z
UID:10005632-1828641600-1828648800@www.crestlinechamber.org
SUMMARY:Cosmic Bowling 🎳  🌌
DESCRIPTION:
URL:https://www.crestlinechamber.org/event/cosmic-bowling-%f0%9f%8e%b3-%f0%9f%8c%8c/2027-12-12/
LOCATION:RIM Bowling & Entertainment Center\, 23991 Lake Drive\, Crestline\, CA\, 92325
CATEGORIES:Community Event,Family Friendly
END:VEVENT
BEGIN:VEVENT
DTSTART;TZID=America/Los_Angeles:20271219T200000
DTEND;TZID=America/Los_Angeles:20271219T220000
DTSTAMP:20260424T005225
CREATED:20250619T190615Z
LAST-MODIFIED:20250619T190615Z
UID:10005633-1829246400-1829253600@www.crestlinechamber.org
SUMMARY:Cosmic Bowling 🎳  🌌
DESCRIPTION:
URL:https://www.crestlinechamber.org/event/cosmic-bowling-%f0%9f%8e%b3-%f0%9f%8c%8c/2027-12-19/
LOCATION:RIM Bowling & Entertainment Center\, 23991 Lake Drive\, Crestline\, CA\, 92325
CATEGORIES:Community Event,Family Friendly
END:VEVENT
BEGIN:VEVENT
DTSTART;TZID=America/Los_Angeles:20271226T200000
DTEND;TZID=America/Los_Angeles:20271226T220000
DTSTAMP:20260424T005225
CREATED:20250619T190615Z
LAST-MODIFIED:20250619T190615Z
UID:10005634-1829851200-1829858400@www.crestlinechamber.org
SUMMARY:Cosmic Bowling 🎳  🌌
DESCRIPTION:
URL:https://www.crestlinechamber.org/event/cosmic-bowling-%f0%9f%8e%b3-%f0%9f%8c%8c/2027-12-26/
LOCATION:RIM Bowling & Entertainment Center\, 23991 Lake Drive\, Crestline\, CA\, 92325
CATEGORIES:Community Event,Family Friendly
END:VEVENT
BEGIN:VEVENT
DTSTART;TZID=America/Los_Angeles:20280102T200000
DTEND;TZID=America/Los_Angeles:20280102T220000
DTSTAMP:20260424T005225
CREATED:20250619T190615Z
LAST-MODIFIED:20250619T190615Z
UID:10005635-1830456000-1830463200@www.crestlinechamber.org
SUMMARY:Cosmic Bowling 🎳  🌌
DESCRIPTION:
URL:https://www.crestlinechamber.org/event/cosmic-bowling-%f0%9f%8e%b3-%f0%9f%8c%8c/2028-01-02/
LOCATION:RIM Bowling & Entertainment Center\, 23991 Lake Drive\, Crestline\, CA\, 92325
CATEGORIES:Community Event,Family Friendly
END:VEVENT
BEGIN:VEVENT
DTSTART;TZID=America/Los_Angeles:20280109T200000
DTEND;TZID=America/Los_Angeles:20280109T220000
DTSTAMP:20260424T005225
CREATED:20250619T190615Z
LAST-MODIFIED:20250619T190615Z
UID:10005636-1831060800-1831068000@www.crestlinechamber.org
SUMMARY:Cosmic Bowling 🎳  🌌
DESCRIPTION:
URL:https://www.crestlinechamber.org/event/cosmic-bowling-%f0%9f%8e%b3-%f0%9f%8c%8c/2028-01-09/
LOCATION:RIM Bowling & Entertainment Center\, 23991 Lake Drive\, Crestline\, CA\, 92325
CATEGORIES:Community Event,Family Friendly
END:VEVENT
BEGIN:VEVENT
DTSTART;TZID=America/Los_Angeles:20280116T200000
DTEND;TZID=America/Los_Angeles:20280116T220000
DTSTAMP:20260424T005225
CREATED:20250619T190615Z
LAST-MODIFIED:20250619T190615Z
UID:10005637-1831665600-1831672800@www.crestlinechamber.org
SUMMARY:Cosmic Bowling 🎳  🌌
DESCRIPTION:
URL:https://www.crestlinechamber.org/event/cosmic-bowling-%f0%9f%8e%b3-%f0%9f%8c%8c/2028-01-16/
LOCATION:RIM Bowling & Entertainment Center\, 23991 Lake Drive\, Crestline\, CA\, 92325
CATEGORIES:Community Event,Family Friendly
END:VEVENT
BEGIN:VEVENT
DTSTART;TZID=America/Los_Angeles:20280123T200000
DTEND;TZID=America/Los_Angeles:20280123T220000
DTSTAMP:20260424T005225
CREATED:20250619T190615Z
LAST-MODIFIED:20250619T190615Z
UID:10005638-1832270400-1832277600@www.crestlinechamber.org
SUMMARY:Cosmic Bowling 🎳  🌌
DESCRIPTION:
URL:https://www.crestlinechamber.org/event/cosmic-bowling-%f0%9f%8e%b3-%f0%9f%8c%8c/2028-01-23/
LOCATION:RIM Bowling & Entertainment Center\, 23991 Lake Drive\, Crestline\, CA\, 92325
CATEGORIES:Community Event,Family Friendly
END:VEVENT
BEGIN:VEVENT
DTSTART;TZID=America/Los_Angeles:20280130T200000
DTEND;TZID=America/Los_Angeles:20280130T220000
DTSTAMP:20260424T005225
CREATED:20250619T190615Z
LAST-MODIFIED:20250619T190615Z
UID:10005639-1832875200-1832882400@www.crestlinechamber.org
SUMMARY:Cosmic Bowling 🎳  🌌
DESCRIPTION:
URL:https://www.crestlinechamber.org/event/cosmic-bowling-%f0%9f%8e%b3-%f0%9f%8c%8c/2028-01-30/
LOCATION:RIM Bowling & Entertainment Center\, 23991 Lake Drive\, Crestline\, CA\, 92325
CATEGORIES:Community Event,Family Friendly
END:VEVENT
BEGIN:VEVENT
DTSTART;TZID=America/Los_Angeles:20280206T200000
DTEND;TZID=America/Los_Angeles:20280206T220000
DTSTAMP:20260424T005225
CREATED:20250619T190615Z
LAST-MODIFIED:20250619T190615Z
UID:10005640-1833480000-1833487200@www.crestlinechamber.org
SUMMARY:Cosmic Bowling 🎳  🌌
DESCRIPTION:
URL:https://www.crestlinechamber.org/event/cosmic-bowling-%f0%9f%8e%b3-%f0%9f%8c%8c/2028-02-06/
LOCATION:RIM Bowling & Entertainment Center\, 23991 Lake Drive\, Crestline\, CA\, 92325
CATEGORIES:Community Event,Family Friendly
END:VEVENT
BEGIN:VEVENT
DTSTART;TZID=America/Los_Angeles:20280213T200000
DTEND;TZID=America/Los_Angeles:20280213T220000
DTSTAMP:20260424T005225
CREATED:20250619T190615Z
LAST-MODIFIED:20250619T190615Z
UID:10005641-1834084800-1834092000@www.crestlinechamber.org
SUMMARY:Cosmic Bowling 🎳  🌌
DESCRIPTION:
URL:https://www.crestlinechamber.org/event/cosmic-bowling-%f0%9f%8e%b3-%f0%9f%8c%8c/2028-02-13/
LOCATION:RIM Bowling & Entertainment Center\, 23991 Lake Drive\, Crestline\, CA\, 92325
CATEGORIES:Community Event,Family Friendly
END:VEVENT
BEGIN:VEVENT
DTSTART;TZID=America/Los_Angeles:20280220T200000
DTEND;TZID=America/Los_Angeles:20280220T220000
DTSTAMP:20260424T005225
CREATED:20250619T190615Z
LAST-MODIFIED:20250619T190615Z
UID:10005642-1834689600-1834696800@www.crestlinechamber.org
SUMMARY:Cosmic Bowling 🎳  🌌
DESCRIPTION:
URL:https://www.crestlinechamber.org/event/cosmic-bowling-%f0%9f%8e%b3-%f0%9f%8c%8c/2028-02-20/
LOCATION:RIM Bowling & Entertainment Center\, 23991 Lake Drive\, Crestline\, CA\, 92325
CATEGORIES:Community Event,Family Friendly
END:VEVENT
BEGIN:VEVENT
DTSTART;TZID=America/Los_Angeles:20280227T200000
DTEND;TZID=America/Los_Angeles:20280227T220000
DTSTAMP:20260424T005225
CREATED:20250619T190615Z
LAST-MODIFIED:20250619T190615Z
UID:10005643-1835294400-1835301600@www.crestlinechamber.org
SUMMARY:Cosmic Bowling 🎳  🌌
DESCRIPTION:
URL:https://www.crestlinechamber.org/event/cosmic-bowling-%f0%9f%8e%b3-%f0%9f%8c%8c/2028-02-27/
LOCATION:RIM Bowling & Entertainment Center\, 23991 Lake Drive\, Crestline\, CA\, 92325
CATEGORIES:Community Event,Family Friendly
END:VEVENT
BEGIN:VEVENT
DTSTART;TZID=America/Los_Angeles:20280305T200000
DTEND;TZID=America/Los_Angeles:20280305T220000
DTSTAMP:20260424T005225
CREATED:20250619T190615Z
LAST-MODIFIED:20250619T190615Z
UID:10005644-1835899200-1835906400@www.crestlinechamber.org
SUMMARY:Cosmic Bowling 🎳  🌌
DESCRIPTION:
URL:https://www.crestlinechamber.org/event/cosmic-bowling-%f0%9f%8e%b3-%f0%9f%8c%8c/2028-03-05/
LOCATION:RIM Bowling & Entertainment Center\, 23991 Lake Drive\, Crestline\, CA\, 92325
CATEGORIES:Community Event,Family Friendly
END:VEVENT
BEGIN:VEVENT
DTSTART;TZID=America/Los_Angeles:20280312T200000
DTEND;TZID=America/Los_Angeles:20280312T220000
DTSTAMP:20260424T005225
CREATED:20250619T190615Z
LAST-MODIFIED:20250619T190615Z
UID:10005645-1836504000-1836511200@www.crestlinechamber.org
SUMMARY:Cosmic Bowling 🎳  🌌
DESCRIPTION:
URL:https://www.crestlinechamber.org/event/cosmic-bowling-%f0%9f%8e%b3-%f0%9f%8c%8c/2028-03-12/
LOCATION:RIM Bowling & Entertainment Center\, 23991 Lake Drive\, Crestline\, CA\, 92325
CATEGORIES:Community Event,Family Friendly
END:VEVENT
BEGIN:VEVENT
DTSTART;TZID=America/Los_Angeles:20280319T200000
DTEND;TZID=America/Los_Angeles:20280319T220000
DTSTAMP:20260424T005225
CREATED:20250619T190615Z
LAST-MODIFIED:20250619T190615Z
UID:10005646-1837108800-1837116000@www.crestlinechamber.org
SUMMARY:Cosmic Bowling 🎳  🌌
DESCRIPTION:
URL:https://www.crestlinechamber.org/event/cosmic-bowling-%f0%9f%8e%b3-%f0%9f%8c%8c/2028-03-19/
LOCATION:RIM Bowling & Entertainment Center\, 23991 Lake Drive\, Crestline\, CA\, 92325
CATEGORIES:Community Event,Family Friendly
END:VEVENT
BEGIN:VEVENT
DTSTART;TZID=America/Los_Angeles:20280326T200000
DTEND;TZID=America/Los_Angeles:20280326T220000
DTSTAMP:20260424T005225
CREATED:20250619T190615Z
LAST-MODIFIED:20250619T190615Z
UID:10005647-1837713600-1837720800@www.crestlinechamber.org
SUMMARY:Cosmic Bowling 🎳  🌌
DESCRIPTION:
URL:https://www.crestlinechamber.org/event/cosmic-bowling-%f0%9f%8e%b3-%f0%9f%8c%8c/2028-03-26/
LOCATION:RIM Bowling & Entertainment Center\, 23991 Lake Drive\, Crestline\, CA\, 92325
CATEGORIES:Community Event,Family Friendly
END:VEVENT
BEGIN:VEVENT
DTSTART;TZID=America/Los_Angeles:20280402T200000
DTEND;TZID=America/Los_Angeles:20280402T220000
DTSTAMP:20260424T005225
CREATED:20250619T190615Z
LAST-MODIFIED:20250619T190615Z
UID:10005648-1838318400-1838325600@www.crestlinechamber.org
SUMMARY:Cosmic Bowling 🎳  🌌
DESCRIPTION:
URL:https://www.crestlinechamber.org/event/cosmic-bowling-%f0%9f%8e%b3-%f0%9f%8c%8c/2028-04-02/
LOCATION:RIM Bowling & Entertainment Center\, 23991 Lake Drive\, Crestline\, CA\, 92325
CATEGORIES:Community Event,Family Friendly
END:VEVENT
BEGIN:VEVENT
DTSTART;TZID=America/Los_Angeles:20280409T200000
DTEND;TZID=America/Los_Angeles:20280409T220000
DTSTAMP:20260424T005225
CREATED:20250619T190615Z
LAST-MODIFIED:20250619T190615Z
UID:10005649-1838923200-1838930400@www.crestlinechamber.org
SUMMARY:Cosmic Bowling 🎳  🌌
DESCRIPTION:
URL:https://www.crestlinechamber.org/event/cosmic-bowling-%f0%9f%8e%b3-%f0%9f%8c%8c/2028-04-09/
LOCATION:RIM Bowling & Entertainment Center\, 23991 Lake Drive\, Crestline\, CA\, 92325
CATEGORIES:Community Event,Family Friendly
END:VEVENT
BEGIN:VEVENT
DTSTART;TZID=America/Los_Angeles:20280416T200000
DTEND;TZID=America/Los_Angeles:20280416T220000
DTSTAMP:20260424T005225
CREATED:20250619T190615Z
LAST-MODIFIED:20250619T190615Z
UID:10005650-1839528000-1839535200@www.crestlinechamber.org
SUMMARY:Cosmic Bowling 🎳  🌌
DESCRIPTION:
URL:https://www.crestlinechamber.org/event/cosmic-bowling-%f0%9f%8e%b3-%f0%9f%8c%8c/2028-04-16/
LOCATION:RIM Bowling & Entertainment Center\, 23991 Lake Drive\, Crestline\, CA\, 92325
CATEGORIES:Community Event,Family Friendly
END:VEVENT
BEGIN:VEVENT
DTSTART;TZID=America/Los_Angeles:20280423T200000
DTEND;TZID=America/Los_Angeles:20280423T220000
DTSTAMP:20260424T005225
CREATED:20250619T190615Z
LAST-MODIFIED:20250619T190615Z
UID:10005651-1840132800-1840140000@www.crestlinechamber.org
SUMMARY:Cosmic Bowling 🎳  🌌
DESCRIPTION:
URL:https://www.crestlinechamber.org/event/cosmic-bowling-%f0%9f%8e%b3-%f0%9f%8c%8c/2028-04-23/
LOCATION:RIM Bowling & Entertainment Center\, 23991 Lake Drive\, Crestline\, CA\, 92325
CATEGORIES:Community Event,Family Friendly
END:VEVENT
BEGIN:VEVENT
DTSTART;TZID=America/Los_Angeles:20280430T200000
DTEND;TZID=America/Los_Angeles:20280430T220000
DTSTAMP:20260424T005225
CREATED:20250619T190615Z
LAST-MODIFIED:20250619T190615Z
UID:10005652-1840737600-1840744800@www.crestlinechamber.org
SUMMARY:Cosmic Bowling 🎳  🌌
DESCRIPTION:
URL:https://www.crestlinechamber.org/event/cosmic-bowling-%f0%9f%8e%b3-%f0%9f%8c%8c/2028-04-30/
LOCATION:RIM Bowling & Entertainment Center\, 23991 Lake Drive\, Crestline\, CA\, 92325
CATEGORIES:Community Event,Family Friendly
END:VEVENT
BEGIN:VEVENT
DTSTART;TZID=America/Los_Angeles:20280507T200000
DTEND;TZID=America/Los_Angeles:20280507T220000
DTSTAMP:20260424T005225
CREATED:20250619T190615Z
LAST-MODIFIED:20250619T190615Z
UID:10005653-1841342400-1841349600@www.crestlinechamber.org
SUMMARY:Cosmic Bowling 🎳  🌌
DESCRIPTION:
URL:https://www.crestlinechamber.org/event/cosmic-bowling-%f0%9f%8e%b3-%f0%9f%8c%8c/2028-05-07/
LOCATION:RIM Bowling & Entertainment Center\, 23991 Lake Drive\, Crestline\, CA\, 92325
CATEGORIES:Community Event,Family Friendly
END:VEVENT
BEGIN:VEVENT
DTSTART;TZID=America/Los_Angeles:20280514T200000
DTEND;TZID=America/Los_Angeles:20280514T220000
DTSTAMP:20260424T005225
CREATED:20250619T190615Z
LAST-MODIFIED:20250619T190615Z
UID:10005654-1841947200-1841954400@www.crestlinechamber.org
SUMMARY:Cosmic Bowling 🎳  🌌
DESCRIPTION:
URL:https://www.crestlinechamber.org/event/cosmic-bowling-%f0%9f%8e%b3-%f0%9f%8c%8c/2028-05-14/
LOCATION:RIM Bowling & Entertainment Center\, 23991 Lake Drive\, Crestline\, CA\, 92325
CATEGORIES:Community Event,Family Friendly
END:VEVENT
BEGIN:VEVENT
DTSTART;TZID=America/Los_Angeles:20280521T200000
DTEND;TZID=America/Los_Angeles:20280521T220000
DTSTAMP:20260424T005225
CREATED:20250619T190615Z
LAST-MODIFIED:20250619T190615Z
UID:10005655-1842552000-1842559200@www.crestlinechamber.org
SUMMARY:Cosmic Bowling 🎳  🌌
DESCRIPTION:
URL:https://www.crestlinechamber.org/event/cosmic-bowling-%f0%9f%8e%b3-%f0%9f%8c%8c/2028-05-21/
LOCATION:RIM Bowling & Entertainment Center\, 23991 Lake Drive\, Crestline\, CA\, 92325
CATEGORIES:Community Event,Family Friendly
END:VEVENT
BEGIN:VEVENT
DTSTART;TZID=America/Los_Angeles:20280528T200000
DTEND;TZID=America/Los_Angeles:20280528T220000
DTSTAMP:20260424T005225
CREATED:20250619T190615Z
LAST-MODIFIED:20250619T190615Z
UID:10005656-1843156800-1843164000@www.crestlinechamber.org
SUMMARY:Cosmic Bowling 🎳  🌌
DESCRIPTION:
URL:https://www.crestlinechamber.org/event/cosmic-bowling-%f0%9f%8e%b3-%f0%9f%8c%8c/2028-05-28/
LOCATION:RIM Bowling & Entertainment Center\, 23991 Lake Drive\, Crestline\, CA\, 92325
CATEGORIES:Community Event,Family Friendly
END:VEVENT
BEGIN:VEVENT
DTSTART;TZID=America/Los_Angeles:20280604T200000
DTEND;TZID=America/Los_Angeles:20280604T220000
DTSTAMP:20260424T005225
CREATED:20250619T190615Z
LAST-MODIFIED:20250619T190615Z
UID:10005657-1843761600-1843768800@www.crestlinechamber.org
SUMMARY:Cosmic Bowling 🎳  🌌
DESCRIPTION:
URL:https://www.crestlinechamber.org/event/cosmic-bowling-%f0%9f%8e%b3-%f0%9f%8c%8c/2028-06-04/
LOCATION:RIM Bowling & Entertainment Center\, 23991 Lake Drive\, Crestline\, CA\, 92325
CATEGORIES:Community Event,Family Friendly
END:VEVENT
BEGIN:VEVENT
DTSTART;TZID=America/Los_Angeles:20280611T200000
DTEND;TZID=America/Los_Angeles:20280611T220000
DTSTAMP:20260424T005225
CREATED:20250619T190615Z
LAST-MODIFIED:20250619T190615Z
UID:10005658-1844366400-1844373600@www.crestlinechamber.org
SUMMARY:Cosmic Bowling 🎳  🌌
DESCRIPTION:
URL:https://www.crestlinechamber.org/event/cosmic-bowling-%f0%9f%8e%b3-%f0%9f%8c%8c/2028-06-11/
LOCATION:RIM Bowling & Entertainment Center\, 23991 Lake Drive\, Crestline\, CA\, 92325
CATEGORIES:Community Event,Family Friendly
END:VEVENT
BEGIN:VEVENT
DTSTART;TZID=America/Los_Angeles:20280618T200000
DTEND;TZID=America/Los_Angeles:20280618T220000
DTSTAMP:20260424T005225
CREATED:20250619T190615Z
LAST-MODIFIED:20250619T190615Z
UID:10005659-1844971200-1844978400@www.crestlinechamber.org
SUMMARY:Cosmic Bowling 🎳  🌌
DESCRIPTION:
URL:https://www.crestlinechamber.org/event/cosmic-bowling-%f0%9f%8e%b3-%f0%9f%8c%8c/2028-06-18/
LOCATION:RIM Bowling & Entertainment Center\, 23991 Lake Drive\, Crestline\, CA\, 92325
CATEGORIES:Community Event,Family Friendly
END:VEVENT
BEGIN:VEVENT
DTSTART;TZID=America/Los_Angeles:20280625T200000
DTEND;TZID=America/Los_Angeles:20280625T220000
DTSTAMP:20260424T005225
CREATED:20250619T190615Z
LAST-MODIFIED:20250619T190615Z
UID:10005660-1845576000-1845583200@www.crestlinechamber.org
SUMMARY:Cosmic Bowling 🎳  🌌
DESCRIPTION:
URL:https://www.crestlinechamber.org/event/cosmic-bowling-%f0%9f%8e%b3-%f0%9f%8c%8c/2028-06-25/
LOCATION:RIM Bowling & Entertainment Center\, 23991 Lake Drive\, Crestline\, CA\, 92325
CATEGORIES:Community Event,Family Friendly
END:VEVENT
END:VCALENDAR