BEGIN:VCALENDAR
VERSION:2.0
PRODID:-//Crestline Chamber of Commerce - ECPv6.15.20//NONSGML v1.0//EN
CALSCALE:GREGORIAN
METHOD:PUBLISH
X-WR-CALNAME:Crestline Chamber of Commerce
X-ORIGINAL-URL:https://www.crestlinechamber.org
X-WR-CALDESC:Events for Crestline Chamber of Commerce
REFRESH-INTERVAL;VALUE=DURATION:PT1H
X-Robots-Tag:noindex
X-PUBLISHED-TTL:PT1H
BEGIN:VTIMEZONE
TZID:America/Los_Angeles
BEGIN:DAYLIGHT
TZOFFSETFROM:-0800
TZOFFSETTO:-0700
TZNAME:PDT
DTSTART:20250309T100000
END:DAYLIGHT
BEGIN:STANDARD
TZOFFSETFROM:-0700
TZOFFSETTO:-0800
TZNAME:PST
DTSTART:20251102T090000
END:STANDARD
BEGIN:DAYLIGHT
TZOFFSETFROM:-0800
TZOFFSETTO:-0700
TZNAME:PDT
DTSTART:20260308T100000
END:DAYLIGHT
BEGIN:STANDARD
TZOFFSETFROM:-0700
TZOFFSETTO:-0800
TZNAME:PST
DTSTART:20261101T090000
END:STANDARD
BEGIN:DAYLIGHT
TZOFFSETFROM:-0800
TZOFFSETTO:-0700
TZNAME:PDT
DTSTART:20270314T100000
END:DAYLIGHT
BEGIN:STANDARD
TZOFFSETFROM:-0700
TZOFFSETTO:-0800
TZNAME:PST
DTSTART:20271107T090000
END:STANDARD
END:VTIMEZONE
BEGIN:VEVENT
DTSTART;TZID=America/Los_Angeles:20260529T173000
DTEND;TZID=America/Los_Angeles:20260529T190000
DTSTAMP:20260423T164658
CREATED:20260421T154353Z
LAST-MODIFIED:20260421T154529Z
UID:10007574-1780075800-1780081200@www.crestlinechamber.org
SUMMARY:The 5th Annual Middle School Dance: Silent Disco
DESCRIPTION:Middle school students from the Rim Mountain Communities are invited to a Silent Disco on May 29\,  2026! FREE Admission! Hosted by the Rim Communities for Youth Coalition in partnership with RIMREC\, this high-energy\, music-filled event lets students dance with wireless headphones\, choose their favorite music channel\, and enjoy a safe\, supervised night of fun with friends. Don’t miss this unique opportunity to move\, connect\, and celebrate with your community! 🎧🕺💃
URL:https://www.crestlinechamber.org/event/the-5th-annual-middle-school-dance-silent-disco/
LOCATION:Hootman Community Center\, 2929 Running Springs School Rd\, Running springs\, CA\, 92382\, United States
ATTACH;FMTTYPE=image/png:https://www.crestlinechamber.org/wp-content/uploads/2026/04/Spring-Newsletter-2026-Page-7-2.png
END:VEVENT
END:VCALENDAR