BEGIN:VCALENDAR
VERSION:2.0
PRODID:-//Crestline Chamber of Commerce - ECPv6.15.20//NONSGML v1.0//EN
CALSCALE:GREGORIAN
METHOD:PUBLISH
X-ORIGINAL-URL:https://www.crestlinechamber.org
X-WR-CALDESC:Events for Crestline Chamber of Commerce
REFRESH-INTERVAL;VALUE=DURATION:PT1H
X-Robots-Tag:noindex
X-PUBLISHED-TTL:PT1H
BEGIN:VTIMEZONE
TZID:America/Los_Angeles
BEGIN:DAYLIGHT
TZOFFSETFROM:-0800
TZOFFSETTO:-0700
TZNAME:PDT
DTSTART:20210314T100000
END:DAYLIGHT
BEGIN:STANDARD
TZOFFSETFROM:-0700
TZOFFSETTO:-0800
TZNAME:PST
DTSTART:20211107T090000
END:STANDARD
BEGIN:DAYLIGHT
TZOFFSETFROM:-0800
TZOFFSETTO:-0700
TZNAME:PDT
DTSTART:20220313T100000
END:DAYLIGHT
BEGIN:STANDARD
TZOFFSETFROM:-0700
TZOFFSETTO:-0800
TZNAME:PST
DTSTART:20221106T090000
END:STANDARD
BEGIN:DAYLIGHT
TZOFFSETFROM:-0800
TZOFFSETTO:-0700
TZNAME:PDT
DTSTART:20230312T100000
END:DAYLIGHT
BEGIN:STANDARD
TZOFFSETFROM:-0700
TZOFFSETTO:-0800
TZNAME:PST
DTSTART:20231105T090000
END:STANDARD
BEGIN:DAYLIGHT
TZOFFSETFROM:-0800
TZOFFSETTO:-0700
TZNAME:PDT
DTSTART:20240310T100000
END:DAYLIGHT
BEGIN:STANDARD
TZOFFSETFROM:-0700
TZOFFSETTO:-0800
TZNAME:PST
DTSTART:20241103T090000
END:STANDARD
BEGIN:DAYLIGHT
TZOFFSETFROM:-0800
TZOFFSETTO:-0700
TZNAME:PDT
DTSTART:20250309T100000
END:DAYLIGHT
BEGIN:STANDARD
TZOFFSETFROM:-0700
TZOFFSETTO:-0800
TZNAME:PST
DTSTART:20251102T090000
END:STANDARD
BEGIN:DAYLIGHT
TZOFFSETFROM:-0800
TZOFFSETTO:-0700
TZNAME:PDT
DTSTART:20260308T100000
END:DAYLIGHT
BEGIN:STANDARD
TZOFFSETFROM:-0700
TZOFFSETTO:-0800
TZNAME:PST
DTSTART:20261101T090000
END:STANDARD
BEGIN:DAYLIGHT
TZOFFSETFROM:-0800
TZOFFSETTO:-0700
TZNAME:PDT
DTSTART:20270314T100000
END:DAYLIGHT
BEGIN:STANDARD
TZOFFSETFROM:-0700
TZOFFSETTO:-0800
TZNAME:PST
DTSTART:20271107T090000
END:STANDARD
END:VTIMEZONE
BEGIN:VEVENT
DTSTART;TZID=America/Los_Angeles:20260207T100000
DTEND;TZID=America/Los_Angeles:20260207T120000
DTSTAMP:20260423T193733
CREATED:20260131T171356Z
LAST-MODIFIED:20260131T171356Z
UID:10007394-1770458400-1770465600@www.crestlinechamber.org
SUMMARY:Lake Arrowhead Polar Bear Plunge
DESCRIPTION:Cheer on our brave Rim Ed Foundation jumpers as they dive into icy Lake Arrowhead to raise funds for local students! 🐻💦 \n💖 Support Our Jumpers: \nDonate tax-deductible gifts via QR code or check payable to Lake Arrowhead Rotary Foundation (Memo: Rim Ed + Jumper’s Name) \n🌟 PolaRotary Rules: \nNo wetsuits ❌ | No nudity ❌ | Complete immersion ✅ | Costumes encouraged 🎭 \nSplash\, cheer\, and show some love for our students! 💌❄️
URL:https://www.crestlinechamber.org/event/lake-arrowhead-polar-bear-plunge/
LOCATION:Lake Arrowhead Resort + Spa\, 27984 CA-189\, Lake Arrowhead\, CA\, 92352\, United States
CATEGORIES:Community Event,Family Friendly,Fundraiser
GEO:34.2518958;-117.1921857
X-APPLE-STRUCTURED-LOCATION;VALUE=URI;X-ADDRESS=Lake Arrowhead Resort + Spa 27984 CA-189 Lake Arrowhead CA 92352 United States;X-APPLE-RADIUS=500;X-TITLE=27984 CA-189:geo:-117.1921857,34.2518958
END:VEVENT
BEGIN:VEVENT
DTSTART;TZID=America/Los_Angeles:20230521T160000
DTEND;TZID=America/Los_Angeles:20230521T190000
DTSTAMP:20260423T193733
CREATED:20230426T234938Z
LAST-MODIFIED:20230426T234938Z
UID:10000237-1684684800-1684695600@www.crestlinechamber.org
SUMMARY:Luau at the Lake Rim Gala
DESCRIPTION:We look forward to seeing you on May 21st\, 2023 for our Spring Gala. \n$70 PP includes Polynesian buffet and Teavanui Polynesian Dancers \nWhere: UCLA Conference Center\, Lakeview Room\, 850 Willow Creek Rd\, Lake Arrowhead\, CA 92352 \nWhen: Registration and Cocktails begin at 4:00 P.M. with the Buffet opening at 5:00 P.M. \nThe program will follow and will be wrapped up with Polynesian dancers! \nAttire: Hawaiian Attire Encouraged
URL:https://www.crestlinechamber.org/event/luau-at-the-lake-rim-gala/
LOCATION:UCLA Conference Center\, 850 Willow Creek RD\, Lake Arrowhead\, CA\, 92352
END:VEVENT
BEGIN:VEVENT
DTSTART;TZID=America/Los_Angeles:20230425T080000
DTEND;TZID=America/Los_Angeles:20230425T170000
DTSTAMP:20260423T193733
CREATED:20230426T011508Z
LAST-MODIFIED:20230426T012456Z
UID:10000236-1682409600-1682442000@www.crestlinechamber.org
SUMMARY:Luau at the Lake RIM ED Gala
DESCRIPTION:We look forward to seeing you on May 21st\, 2023 for our Spring Gala.  \n$70 PP includes Polynesian buffet and Teavanui Polynesian Dancers \nWhere: UCLA Conference Center\, Lakeview Room\, 850 Willow Creek Rd\, Lake Arrowhead\, CA 92352   \nWhen: Registration and Cocktails begin at 4:00 P.M. with the Buffet opening at 5:00 P.M.  \nThe program will follow and will be wrapped up with Polynesian dancers! \nAttire: Hawaiian Attire Encouraged
URL:https://www.crestlinechamber.org/event/luau-at-the-lake-rim-ed-gala/
LOCATION:UCLA Conference Center\, 850 Willow Creek RD\, Lake Arrowhead\, CA\, 92352
CATEGORIES:Family Friendly,Live Music
END:VEVENT
BEGIN:VEVENT
DTSTART;TZID=America/Los_Angeles:20220515T140000
DTEND;TZID=America/Los_Angeles:20220515T180000
DTSTAMP:20260423T193733
CREATED:20220518T164259Z
LAST-MODIFIED:20220518T164259Z
UID:10000024-1652623200-1652637600@www.crestlinechamber.org
SUMMARY:Round Up on the Rim
DESCRIPTION:The Rim of the World Educational Foundation\, has planned a foot-stomping good time to take place May 15th at the Lake Arrowhead Resort. The last time we have been able to present our major annual fundraiser was 2019; so now we are back this year to celebrate. But it is really about the Rim USD Students and supporting the programs that the foundation supports\, AVID\, ROP/CTE and individual school grants; every Rim student is touch by these programs. To purchase tickets or donate go to: https://bit.ly/3velfCY \nPlated Country Western BBQ: Garden Salad\, Fresh Sliced Watermelon\, Grilled Bone in Chicken with molasses BBQ sauce\, Smoked Brisket\, Corn on the Cob\, Green and Yellow Squash\, Corn Bread with Honey Butter\, Bread Pudding \nJoin Steve Valentine on the dance floor for the Cowboy Cha Cha! \nTicket Price: $60\nPurchase tickets at rimedfoundation.org \nAll proceeds from this event will go directly to educational programs in the Rim of the World Unified School District to support Partnership Grants for all Rim USD Schools\, Technology\, Regional Occupational Program\, and the AVID Program.
URL:https://www.crestlinechamber.org/event/round-up-on-the-rim/
LOCATION:Lake Arrowhead Resort + Spa\, 27984 CA-189\, Lake Arrowhead\, CA\, 92352\, United States
GEO:34.2518958;-117.1921857
X-APPLE-STRUCTURED-LOCATION;VALUE=URI;X-ADDRESS=Lake Arrowhead Resort + Spa 27984 CA-189 Lake Arrowhead CA 92352 United States;X-APPLE-RADIUS=500;X-TITLE=27984 CA-189:geo:-117.1921857,34.2518958
END:VEVENT
END:VCALENDAR