BEGIN:VCALENDAR
VERSION:2.0
PRODID:-//Crestline Chamber of Commerce - ECPv6.15.20//NONSGML v1.0//EN
CALSCALE:GREGORIAN
METHOD:PUBLISH
X-ORIGINAL-URL:https://www.crestlinechamber.org
X-WR-CALDESC:Events for Crestline Chamber of Commerce
REFRESH-INTERVAL;VALUE=DURATION:PT1H
X-Robots-Tag:noindex
X-PUBLISHED-TTL:PT1H
BEGIN:VTIMEZONE
TZID:America/Los_Angeles
BEGIN:DAYLIGHT
TZOFFSETFROM:-0800
TZOFFSETTO:-0700
TZNAME:PDT
DTSTART:20240310T100000
END:DAYLIGHT
BEGIN:STANDARD
TZOFFSETFROM:-0700
TZOFFSETTO:-0800
TZNAME:PST
DTSTART:20241103T090000
END:STANDARD
BEGIN:DAYLIGHT
TZOFFSETFROM:-0800
TZOFFSETTO:-0700
TZNAME:PDT
DTSTART:20250309T100000
END:DAYLIGHT
BEGIN:STANDARD
TZOFFSETFROM:-0700
TZOFFSETTO:-0800
TZNAME:PST
DTSTART:20251102T090000
END:STANDARD
BEGIN:DAYLIGHT
TZOFFSETFROM:-0800
TZOFFSETTO:-0700
TZNAME:PDT
DTSTART:20260308T100000
END:DAYLIGHT
BEGIN:STANDARD
TZOFFSETFROM:-0700
TZOFFSETTO:-0800
TZNAME:PST
DTSTART:20261101T090000
END:STANDARD
END:VTIMEZONE
BEGIN:VEVENT
DTSTART;TZID=America/Los_Angeles:20250810T093000
DTEND;TZID=America/Los_Angeles:20250810T113000
DTSTAMP:20260424T011049
CREATED:20250619T180005Z
LAST-MODIFIED:20250619T180005Z
UID:10005478-1754818200-1754825400@www.crestlinechamber.org
SUMMARY:Rim Nordic: 2025 XC Mountain Bike Race Series 🚲 🏁
DESCRIPTION:
URL:https://www.crestlinechamber.org/event/rim-nordic-2025-xc-mountain-bike-race-series-%f0%9f%9a%b2-%f0%9f%8f%81/2025-08-10/
LOCATION:Rim Nordic\, 35100 Hwy 18\, Running springs\, CA\, 92382\, United States
CATEGORIES:Community Event,Family Friendly
END:VEVENT
BEGIN:VEVENT
DTSTART;TZID=America/Los_Angeles:20250727T093000
DTEND;TZID=America/Los_Angeles:20250727T113000
DTSTAMP:20260424T011049
CREATED:20250619T180005Z
LAST-MODIFIED:20250619T180005Z
UID:10005477-1753608600-1753615800@www.crestlinechamber.org
SUMMARY:Rim Nordic: 2025 XC Mountain Bike Race Series 🚲 🏁
DESCRIPTION:
URL:https://www.crestlinechamber.org/event/rim-nordic-2025-xc-mountain-bike-race-series-%f0%9f%9a%b2-%f0%9f%8f%81/2025-07-27/
LOCATION:Rim Nordic\, 35100 Hwy 18\, Running springs\, CA\, 92382\, United States
CATEGORIES:Community Event,Family Friendly
END:VEVENT
BEGIN:VEVENT
DTSTART;TZID=America/Los_Angeles:20250713T093000
DTEND;TZID=America/Los_Angeles:20250713T113000
DTSTAMP:20260424T011049
CREATED:20250619T180005Z
LAST-MODIFIED:20250619T180005Z
UID:10005476-1752399000-1752406200@www.crestlinechamber.org
SUMMARY:Rim Nordic: 2025 XC Mountain Bike Race Series 🚲 🏁
DESCRIPTION:
URL:https://www.crestlinechamber.org/event/rim-nordic-2025-xc-mountain-bike-race-series-%f0%9f%9a%b2-%f0%9f%8f%81/2025-07-13/
LOCATION:Rim Nordic\, 35100 Hwy 18\, Running springs\, CA\, 92382\, United States
CATEGORIES:Community Event,Family Friendly
END:VEVENT
END:VCALENDAR