BEGIN:VCALENDAR
VERSION:2.0
PRODID:-//Crestline Chamber of Commerce - ECPv6.15.20//NONSGML v1.0//EN
CALSCALE:GREGORIAN
METHOD:PUBLISH
X-ORIGINAL-URL:https://www.crestlinechamber.org
X-WR-CALDESC:Events for Crestline Chamber of Commerce
REFRESH-INTERVAL;VALUE=DURATION:PT1H
X-Robots-Tag:noindex
X-PUBLISHED-TTL:PT1H
BEGIN:VTIMEZONE
TZID:America/Los_Angeles
BEGIN:DAYLIGHT
TZOFFSETFROM:-0800
TZOFFSETTO:-0700
TZNAME:PDT
DTSTART:20210314T100000
END:DAYLIGHT
BEGIN:STANDARD
TZOFFSETFROM:-0700
TZOFFSETTO:-0800
TZNAME:PST
DTSTART:20211107T090000
END:STANDARD
BEGIN:DAYLIGHT
TZOFFSETFROM:-0800
TZOFFSETTO:-0700
TZNAME:PDT
DTSTART:20220313T100000
END:DAYLIGHT
BEGIN:STANDARD
TZOFFSETFROM:-0700
TZOFFSETTO:-0800
TZNAME:PST
DTSTART:20221106T090000
END:STANDARD
BEGIN:DAYLIGHT
TZOFFSETFROM:-0800
TZOFFSETTO:-0700
TZNAME:PDT
DTSTART:20230312T100000
END:DAYLIGHT
BEGIN:STANDARD
TZOFFSETFROM:-0700
TZOFFSETTO:-0800
TZNAME:PST
DTSTART:20231105T090000
END:STANDARD
END:VTIMEZONE
BEGIN:VEVENT
DTSTART;TZID=America/Los_Angeles:20220324T110000
DTEND;TZID=America/Los_Angeles:20220324T140000
DTSTAMP:20260424T023648
CREATED:20220314T015156Z
LAST-MODIFIED:20220314T021827Z
UID:10000143-1648119600-1648130400@www.crestlinechamber.org
SUMMARY:Rim of the World Historical Society - Redlands Smiley Library & Lincoln Shrine Tour
DESCRIPTION:We have arranged with the Redlands\, A.K. Smiley Library a special tour for our group.\nThe history of the San Bernardino Mountains and the city of Redlands will always be linked due to the need for mountain water and lumber for the early citrus growers. On Thursday\, March 24th\, we are offering this opportunity to gather as a group to tour the historical A.K. Smiley Library and the Lincoln Memorial Shrine. We will meet at the library at 10:45 a.m.\, tour the Lincoln Memorial Shrine\, then the A.K. Smiley Library established in 1894. Both are amongst the most outstanding places in the Inland Empire and well worth the drive. After the tours\, we will walk two blocks into downtown Redlands for a group lunch at Martha Green’s\, The Eating Room. Tickets for the tour are $10\, the cost includes a donation to our host\, no member discount for this tour. The cost of lunch is on your own; we will order individually off the menu. Transportation is not provided; consider carpooling. Tickets online at https://mtnmuseum.org/product/redlands-smiley-library-lincoln-shrine-tour/\nQuestions\, call Marilyn Mays at (909) 485-1153.
URL:https://www.crestlinechamber.org/event/rim-of-the-world-historical-society-redlands-smiley-library-lincoln-shrine-tour/
ORGANIZER;CN="Rim of the World Historical Society":MAILTO:museum@mtnmuseum.org
END:VEVENT
END:VCALENDAR