BEGIN:VCALENDAR
VERSION:2.0
PRODID:-//Crestline Chamber of Commerce - ECPv6.15.20//NONSGML v1.0//EN
CALSCALE:GREGORIAN
METHOD:PUBLISH
X-ORIGINAL-URL:https://www.crestlinechamber.org
X-WR-CALDESC:Events for Crestline Chamber of Commerce
REFRESH-INTERVAL;VALUE=DURATION:PT1H
X-Robots-Tag:noindex
X-PUBLISHED-TTL:PT1H
BEGIN:VTIMEZONE
TZID:America/Los_Angeles
BEGIN:DAYLIGHT
TZOFFSETFROM:-0800
TZOFFSETTO:-0700
TZNAME:PDT
DTSTART:20220313T100000
END:DAYLIGHT
BEGIN:STANDARD
TZOFFSETFROM:-0700
TZOFFSETTO:-0800
TZNAME:PST
DTSTART:20221106T090000
END:STANDARD
BEGIN:DAYLIGHT
TZOFFSETFROM:-0800
TZOFFSETTO:-0700
TZNAME:PDT
DTSTART:20230312T100000
END:DAYLIGHT
BEGIN:STANDARD
TZOFFSETFROM:-0700
TZOFFSETTO:-0800
TZNAME:PST
DTSTART:20231105T090000
END:STANDARD
BEGIN:DAYLIGHT
TZOFFSETFROM:-0800
TZOFFSETTO:-0700
TZNAME:PDT
DTSTART:20240310T100000
END:DAYLIGHT
BEGIN:STANDARD
TZOFFSETFROM:-0700
TZOFFSETTO:-0800
TZNAME:PST
DTSTART:20241103T090000
END:STANDARD
END:VTIMEZONE
BEGIN:VEVENT
DTSTART;TZID=America/Los_Angeles:20230218T110000
DTEND;TZID=America/Los_Angeles:20230220T160000
DTSTAMP:20260423T233734
CREATED:20230128T195916Z
LAST-MODIFIED:20230128T195916Z
UID:10000212-1676718000-1676908800@www.crestlinechamber.org
SUMMARY:Presidents Day at the Museum
DESCRIPTION:The Mountain History Museum will be open for visitors for only one weekend in February; Presidents Day weekend from 11 a.m. to 4 p.m. There will be children’s activities and some of the new summer exhibits are being set up for visitors. See the regular exhibits as well including the movies made on the mountain in the theater\, sit in a replica Blue Jay Excursion boat and take a selfie\,  the general store and USFS maps of the forest and wildfires. Learn about the history of the towns and the lumbering industry.  All for FREE\, with free off-street parking; 27176 Peninsula Drive at the corner of Rhine Road in Lake Arrowhead.  Weather permitting.
URL:https://www.crestlinechamber.org/event/presidents-day-at-the-museum/2023-02-18/2/
LOCATION:Mountain History Museum\, 27176 Peninsula Drive\, Lake Arrowhead\, CA\, United States
CATEGORIES:Family Friendly
ORGANIZER;CN="Rim of the World Historical Society":MAILTO:museum@mtnmuseum.org
GEO:34.2616265;-117.2104016
X-APPLE-STRUCTURED-LOCATION;VALUE=URI;X-ADDRESS=Mountain History Museum 27176 Peninsula Drive Lake Arrowhead CA United States;X-APPLE-RADIUS=500;X-TITLE=27176 Peninsula Drive:geo:-117.2104016,34.2616265
END:VEVENT
BEGIN:VEVENT
DTSTART;TZID=America/Los_Angeles:20230218T080000
DTEND;TZID=America/Los_Angeles:20230218T170000
DTSTAMP:20260423T233734
CREATED:20230128T195916Z
LAST-MODIFIED:20230128T195916Z
UID:10000211-1676707200-1676739600@www.crestlinechamber.org
SUMMARY:Presidents Day at the Museum
DESCRIPTION:The Mountain History Museum will be open for visitors for only one weekend in February; Presidents Day weekend from 11 a.m. to 4 p.m. There will be children’s activities and some of the new summer exhibits are being set up for visitors. See the regular exhibits as well including the movies made on the mountain in the theater\, sit in a replica Blue Jay Excursion boat and take a selfie\,  the general store and USFS maps of the forest and wildfires. Learn about the history of the towns and the lumbering industry.  All for FREE\, with free off-street parking; 27176 Peninsula Drive at the corner of Rhine Road in Lake Arrowhead.  Weather permitting.
URL:https://www.crestlinechamber.org/event/presidents-day-at-the-museum/2023-02-18/1/
LOCATION:Mountain History Museum\, 27176 Peninsula Drive\, Lake Arrowhead\, CA\, United States
CATEGORIES:Family Friendly
ORGANIZER;CN="Rim of the World Historical Society":MAILTO:museum@mtnmuseum.org
GEO:34.2616265;-117.2104016
X-APPLE-STRUCTURED-LOCATION;VALUE=URI;X-ADDRESS=Mountain History Museum 27176 Peninsula Drive Lake Arrowhead CA United States;X-APPLE-RADIUS=500;X-TITLE=27176 Peninsula Drive:geo:-117.2104016,34.2616265
END:VEVENT
END:VCALENDAR