BEGIN:VCALENDAR
VERSION:2.0
PRODID:-//Crestline Chamber of Commerce - ECPv6.15.20//NONSGML v1.0//EN
CALSCALE:GREGORIAN
METHOD:PUBLISH
X-ORIGINAL-URL:https://www.crestlinechamber.org
X-WR-CALDESC:Events for Crestline Chamber of Commerce
REFRESH-INTERVAL;VALUE=DURATION:PT1H
X-Robots-Tag:noindex
X-PUBLISHED-TTL:PT1H
BEGIN:VTIMEZONE
TZID:America/Los_Angeles
BEGIN:DAYLIGHT
TZOFFSETFROM:-0800
TZOFFSETTO:-0700
TZNAME:PDT
DTSTART:20240310T100000
END:DAYLIGHT
BEGIN:STANDARD
TZOFFSETFROM:-0700
TZOFFSETTO:-0800
TZNAME:PST
DTSTART:20241103T090000
END:STANDARD
BEGIN:DAYLIGHT
TZOFFSETFROM:-0800
TZOFFSETTO:-0700
TZNAME:PDT
DTSTART:20250309T100000
END:DAYLIGHT
BEGIN:STANDARD
TZOFFSETFROM:-0700
TZOFFSETTO:-0800
TZNAME:PST
DTSTART:20251102T090000
END:STANDARD
BEGIN:DAYLIGHT
TZOFFSETFROM:-0800
TZOFFSETTO:-0700
TZNAME:PDT
DTSTART:20260308T100000
END:DAYLIGHT
BEGIN:STANDARD
TZOFFSETFROM:-0700
TZOFFSETTO:-0800
TZNAME:PST
DTSTART:20261101T090000
END:STANDARD
END:VTIMEZONE
BEGIN:VEVENT
DTSTART;TZID=America/Los_Angeles:20251026T110000
DTEND;TZID=America/Los_Angeles:20251026T150000
DTSTAMP:20260424T011351
CREATED:20251014T212407Z
LAST-MODIFIED:20251015T044319Z
UID:10006948-1761476400-1761490800@www.crestlinechamber.org
SUMMARY:A (Not too spooky) Halloween Hike
DESCRIPTION:Heaps Peak Arboretum is getting ready for Halloween! We have decorated our trail\, and would love to have you visit. \nSaturday\, October 25\, and Sunday\, October 26\, from 11 am to 3 pm.
URL:https://www.crestlinechamber.org/event/a-not-too-spooky-halloween-hike/2025-10-26/
LOCATION:Heaps Peak Arboretum\, 29358 Rim of the World Hwy\, Skyforest\, CA\, 92385\, United States
CATEGORIES:Community Event,Family Friendly
ORGANIZER;CN="Rim of the World Interpretive Association":MAILTO:info@hparboretum.com
GEO:34.233999;-117.160518
X-APPLE-STRUCTURED-LOCATION;VALUE=URI;X-ADDRESS=Heaps Peak Arboretum 29358 Rim of the World Hwy Skyforest CA 92385 United States;X-APPLE-RADIUS=500;X-TITLE=29358 Rim of the World Hwy:geo:-117.160518,34.233999
END:VEVENT
BEGIN:VEVENT
DTSTART;TZID=America/Los_Angeles:20251025T110000
DTEND;TZID=America/Los_Angeles:20251025T150000
DTSTAMP:20260424T011351
CREATED:20251014T212407Z
LAST-MODIFIED:20251015T044319Z
UID:10006946-1761390000-1761404400@www.crestlinechamber.org
SUMMARY:A (Not too spooky) Halloween Hike
DESCRIPTION:Heaps Peak Arboretum is getting ready for Halloween! We have decorated our trail\, and would love to have you visit. \nSaturday\, October 25\, and Sunday\, October 26\, from 11 am to 3 pm.
URL:https://www.crestlinechamber.org/event/a-not-too-spooky-halloween-hike/2025-10-25/
LOCATION:Heaps Peak Arboretum\, 29358 Rim of the World Hwy\, Skyforest\, CA\, 92385\, United States
CATEGORIES:Community Event,Family Friendly
ORGANIZER;CN="Rim of the World Interpretive Association":MAILTO:info@hparboretum.com
GEO:34.233999;-117.160518
X-APPLE-STRUCTURED-LOCATION;VALUE=URI;X-ADDRESS=Heaps Peak Arboretum 29358 Rim of the World Hwy Skyforest CA 92385 United States;X-APPLE-RADIUS=500;X-TITLE=29358 Rim of the World Hwy:geo:-117.160518,34.233999
END:VEVENT
BEGIN:VEVENT
DTSTART;TZID=America/Los_Angeles:20250927T090000
DTEND;TZID=America/Los_Angeles:20250927T120000
DTSTAMP:20260424T011351
CREATED:20250908T235951Z
LAST-MODIFIED:20250908T235951Z
UID:10006930-1758963600-1758974400@www.crestlinechamber.org
SUMMARY:Native Plant Sale
DESCRIPTION:Native Plant Sale\nSaturday\, Sept. 27\n9 a.m. – Noon\nGrow plants native to the mountain – drought tolerant and beautiful!\nCome Early for Best Selection! \nThe arboretum is easy to find at 29358 Rim of the World Highway 18\, half-way between Lake Arrowhead & Running Springs\, just east of Sky Park at Santa’s Village. \nWant a 20% discount?  Become a member before September 21 at https://hparboretum.com/membership/
URL:https://www.crestlinechamber.org/event/native-plant-sale/
CATEGORIES:Community Event
ATTACH;FMTTYPE=image/png:https://www.crestlinechamber.org/wp-content/uploads/2025/09/HPA-logo.png
ORGANIZER;CN="Rim of the World Interpretive Association":MAILTO:info@hparboretum.com
END:VEVENT
END:VCALENDAR