BEGIN:VCALENDAR
VERSION:2.0
PRODID:-//Crestline Chamber of Commerce - ECPv6.15.20//NONSGML v1.0//EN
CALSCALE:GREGORIAN
METHOD:PUBLISH
X-ORIGINAL-URL:https://www.crestlinechamber.org
X-WR-CALDESC:Events for Crestline Chamber of Commerce
REFRESH-INTERVAL;VALUE=DURATION:PT1H
X-Robots-Tag:noindex
X-PUBLISHED-TTL:PT1H
BEGIN:VTIMEZONE
TZID:America/Los_Angeles
BEGIN:DAYLIGHT
TZOFFSETFROM:-0800
TZOFFSETTO:-0700
TZNAME:PDT
DTSTART:20240310T100000
END:DAYLIGHT
BEGIN:STANDARD
TZOFFSETFROM:-0700
TZOFFSETTO:-0800
TZNAME:PST
DTSTART:20241103T090000
END:STANDARD
BEGIN:DAYLIGHT
TZOFFSETFROM:-0800
TZOFFSETTO:-0700
TZNAME:PDT
DTSTART:20250309T100000
END:DAYLIGHT
BEGIN:STANDARD
TZOFFSETFROM:-0700
TZOFFSETTO:-0800
TZNAME:PST
DTSTART:20251102T090000
END:STANDARD
BEGIN:DAYLIGHT
TZOFFSETFROM:-0800
TZOFFSETTO:-0700
TZNAME:PDT
DTSTART:20260308T100000
END:DAYLIGHT
BEGIN:STANDARD
TZOFFSETFROM:-0700
TZOFFSETTO:-0800
TZNAME:PST
DTSTART:20261101T090000
END:STANDARD
END:VTIMEZONE
BEGIN:VEVENT
DTSTART;TZID=America/Los_Angeles:20250830T160000
DTEND;TZID=America/Los_Angeles:20250830T210000
DTSTAMP:20260423T215900
CREATED:20250731T191154Z
LAST-MODIFIED:20250731T191631Z
UID:10006320-1756569600-1756587600@www.crestlinechamber.org
SUMMARY:Taste of the Peaks 🍓
DESCRIPTION:
URL:https://www.crestlinechamber.org/event/taste-of-the-peaks/2025-08-30/
LOCATION:26012 HWY 189\, Twin Peaks
CATEGORIES:Community Event,Family Friendly,Live Music
ATTACH;FMTTYPE=image/jpeg:https://www.crestlinechamber.org/wp-content/uploads/2025/07/img20250722_09195152.jpg
END:VEVENT
BEGIN:VEVENT
DTSTART;TZID=America/Los_Angeles:20250828T140000
DTEND;TZID=America/Los_Angeles:20250828T190000
DTSTAMP:20260423T215900
CREATED:20250731T184656Z
LAST-MODIFIED:20250731T184656Z
UID:10006315-1756389600-1756407600@www.crestlinechamber.org
SUMMARY:Blood Drive 🩸
DESCRIPTION:
URL:https://www.crestlinechamber.org/event/blood-drive-%f0%9f%a9%b8/2025-08-28/
LOCATION:26012 HWY 189\, Twin Peaks
ATTACH;FMTTYPE=image/jpeg:https://www.crestlinechamber.org/wp-content/uploads/2025/07/img20250722_09203521.jpg
END:VEVENT
BEGIN:VEVENT
DTSTART;TZID=America/Los_Angeles:20250823T160000
DTEND;TZID=America/Los_Angeles:20250823T210000
DTSTAMP:20260423T215900
CREATED:20250731T191154Z
LAST-MODIFIED:20250731T191631Z
UID:10006319-1755964800-1755982800@www.crestlinechamber.org
SUMMARY:Taste of the Peaks 🍓
DESCRIPTION:
URL:https://www.crestlinechamber.org/event/taste-of-the-peaks/2025-08-23/
LOCATION:26012 HWY 189\, Twin Peaks
CATEGORIES:Community Event,Family Friendly,Live Music
ATTACH;FMTTYPE=image/jpeg:https://www.crestlinechamber.org/wp-content/uploads/2025/07/img20250722_09195152.jpg
END:VEVENT
BEGIN:VEVENT
DTSTART;TZID=America/Los_Angeles:20250816T160000
DTEND;TZID=America/Los_Angeles:20250816T210000
DTSTAMP:20260423T215900
CREATED:20250731T191154Z
LAST-MODIFIED:20250731T191631Z
UID:10006318-1755360000-1755378000@www.crestlinechamber.org
SUMMARY:Taste of the Peaks 🍓
DESCRIPTION:
URL:https://www.crestlinechamber.org/event/taste-of-the-peaks/2025-08-16/
LOCATION:26012 HWY 189\, Twin Peaks
CATEGORIES:Community Event,Family Friendly,Live Music
ATTACH;FMTTYPE=image/jpeg:https://www.crestlinechamber.org/wp-content/uploads/2025/07/img20250722_09195152.jpg
END:VEVENT
BEGIN:VEVENT
DTSTART;TZID=America/Los_Angeles:20250814T140000
DTEND;TZID=America/Los_Angeles:20250814T190000
DTSTAMP:20260423T215900
CREATED:20250731T184656Z
LAST-MODIFIED:20250731T184656Z
UID:10006314-1755180000-1755198000@www.crestlinechamber.org
SUMMARY:Blood Drive 🩸
DESCRIPTION:
URL:https://www.crestlinechamber.org/event/blood-drive-%f0%9f%a9%b8/2025-08-14/
LOCATION:26012 HWY 189\, Twin Peaks
ATTACH;FMTTYPE=image/jpeg:https://www.crestlinechamber.org/wp-content/uploads/2025/07/img20250722_09203521.jpg
END:VEVENT
BEGIN:VEVENT
DTSTART;TZID=America/Los_Angeles:20250809T160000
DTEND;TZID=America/Los_Angeles:20250809T210000
DTSTAMP:20260423T215900
CREATED:20250731T191154Z
LAST-MODIFIED:20250731T191631Z
UID:10006317-1754755200-1754773200@www.crestlinechamber.org
SUMMARY:Taste of the Peaks 🍓
DESCRIPTION:
URL:https://www.crestlinechamber.org/event/taste-of-the-peaks/2025-08-09/
LOCATION:26012 HWY 189\, Twin Peaks
CATEGORIES:Community Event,Family Friendly,Live Music
ATTACH;FMTTYPE=image/jpeg:https://www.crestlinechamber.org/wp-content/uploads/2025/07/img20250722_09195152.jpg
END:VEVENT
BEGIN:VEVENT
DTSTART;TZID=America/Los_Angeles:20250802T160000
DTEND;TZID=America/Los_Angeles:20250802T210000
DTSTAMP:20260423T215900
CREATED:20250731T191154Z
LAST-MODIFIED:20250731T191631Z
UID:10006316-1754150400-1754168400@www.crestlinechamber.org
SUMMARY:Taste of the Peaks 🍓
DESCRIPTION:
URL:https://www.crestlinechamber.org/event/taste-of-the-peaks/2025-08-02/
LOCATION:26012 HWY 189\, Twin Peaks
CATEGORIES:Community Event,Family Friendly,Live Music
ATTACH;FMTTYPE=image/jpeg:https://www.crestlinechamber.org/wp-content/uploads/2025/07/img20250722_09195152.jpg
END:VEVENT
END:VCALENDAR