BEGIN:VCALENDAR
VERSION:2.0
PRODID:-//Crestline Chamber of Commerce - ECPv6.15.20//NONSGML v1.0//EN
CALSCALE:GREGORIAN
METHOD:PUBLISH
X-ORIGINAL-URL:https://www.crestlinechamber.org
X-WR-CALDESC:Events for Crestline Chamber of Commerce
REFRESH-INTERVAL;VALUE=DURATION:PT1H
X-Robots-Tag:noindex
X-PUBLISHED-TTL:PT1H
BEGIN:VTIMEZONE
TZID:America/Los_Angeles
BEGIN:DAYLIGHT
TZOFFSETFROM:-0800
TZOFFSETTO:-0700
TZNAME:PDT
DTSTART:20280312T100000
END:DAYLIGHT
BEGIN:STANDARD
TZOFFSETFROM:-0700
TZOFFSETTO:-0800
TZNAME:PST
DTSTART:20281105T090000
END:STANDARD
BEGIN:DAYLIGHT
TZOFFSETFROM:-0800
TZOFFSETTO:-0700
TZNAME:PDT
DTSTART:20290311T100000
END:DAYLIGHT
BEGIN:STANDARD
TZOFFSETFROM:-0700
TZOFFSETTO:-0800
TZNAME:PST
DTSTART:20291104T090000
END:STANDARD
BEGIN:DAYLIGHT
TZOFFSETFROM:-0800
TZOFFSETTO:-0700
TZNAME:PDT
DTSTART:20300310T100000
END:DAYLIGHT
BEGIN:STANDARD
TZOFFSETFROM:-0700
TZOFFSETTO:-0800
TZNAME:PST
DTSTART:20301103T090000
END:STANDARD
END:VTIMEZONE
BEGIN:VEVENT
DTSTART;TZID=America/Los_Angeles:20290426T180000
DTEND;TZID=America/Los_Angeles:20290426T220000
DTSTAMP:20260424T085048
CREATED:20250127T232001Z
LAST-MODIFIED:20250127T232001Z
UID:10003369-1871920800-1871935200@www.crestlinechamber.org
SUMMARY:Game Nights 🏆🎲♟️🎯🎮
DESCRIPTION:Looking for a fun night out? Join us at San Marzano Wine & Ale Lounge for Game Nights! \n🃏 Play your favorite board games\, card games\, and more while enjoying a night out!  Bring your friends or make new ones—it’s all about good vibes and great times!
URL:https://www.crestlinechamber.org/event/game-nights-%f0%9f%8f%86%f0%9f%8e%b2%e2%99%9f%ef%b8%8f%f0%9f%8e%af%f0%9f%8e%ae/2029-04-26/
LOCATION:The San Marzano Wine & Ale Lounge\, 23575 Lake Dr\, crestline\, CA\, 92325\, United States
CATEGORIES:Community Event,Family Friendly,Lake Gregory
ORGANIZER;CN="San Marzano Wine & Ale Lounge":MAILTO:kenrwilliams@icloud.com
END:VEVENT
BEGIN:VEVENT
DTSTART;TZID=America/Los_Angeles:20290503T180000
DTEND;TZID=America/Los_Angeles:20290503T220000
DTSTAMP:20260424T085048
CREATED:20250127T232001Z
LAST-MODIFIED:20250127T232001Z
UID:10003370-1872525600-1872540000@www.crestlinechamber.org
SUMMARY:Game Nights 🏆🎲♟️🎯🎮
DESCRIPTION:Looking for a fun night out? Join us at San Marzano Wine & Ale Lounge for Game Nights! \n🃏 Play your favorite board games\, card games\, and more while enjoying a night out!  Bring your friends or make new ones—it’s all about good vibes and great times!
URL:https://www.crestlinechamber.org/event/game-nights-%f0%9f%8f%86%f0%9f%8e%b2%e2%99%9f%ef%b8%8f%f0%9f%8e%af%f0%9f%8e%ae/2029-05-03/
LOCATION:The San Marzano Wine & Ale Lounge\, 23575 Lake Dr\, crestline\, CA\, 92325\, United States
CATEGORIES:Community Event,Family Friendly,Lake Gregory
ORGANIZER;CN="San Marzano Wine & Ale Lounge":MAILTO:kenrwilliams@icloud.com
END:VEVENT
BEGIN:VEVENT
DTSTART;TZID=America/Los_Angeles:20290510T180000
DTEND;TZID=America/Los_Angeles:20290510T220000
DTSTAMP:20260424T085048
CREATED:20250127T232001Z
LAST-MODIFIED:20250127T232001Z
UID:10003371-1873130400-1873144800@www.crestlinechamber.org
SUMMARY:Game Nights 🏆🎲♟️🎯🎮
DESCRIPTION:Looking for a fun night out? Join us at San Marzano Wine & Ale Lounge for Game Nights! \n🃏 Play your favorite board games\, card games\, and more while enjoying a night out!  Bring your friends or make new ones—it’s all about good vibes and great times!
URL:https://www.crestlinechamber.org/event/game-nights-%f0%9f%8f%86%f0%9f%8e%b2%e2%99%9f%ef%b8%8f%f0%9f%8e%af%f0%9f%8e%ae/2029-05-10/
LOCATION:The San Marzano Wine & Ale Lounge\, 23575 Lake Dr\, crestline\, CA\, 92325\, United States
CATEGORIES:Community Event,Family Friendly,Lake Gregory
ORGANIZER;CN="San Marzano Wine & Ale Lounge":MAILTO:kenrwilliams@icloud.com
END:VEVENT
BEGIN:VEVENT
DTSTART;TZID=America/Los_Angeles:20290517T180000
DTEND;TZID=America/Los_Angeles:20290517T220000
DTSTAMP:20260424T085048
CREATED:20250127T232001Z
LAST-MODIFIED:20250127T232001Z
UID:10003372-1873735200-1873749600@www.crestlinechamber.org
SUMMARY:Game Nights 🏆🎲♟️🎯🎮
DESCRIPTION:Looking for a fun night out? Join us at San Marzano Wine & Ale Lounge for Game Nights! \n🃏 Play your favorite board games\, card games\, and more while enjoying a night out!  Bring your friends or make new ones—it’s all about good vibes and great times!
URL:https://www.crestlinechamber.org/event/game-nights-%f0%9f%8f%86%f0%9f%8e%b2%e2%99%9f%ef%b8%8f%f0%9f%8e%af%f0%9f%8e%ae/2029-05-17/
LOCATION:The San Marzano Wine & Ale Lounge\, 23575 Lake Dr\, crestline\, CA\, 92325\, United States
CATEGORIES:Community Event,Family Friendly,Lake Gregory
ORGANIZER;CN="San Marzano Wine & Ale Lounge":MAILTO:kenrwilliams@icloud.com
END:VEVENT
BEGIN:VEVENT
DTSTART;TZID=America/Los_Angeles:20290524T180000
DTEND;TZID=America/Los_Angeles:20290524T220000
DTSTAMP:20260424T085048
CREATED:20250127T232001Z
LAST-MODIFIED:20250127T232001Z
UID:10003373-1874340000-1874354400@www.crestlinechamber.org
SUMMARY:Game Nights 🏆🎲♟️🎯🎮
DESCRIPTION:Looking for a fun night out? Join us at San Marzano Wine & Ale Lounge for Game Nights! \n🃏 Play your favorite board games\, card games\, and more while enjoying a night out!  Bring your friends or make new ones—it’s all about good vibes and great times!
URL:https://www.crestlinechamber.org/event/game-nights-%f0%9f%8f%86%f0%9f%8e%b2%e2%99%9f%ef%b8%8f%f0%9f%8e%af%f0%9f%8e%ae/2029-05-24/
LOCATION:The San Marzano Wine & Ale Lounge\, 23575 Lake Dr\, crestline\, CA\, 92325\, United States
CATEGORIES:Community Event,Family Friendly,Lake Gregory
ORGANIZER;CN="San Marzano Wine & Ale Lounge":MAILTO:kenrwilliams@icloud.com
END:VEVENT
BEGIN:VEVENT
DTSTART;TZID=America/Los_Angeles:20290531T180000
DTEND;TZID=America/Los_Angeles:20290531T220000
DTSTAMP:20260424T085048
CREATED:20250127T232001Z
LAST-MODIFIED:20250127T232001Z
UID:10003374-1874944800-1874959200@www.crestlinechamber.org
SUMMARY:Game Nights 🏆🎲♟️🎯🎮
DESCRIPTION:Looking for a fun night out? Join us at San Marzano Wine & Ale Lounge for Game Nights! \n🃏 Play your favorite board games\, card games\, and more while enjoying a night out!  Bring your friends or make new ones—it’s all about good vibes and great times!
URL:https://www.crestlinechamber.org/event/game-nights-%f0%9f%8f%86%f0%9f%8e%b2%e2%99%9f%ef%b8%8f%f0%9f%8e%af%f0%9f%8e%ae/2029-05-31/
LOCATION:The San Marzano Wine & Ale Lounge\, 23575 Lake Dr\, crestline\, CA\, 92325\, United States
CATEGORIES:Community Event,Family Friendly,Lake Gregory
ORGANIZER;CN="San Marzano Wine & Ale Lounge":MAILTO:kenrwilliams@icloud.com
END:VEVENT
BEGIN:VEVENT
DTSTART;TZID=America/Los_Angeles:20290607T180000
DTEND;TZID=America/Los_Angeles:20290607T220000
DTSTAMP:20260424T085048
CREATED:20250127T232001Z
LAST-MODIFIED:20250127T232001Z
UID:10003375-1875549600-1875564000@www.crestlinechamber.org
SUMMARY:Game Nights 🏆🎲♟️🎯🎮
DESCRIPTION:Looking for a fun night out? Join us at San Marzano Wine & Ale Lounge for Game Nights! \n🃏 Play your favorite board games\, card games\, and more while enjoying a night out!  Bring your friends or make new ones—it’s all about good vibes and great times!
URL:https://www.crestlinechamber.org/event/game-nights-%f0%9f%8f%86%f0%9f%8e%b2%e2%99%9f%ef%b8%8f%f0%9f%8e%af%f0%9f%8e%ae/2029-06-07/
LOCATION:The San Marzano Wine & Ale Lounge\, 23575 Lake Dr\, crestline\, CA\, 92325\, United States
CATEGORIES:Community Event,Family Friendly,Lake Gregory
ORGANIZER;CN="San Marzano Wine & Ale Lounge":MAILTO:kenrwilliams@icloud.com
END:VEVENT
BEGIN:VEVENT
DTSTART;TZID=America/Los_Angeles:20290614T180000
DTEND;TZID=America/Los_Angeles:20290614T220000
DTSTAMP:20260424T085048
CREATED:20250127T232001Z
LAST-MODIFIED:20250127T232001Z
UID:10003376-1876154400-1876168800@www.crestlinechamber.org
SUMMARY:Game Nights 🏆🎲♟️🎯🎮
DESCRIPTION:Looking for a fun night out? Join us at San Marzano Wine & Ale Lounge for Game Nights! \n🃏 Play your favorite board games\, card games\, and more while enjoying a night out!  Bring your friends or make new ones—it’s all about good vibes and great times!
URL:https://www.crestlinechamber.org/event/game-nights-%f0%9f%8f%86%f0%9f%8e%b2%e2%99%9f%ef%b8%8f%f0%9f%8e%af%f0%9f%8e%ae/2029-06-14/
LOCATION:The San Marzano Wine & Ale Lounge\, 23575 Lake Dr\, crestline\, CA\, 92325\, United States
CATEGORIES:Community Event,Family Friendly,Lake Gregory
ORGANIZER;CN="San Marzano Wine & Ale Lounge":MAILTO:kenrwilliams@icloud.com
END:VEVENT
BEGIN:VEVENT
DTSTART;TZID=America/Los_Angeles:20290621T180000
DTEND;TZID=America/Los_Angeles:20290621T220000
DTSTAMP:20260424T085048
CREATED:20250127T232001Z
LAST-MODIFIED:20250127T232001Z
UID:10003377-1876759200-1876773600@www.crestlinechamber.org
SUMMARY:Game Nights 🏆🎲♟️🎯🎮
DESCRIPTION:Looking for a fun night out? Join us at San Marzano Wine & Ale Lounge for Game Nights! \n🃏 Play your favorite board games\, card games\, and more while enjoying a night out!  Bring your friends or make new ones—it’s all about good vibes and great times!
URL:https://www.crestlinechamber.org/event/game-nights-%f0%9f%8f%86%f0%9f%8e%b2%e2%99%9f%ef%b8%8f%f0%9f%8e%af%f0%9f%8e%ae/2029-06-21/
LOCATION:The San Marzano Wine & Ale Lounge\, 23575 Lake Dr\, crestline\, CA\, 92325\, United States
CATEGORIES:Community Event,Family Friendly,Lake Gregory
ORGANIZER;CN="San Marzano Wine & Ale Lounge":MAILTO:kenrwilliams@icloud.com
END:VEVENT
BEGIN:VEVENT
DTSTART;TZID=America/Los_Angeles:20290628T180000
DTEND;TZID=America/Los_Angeles:20290628T220000
DTSTAMP:20260424T085048
CREATED:20250127T232001Z
LAST-MODIFIED:20250127T232001Z
UID:10003378-1877364000-1877378400@www.crestlinechamber.org
SUMMARY:Game Nights 🏆🎲♟️🎯🎮
DESCRIPTION:Looking for a fun night out? Join us at San Marzano Wine & Ale Lounge for Game Nights! \n🃏 Play your favorite board games\, card games\, and more while enjoying a night out!  Bring your friends or make new ones—it’s all about good vibes and great times!
URL:https://www.crestlinechamber.org/event/game-nights-%f0%9f%8f%86%f0%9f%8e%b2%e2%99%9f%ef%b8%8f%f0%9f%8e%af%f0%9f%8e%ae/2029-06-28/
LOCATION:The San Marzano Wine & Ale Lounge\, 23575 Lake Dr\, crestline\, CA\, 92325\, United States
CATEGORIES:Community Event,Family Friendly,Lake Gregory
ORGANIZER;CN="San Marzano Wine & Ale Lounge":MAILTO:kenrwilliams@icloud.com
END:VEVENT
BEGIN:VEVENT
DTSTART;TZID=America/Los_Angeles:20290705T180000
DTEND;TZID=America/Los_Angeles:20290705T220000
DTSTAMP:20260424T085048
CREATED:20250127T232001Z
LAST-MODIFIED:20250127T232001Z
UID:10003379-1877968800-1877983200@www.crestlinechamber.org
SUMMARY:Game Nights 🏆🎲♟️🎯🎮
DESCRIPTION:Looking for a fun night out? Join us at San Marzano Wine & Ale Lounge for Game Nights! \n🃏 Play your favorite board games\, card games\, and more while enjoying a night out!  Bring your friends or make new ones—it’s all about good vibes and great times!
URL:https://www.crestlinechamber.org/event/game-nights-%f0%9f%8f%86%f0%9f%8e%b2%e2%99%9f%ef%b8%8f%f0%9f%8e%af%f0%9f%8e%ae/2029-07-05/
LOCATION:The San Marzano Wine & Ale Lounge\, 23575 Lake Dr\, crestline\, CA\, 92325\, United States
CATEGORIES:Community Event,Family Friendly,Lake Gregory
ORGANIZER;CN="San Marzano Wine & Ale Lounge":MAILTO:kenrwilliams@icloud.com
END:VEVENT
BEGIN:VEVENT
DTSTART;TZID=America/Los_Angeles:20290712T180000
DTEND;TZID=America/Los_Angeles:20290712T220000
DTSTAMP:20260424T085048
CREATED:20250127T232001Z
LAST-MODIFIED:20250127T232001Z
UID:10003380-1878573600-1878588000@www.crestlinechamber.org
SUMMARY:Game Nights 🏆🎲♟️🎯🎮
DESCRIPTION:Looking for a fun night out? Join us at San Marzano Wine & Ale Lounge for Game Nights! \n🃏 Play your favorite board games\, card games\, and more while enjoying a night out!  Bring your friends or make new ones—it’s all about good vibes and great times!
URL:https://www.crestlinechamber.org/event/game-nights-%f0%9f%8f%86%f0%9f%8e%b2%e2%99%9f%ef%b8%8f%f0%9f%8e%af%f0%9f%8e%ae/2029-07-12/
LOCATION:The San Marzano Wine & Ale Lounge\, 23575 Lake Dr\, crestline\, CA\, 92325\, United States
CATEGORIES:Community Event,Family Friendly,Lake Gregory
ORGANIZER;CN="San Marzano Wine & Ale Lounge":MAILTO:kenrwilliams@icloud.com
END:VEVENT
BEGIN:VEVENT
DTSTART;TZID=America/Los_Angeles:20290719T180000
DTEND;TZID=America/Los_Angeles:20290719T220000
DTSTAMP:20260424T085048
CREATED:20250127T232001Z
LAST-MODIFIED:20250127T232001Z
UID:10003381-1879178400-1879192800@www.crestlinechamber.org
SUMMARY:Game Nights 🏆🎲♟️🎯🎮
DESCRIPTION:Looking for a fun night out? Join us at San Marzano Wine & Ale Lounge for Game Nights! \n🃏 Play your favorite board games\, card games\, and more while enjoying a night out!  Bring your friends or make new ones—it’s all about good vibes and great times!
URL:https://www.crestlinechamber.org/event/game-nights-%f0%9f%8f%86%f0%9f%8e%b2%e2%99%9f%ef%b8%8f%f0%9f%8e%af%f0%9f%8e%ae/2029-07-19/
LOCATION:The San Marzano Wine & Ale Lounge\, 23575 Lake Dr\, crestline\, CA\, 92325\, United States
CATEGORIES:Community Event,Family Friendly,Lake Gregory
ORGANIZER;CN="San Marzano Wine & Ale Lounge":MAILTO:kenrwilliams@icloud.com
END:VEVENT
BEGIN:VEVENT
DTSTART;TZID=America/Los_Angeles:20290726T180000
DTEND;TZID=America/Los_Angeles:20290726T220000
DTSTAMP:20260424T085048
CREATED:20250127T232001Z
LAST-MODIFIED:20250127T232001Z
UID:10003382-1879783200-1879797600@www.crestlinechamber.org
SUMMARY:Game Nights 🏆🎲♟️🎯🎮
DESCRIPTION:Looking for a fun night out? Join us at San Marzano Wine & Ale Lounge for Game Nights! \n🃏 Play your favorite board games\, card games\, and more while enjoying a night out!  Bring your friends or make new ones—it’s all about good vibes and great times!
URL:https://www.crestlinechamber.org/event/game-nights-%f0%9f%8f%86%f0%9f%8e%b2%e2%99%9f%ef%b8%8f%f0%9f%8e%af%f0%9f%8e%ae/2029-07-26/
LOCATION:The San Marzano Wine & Ale Lounge\, 23575 Lake Dr\, crestline\, CA\, 92325\, United States
CATEGORIES:Community Event,Family Friendly,Lake Gregory
ORGANIZER;CN="San Marzano Wine & Ale Lounge":MAILTO:kenrwilliams@icloud.com
END:VEVENT
BEGIN:VEVENT
DTSTART;TZID=America/Los_Angeles:20290802T180000
DTEND;TZID=America/Los_Angeles:20290802T220000
DTSTAMP:20260424T085048
CREATED:20250127T232001Z
LAST-MODIFIED:20250127T232001Z
UID:10003383-1880388000-1880402400@www.crestlinechamber.org
SUMMARY:Game Nights 🏆🎲♟️🎯🎮
DESCRIPTION:Looking for a fun night out? Join us at San Marzano Wine & Ale Lounge for Game Nights! \n🃏 Play your favorite board games\, card games\, and more while enjoying a night out!  Bring your friends or make new ones—it’s all about good vibes and great times!
URL:https://www.crestlinechamber.org/event/game-nights-%f0%9f%8f%86%f0%9f%8e%b2%e2%99%9f%ef%b8%8f%f0%9f%8e%af%f0%9f%8e%ae/2029-08-02/
LOCATION:The San Marzano Wine & Ale Lounge\, 23575 Lake Dr\, crestline\, CA\, 92325\, United States
CATEGORIES:Community Event,Family Friendly,Lake Gregory
ORGANIZER;CN="San Marzano Wine & Ale Lounge":MAILTO:kenrwilliams@icloud.com
END:VEVENT
BEGIN:VEVENT
DTSTART;TZID=America/Los_Angeles:20290809T180000
DTEND;TZID=America/Los_Angeles:20290809T220000
DTSTAMP:20260424T085048
CREATED:20250127T232001Z
LAST-MODIFIED:20250127T232001Z
UID:10003384-1880992800-1881007200@www.crestlinechamber.org
SUMMARY:Game Nights 🏆🎲♟️🎯🎮
DESCRIPTION:Looking for a fun night out? Join us at San Marzano Wine & Ale Lounge for Game Nights! \n🃏 Play your favorite board games\, card games\, and more while enjoying a night out!  Bring your friends or make new ones—it’s all about good vibes and great times!
URL:https://www.crestlinechamber.org/event/game-nights-%f0%9f%8f%86%f0%9f%8e%b2%e2%99%9f%ef%b8%8f%f0%9f%8e%af%f0%9f%8e%ae/2029-08-09/
LOCATION:The San Marzano Wine & Ale Lounge\, 23575 Lake Dr\, crestline\, CA\, 92325\, United States
CATEGORIES:Community Event,Family Friendly,Lake Gregory
ORGANIZER;CN="San Marzano Wine & Ale Lounge":MAILTO:kenrwilliams@icloud.com
END:VEVENT
BEGIN:VEVENT
DTSTART;TZID=America/Los_Angeles:20290816T180000
DTEND;TZID=America/Los_Angeles:20290816T220000
DTSTAMP:20260424T085048
CREATED:20250127T232001Z
LAST-MODIFIED:20250127T232001Z
UID:10003385-1881597600-1881612000@www.crestlinechamber.org
SUMMARY:Game Nights 🏆🎲♟️🎯🎮
DESCRIPTION:Looking for a fun night out? Join us at San Marzano Wine & Ale Lounge for Game Nights! \n🃏 Play your favorite board games\, card games\, and more while enjoying a night out!  Bring your friends or make new ones—it’s all about good vibes and great times!
URL:https://www.crestlinechamber.org/event/game-nights-%f0%9f%8f%86%f0%9f%8e%b2%e2%99%9f%ef%b8%8f%f0%9f%8e%af%f0%9f%8e%ae/2029-08-16/
LOCATION:The San Marzano Wine & Ale Lounge\, 23575 Lake Dr\, crestline\, CA\, 92325\, United States
CATEGORIES:Community Event,Family Friendly,Lake Gregory
ORGANIZER;CN="San Marzano Wine & Ale Lounge":MAILTO:kenrwilliams@icloud.com
END:VEVENT
BEGIN:VEVENT
DTSTART;TZID=America/Los_Angeles:20290823T180000
DTEND;TZID=America/Los_Angeles:20290823T220000
DTSTAMP:20260424T085048
CREATED:20250127T232001Z
LAST-MODIFIED:20250127T232001Z
UID:10003386-1882202400-1882216800@www.crestlinechamber.org
SUMMARY:Game Nights 🏆🎲♟️🎯🎮
DESCRIPTION:Looking for a fun night out? Join us at San Marzano Wine & Ale Lounge for Game Nights! \n🃏 Play your favorite board games\, card games\, and more while enjoying a night out!  Bring your friends or make new ones—it’s all about good vibes and great times!
URL:https://www.crestlinechamber.org/event/game-nights-%f0%9f%8f%86%f0%9f%8e%b2%e2%99%9f%ef%b8%8f%f0%9f%8e%af%f0%9f%8e%ae/2029-08-23/
LOCATION:The San Marzano Wine & Ale Lounge\, 23575 Lake Dr\, crestline\, CA\, 92325\, United States
CATEGORIES:Community Event,Family Friendly,Lake Gregory
ORGANIZER;CN="San Marzano Wine & Ale Lounge":MAILTO:kenrwilliams@icloud.com
END:VEVENT
BEGIN:VEVENT
DTSTART;TZID=America/Los_Angeles:20290830T180000
DTEND;TZID=America/Los_Angeles:20290830T220000
DTSTAMP:20260424T085048
CREATED:20250127T232001Z
LAST-MODIFIED:20250127T232001Z
UID:10003387-1882807200-1882821600@www.crestlinechamber.org
SUMMARY:Game Nights 🏆🎲♟️🎯🎮
DESCRIPTION:Looking for a fun night out? Join us at San Marzano Wine & Ale Lounge for Game Nights! \n🃏 Play your favorite board games\, card games\, and more while enjoying a night out!  Bring your friends or make new ones—it’s all about good vibes and great times!
URL:https://www.crestlinechamber.org/event/game-nights-%f0%9f%8f%86%f0%9f%8e%b2%e2%99%9f%ef%b8%8f%f0%9f%8e%af%f0%9f%8e%ae/2029-08-30/
LOCATION:The San Marzano Wine & Ale Lounge\, 23575 Lake Dr\, crestline\, CA\, 92325\, United States
CATEGORIES:Community Event,Family Friendly,Lake Gregory
ORGANIZER;CN="San Marzano Wine & Ale Lounge":MAILTO:kenrwilliams@icloud.com
END:VEVENT
BEGIN:VEVENT
DTSTART;TZID=America/Los_Angeles:20290906T180000
DTEND;TZID=America/Los_Angeles:20290906T220000
DTSTAMP:20260424T085048
CREATED:20250127T232001Z
LAST-MODIFIED:20250127T232001Z
UID:10003388-1883412000-1883426400@www.crestlinechamber.org
SUMMARY:Game Nights 🏆🎲♟️🎯🎮
DESCRIPTION:Looking for a fun night out? Join us at San Marzano Wine & Ale Lounge for Game Nights! \n🃏 Play your favorite board games\, card games\, and more while enjoying a night out!  Bring your friends or make new ones—it’s all about good vibes and great times!
URL:https://www.crestlinechamber.org/event/game-nights-%f0%9f%8f%86%f0%9f%8e%b2%e2%99%9f%ef%b8%8f%f0%9f%8e%af%f0%9f%8e%ae/2029-09-06/
LOCATION:The San Marzano Wine & Ale Lounge\, 23575 Lake Dr\, crestline\, CA\, 92325\, United States
CATEGORIES:Community Event,Family Friendly,Lake Gregory
ORGANIZER;CN="San Marzano Wine & Ale Lounge":MAILTO:kenrwilliams@icloud.com
END:VEVENT
BEGIN:VEVENT
DTSTART;TZID=America/Los_Angeles:20290913T180000
DTEND;TZID=America/Los_Angeles:20290913T220000
DTSTAMP:20260424T085048
CREATED:20250127T232001Z
LAST-MODIFIED:20250127T232001Z
UID:10003389-1884016800-1884031200@www.crestlinechamber.org
SUMMARY:Game Nights 🏆🎲♟️🎯🎮
DESCRIPTION:Looking for a fun night out? Join us at San Marzano Wine & Ale Lounge for Game Nights! \n🃏 Play your favorite board games\, card games\, and more while enjoying a night out!  Bring your friends or make new ones—it’s all about good vibes and great times!
URL:https://www.crestlinechamber.org/event/game-nights-%f0%9f%8f%86%f0%9f%8e%b2%e2%99%9f%ef%b8%8f%f0%9f%8e%af%f0%9f%8e%ae/2029-09-13/
LOCATION:The San Marzano Wine & Ale Lounge\, 23575 Lake Dr\, crestline\, CA\, 92325\, United States
CATEGORIES:Community Event,Family Friendly,Lake Gregory
ORGANIZER;CN="San Marzano Wine & Ale Lounge":MAILTO:kenrwilliams@icloud.com
END:VEVENT
BEGIN:VEVENT
DTSTART;TZID=America/Los_Angeles:20290920T180000
DTEND;TZID=America/Los_Angeles:20290920T220000
DTSTAMP:20260424T085048
CREATED:20250127T232001Z
LAST-MODIFIED:20250127T232001Z
UID:10003390-1884621600-1884636000@www.crestlinechamber.org
SUMMARY:Game Nights 🏆🎲♟️🎯🎮
DESCRIPTION:Looking for a fun night out? Join us at San Marzano Wine & Ale Lounge for Game Nights! \n🃏 Play your favorite board games\, card games\, and more while enjoying a night out!  Bring your friends or make new ones—it’s all about good vibes and great times!
URL:https://www.crestlinechamber.org/event/game-nights-%f0%9f%8f%86%f0%9f%8e%b2%e2%99%9f%ef%b8%8f%f0%9f%8e%af%f0%9f%8e%ae/2029-09-20/
LOCATION:The San Marzano Wine & Ale Lounge\, 23575 Lake Dr\, crestline\, CA\, 92325\, United States
CATEGORIES:Community Event,Family Friendly,Lake Gregory
ORGANIZER;CN="San Marzano Wine & Ale Lounge":MAILTO:kenrwilliams@icloud.com
END:VEVENT
BEGIN:VEVENT
DTSTART;TZID=America/Los_Angeles:20290927T180000
DTEND;TZID=America/Los_Angeles:20290927T220000
DTSTAMP:20260424T085048
CREATED:20250127T232001Z
LAST-MODIFIED:20250127T232001Z
UID:10003391-1885226400-1885240800@www.crestlinechamber.org
SUMMARY:Game Nights 🏆🎲♟️🎯🎮
DESCRIPTION:Looking for a fun night out? Join us at San Marzano Wine & Ale Lounge for Game Nights! \n🃏 Play your favorite board games\, card games\, and more while enjoying a night out!  Bring your friends or make new ones—it’s all about good vibes and great times!
URL:https://www.crestlinechamber.org/event/game-nights-%f0%9f%8f%86%f0%9f%8e%b2%e2%99%9f%ef%b8%8f%f0%9f%8e%af%f0%9f%8e%ae/2029-09-27/
LOCATION:The San Marzano Wine & Ale Lounge\, 23575 Lake Dr\, crestline\, CA\, 92325\, United States
CATEGORIES:Community Event,Family Friendly,Lake Gregory
ORGANIZER;CN="San Marzano Wine & Ale Lounge":MAILTO:kenrwilliams@icloud.com
END:VEVENT
BEGIN:VEVENT
DTSTART;TZID=America/Los_Angeles:20291004T180000
DTEND;TZID=America/Los_Angeles:20291004T220000
DTSTAMP:20260424T085048
CREATED:20250127T232001Z
LAST-MODIFIED:20250127T232001Z
UID:10003392-1885831200-1885845600@www.crestlinechamber.org
SUMMARY:Game Nights 🏆🎲♟️🎯🎮
DESCRIPTION:Looking for a fun night out? Join us at San Marzano Wine & Ale Lounge for Game Nights! \n🃏 Play your favorite board games\, card games\, and more while enjoying a night out!  Bring your friends or make new ones—it’s all about good vibes and great times!
URL:https://www.crestlinechamber.org/event/game-nights-%f0%9f%8f%86%f0%9f%8e%b2%e2%99%9f%ef%b8%8f%f0%9f%8e%af%f0%9f%8e%ae/2029-10-04/
LOCATION:The San Marzano Wine & Ale Lounge\, 23575 Lake Dr\, crestline\, CA\, 92325\, United States
CATEGORIES:Community Event,Family Friendly,Lake Gregory
ORGANIZER;CN="San Marzano Wine & Ale Lounge":MAILTO:kenrwilliams@icloud.com
END:VEVENT
BEGIN:VEVENT
DTSTART;TZID=America/Los_Angeles:20291011T180000
DTEND;TZID=America/Los_Angeles:20291011T220000
DTSTAMP:20260424T085048
CREATED:20250127T232001Z
LAST-MODIFIED:20250127T232001Z
UID:10003393-1886436000-1886450400@www.crestlinechamber.org
SUMMARY:Game Nights 🏆🎲♟️🎯🎮
DESCRIPTION:Looking for a fun night out? Join us at San Marzano Wine & Ale Lounge for Game Nights! \n🃏 Play your favorite board games\, card games\, and more while enjoying a night out!  Bring your friends or make new ones—it’s all about good vibes and great times!
URL:https://www.crestlinechamber.org/event/game-nights-%f0%9f%8f%86%f0%9f%8e%b2%e2%99%9f%ef%b8%8f%f0%9f%8e%af%f0%9f%8e%ae/2029-10-11/
LOCATION:The San Marzano Wine & Ale Lounge\, 23575 Lake Dr\, crestline\, CA\, 92325\, United States
CATEGORIES:Community Event,Family Friendly,Lake Gregory
ORGANIZER;CN="San Marzano Wine & Ale Lounge":MAILTO:kenrwilliams@icloud.com
END:VEVENT
BEGIN:VEVENT
DTSTART;TZID=America/Los_Angeles:20291018T180000
DTEND;TZID=America/Los_Angeles:20291018T220000
DTSTAMP:20260424T085048
CREATED:20250127T232001Z
LAST-MODIFIED:20250127T232001Z
UID:10003394-1887040800-1887055200@www.crestlinechamber.org
SUMMARY:Game Nights 🏆🎲♟️🎯🎮
DESCRIPTION:Looking for a fun night out? Join us at San Marzano Wine & Ale Lounge for Game Nights! \n🃏 Play your favorite board games\, card games\, and more while enjoying a night out!  Bring your friends or make new ones—it’s all about good vibes and great times!
URL:https://www.crestlinechamber.org/event/game-nights-%f0%9f%8f%86%f0%9f%8e%b2%e2%99%9f%ef%b8%8f%f0%9f%8e%af%f0%9f%8e%ae/2029-10-18/
LOCATION:The San Marzano Wine & Ale Lounge\, 23575 Lake Dr\, crestline\, CA\, 92325\, United States
CATEGORIES:Community Event,Family Friendly,Lake Gregory
ORGANIZER;CN="San Marzano Wine & Ale Lounge":MAILTO:kenrwilliams@icloud.com
END:VEVENT
BEGIN:VEVENT
DTSTART;TZID=America/Los_Angeles:20291025T180000
DTEND;TZID=America/Los_Angeles:20291025T220000
DTSTAMP:20260424T085048
CREATED:20250127T232001Z
LAST-MODIFIED:20250127T232001Z
UID:10003395-1887645600-1887660000@www.crestlinechamber.org
SUMMARY:Game Nights 🏆🎲♟️🎯🎮
DESCRIPTION:Looking for a fun night out? Join us at San Marzano Wine & Ale Lounge for Game Nights! \n🃏 Play your favorite board games\, card games\, and more while enjoying a night out!  Bring your friends or make new ones—it’s all about good vibes and great times!
URL:https://www.crestlinechamber.org/event/game-nights-%f0%9f%8f%86%f0%9f%8e%b2%e2%99%9f%ef%b8%8f%f0%9f%8e%af%f0%9f%8e%ae/2029-10-25/
LOCATION:The San Marzano Wine & Ale Lounge\, 23575 Lake Dr\, crestline\, CA\, 92325\, United States
CATEGORIES:Community Event,Family Friendly,Lake Gregory
ORGANIZER;CN="San Marzano Wine & Ale Lounge":MAILTO:kenrwilliams@icloud.com
END:VEVENT
BEGIN:VEVENT
DTSTART;TZID=America/Los_Angeles:20291101T180000
DTEND;TZID=America/Los_Angeles:20291101T220000
DTSTAMP:20260424T085048
CREATED:20250127T232001Z
LAST-MODIFIED:20250127T232001Z
UID:10003396-1888250400-1888264800@www.crestlinechamber.org
SUMMARY:Game Nights 🏆🎲♟️🎯🎮
DESCRIPTION:Looking for a fun night out? Join us at San Marzano Wine & Ale Lounge for Game Nights! \n🃏 Play your favorite board games\, card games\, and more while enjoying a night out!  Bring your friends or make new ones—it’s all about good vibes and great times!
URL:https://www.crestlinechamber.org/event/game-nights-%f0%9f%8f%86%f0%9f%8e%b2%e2%99%9f%ef%b8%8f%f0%9f%8e%af%f0%9f%8e%ae/2029-11-01/
LOCATION:The San Marzano Wine & Ale Lounge\, 23575 Lake Dr\, crestline\, CA\, 92325\, United States
CATEGORIES:Community Event,Family Friendly,Lake Gregory
ORGANIZER;CN="San Marzano Wine & Ale Lounge":MAILTO:kenrwilliams@icloud.com
END:VEVENT
BEGIN:VEVENT
DTSTART;TZID=America/Los_Angeles:20291108T180000
DTEND;TZID=America/Los_Angeles:20291108T220000
DTSTAMP:20260424T085048
CREATED:20250127T232001Z
LAST-MODIFIED:20250127T232001Z
UID:10003397-1888855200-1888869600@www.crestlinechamber.org
SUMMARY:Game Nights 🏆🎲♟️🎯🎮
DESCRIPTION:Looking for a fun night out? Join us at San Marzano Wine & Ale Lounge for Game Nights! \n🃏 Play your favorite board games\, card games\, and more while enjoying a night out!  Bring your friends or make new ones—it’s all about good vibes and great times!
URL:https://www.crestlinechamber.org/event/game-nights-%f0%9f%8f%86%f0%9f%8e%b2%e2%99%9f%ef%b8%8f%f0%9f%8e%af%f0%9f%8e%ae/2029-11-08/
LOCATION:The San Marzano Wine & Ale Lounge\, 23575 Lake Dr\, crestline\, CA\, 92325\, United States
CATEGORIES:Community Event,Family Friendly,Lake Gregory
ORGANIZER;CN="San Marzano Wine & Ale Lounge":MAILTO:kenrwilliams@icloud.com
END:VEVENT
BEGIN:VEVENT
DTSTART;TZID=America/Los_Angeles:20291115T180000
DTEND;TZID=America/Los_Angeles:20291115T220000
DTSTAMP:20260424T085048
CREATED:20250127T232001Z
LAST-MODIFIED:20250127T232001Z
UID:10003398-1889460000-1889474400@www.crestlinechamber.org
SUMMARY:Game Nights 🏆🎲♟️🎯🎮
DESCRIPTION:Looking for a fun night out? Join us at San Marzano Wine & Ale Lounge for Game Nights! \n🃏 Play your favorite board games\, card games\, and more while enjoying a night out!  Bring your friends or make new ones—it’s all about good vibes and great times!
URL:https://www.crestlinechamber.org/event/game-nights-%f0%9f%8f%86%f0%9f%8e%b2%e2%99%9f%ef%b8%8f%f0%9f%8e%af%f0%9f%8e%ae/2029-11-15/
LOCATION:The San Marzano Wine & Ale Lounge\, 23575 Lake Dr\, crestline\, CA\, 92325\, United States
CATEGORIES:Community Event,Family Friendly,Lake Gregory
ORGANIZER;CN="San Marzano Wine & Ale Lounge":MAILTO:kenrwilliams@icloud.com
END:VEVENT
END:VCALENDAR