BEGIN:VCALENDAR
VERSION:2.0
PRODID:-//Crestline Chamber of Commerce - ECPv6.15.20//NONSGML v1.0//EN
CALSCALE:GREGORIAN
METHOD:PUBLISH
X-ORIGINAL-URL:https://www.crestlinechamber.org
X-WR-CALDESC:Events for Crestline Chamber of Commerce
REFRESH-INTERVAL;VALUE=DURATION:PT1H
X-Robots-Tag:noindex
X-PUBLISHED-TTL:PT1H
BEGIN:VTIMEZONE
TZID:America/Los_Angeles
BEGIN:DAYLIGHT
TZOFFSETFROM:-0800
TZOFFSETTO:-0700
TZNAME:PDT
DTSTART:20230312T100000
END:DAYLIGHT
BEGIN:STANDARD
TZOFFSETFROM:-0700
TZOFFSETTO:-0800
TZNAME:PST
DTSTART:20231105T090000
END:STANDARD
BEGIN:DAYLIGHT
TZOFFSETFROM:-0800
TZOFFSETTO:-0700
TZNAME:PDT
DTSTART:20240310T100000
END:DAYLIGHT
BEGIN:STANDARD
TZOFFSETFROM:-0700
TZOFFSETTO:-0800
TZNAME:PST
DTSTART:20241103T090000
END:STANDARD
BEGIN:DAYLIGHT
TZOFFSETFROM:-0800
TZOFFSETTO:-0700
TZNAME:PDT
DTSTART:20250309T100000
END:DAYLIGHT
BEGIN:STANDARD
TZOFFSETFROM:-0700
TZOFFSETTO:-0800
TZNAME:PST
DTSTART:20251102T090000
END:STANDARD
BEGIN:DAYLIGHT
TZOFFSETFROM:-0800
TZOFFSETTO:-0700
TZNAME:PDT
DTSTART:20260308T100000
END:DAYLIGHT
BEGIN:STANDARD
TZOFFSETFROM:-0700
TZOFFSETTO:-0800
TZNAME:PST
DTSTART:20261101T090000
END:STANDARD
END:VTIMEZONE
BEGIN:VEVENT
DTSTART;TZID=America/Los_Angeles:20250807T180000
DTEND;TZID=America/Los_Angeles:20250807T220000
DTSTAMP:20260423T184333
CREATED:20250127T232001Z
LAST-MODIFIED:20250127T232001Z
UID:10003175-1754589600-1754604000@www.crestlinechamber.org
SUMMARY:Game Nights 🏆🎲♟️🎯🎮
DESCRIPTION:Looking for a fun night out? Join us at San Marzano Wine & Ale Lounge for Game Nights! \n🃏 Play your favorite board games\, card games\, and more while enjoying a night out!  Bring your friends or make new ones—it’s all about good vibes and great times!
URL:https://www.crestlinechamber.org/event/game-nights-%f0%9f%8f%86%f0%9f%8e%b2%e2%99%9f%ef%b8%8f%f0%9f%8e%af%f0%9f%8e%ae/2025-08-07/
LOCATION:The San Marzano Wine & Ale Lounge\, 23575 Lake Dr\, crestline\, CA\, 92325\, United States
CATEGORIES:Community Event,Family Friendly,Lake Gregory
ORGANIZER;CN="San Marzano Wine & Ale Lounge":MAILTO:kenrwilliams@icloud.com
END:VEVENT
BEGIN:VEVENT
DTSTART;TZID=America/Los_Angeles:20250731T180000
DTEND;TZID=America/Los_Angeles:20250731T220000
DTSTAMP:20260423T184333
CREATED:20250127T232001Z
LAST-MODIFIED:20250127T232001Z
UID:10003174-1753984800-1753999200@www.crestlinechamber.org
SUMMARY:Game Nights 🏆🎲♟️🎯🎮
DESCRIPTION:Looking for a fun night out? Join us at San Marzano Wine & Ale Lounge for Game Nights! \n🃏 Play your favorite board games\, card games\, and more while enjoying a night out!  Bring your friends or make new ones—it’s all about good vibes and great times!
URL:https://www.crestlinechamber.org/event/game-nights-%f0%9f%8f%86%f0%9f%8e%b2%e2%99%9f%ef%b8%8f%f0%9f%8e%af%f0%9f%8e%ae/2025-07-31/
LOCATION:The San Marzano Wine & Ale Lounge\, 23575 Lake Dr\, crestline\, CA\, 92325\, United States
CATEGORIES:Community Event,Family Friendly,Lake Gregory
ORGANIZER;CN="San Marzano Wine & Ale Lounge":MAILTO:kenrwilliams@icloud.com
END:VEVENT
BEGIN:VEVENT
DTSTART;TZID=America/Los_Angeles:20250724T180000
DTEND;TZID=America/Los_Angeles:20250724T220000
DTSTAMP:20260423T184333
CREATED:20250127T232001Z
LAST-MODIFIED:20250127T232001Z
UID:10003173-1753380000-1753394400@www.crestlinechamber.org
SUMMARY:Game Nights 🏆🎲♟️🎯🎮
DESCRIPTION:Looking for a fun night out? Join us at San Marzano Wine & Ale Lounge for Game Nights! \n🃏 Play your favorite board games\, card games\, and more while enjoying a night out!  Bring your friends or make new ones—it’s all about good vibes and great times!
URL:https://www.crestlinechamber.org/event/game-nights-%f0%9f%8f%86%f0%9f%8e%b2%e2%99%9f%ef%b8%8f%f0%9f%8e%af%f0%9f%8e%ae/2025-07-24/
LOCATION:The San Marzano Wine & Ale Lounge\, 23575 Lake Dr\, crestline\, CA\, 92325\, United States
CATEGORIES:Community Event,Family Friendly,Lake Gregory
ORGANIZER;CN="San Marzano Wine & Ale Lounge":MAILTO:kenrwilliams@icloud.com
END:VEVENT
BEGIN:VEVENT
DTSTART;TZID=America/Los_Angeles:20250717T180000
DTEND;TZID=America/Los_Angeles:20250717T220000
DTSTAMP:20260423T184333
CREATED:20250127T232001Z
LAST-MODIFIED:20250127T232001Z
UID:10003172-1752775200-1752789600@www.crestlinechamber.org
SUMMARY:Game Nights 🏆🎲♟️🎯🎮
DESCRIPTION:Looking for a fun night out? Join us at San Marzano Wine & Ale Lounge for Game Nights! \n🃏 Play your favorite board games\, card games\, and more while enjoying a night out!  Bring your friends or make new ones—it’s all about good vibes and great times!
URL:https://www.crestlinechamber.org/event/game-nights-%f0%9f%8f%86%f0%9f%8e%b2%e2%99%9f%ef%b8%8f%f0%9f%8e%af%f0%9f%8e%ae/2025-07-17/
LOCATION:The San Marzano Wine & Ale Lounge\, 23575 Lake Dr\, crestline\, CA\, 92325\, United States
CATEGORIES:Community Event,Family Friendly,Lake Gregory
ORGANIZER;CN="San Marzano Wine & Ale Lounge":MAILTO:kenrwilliams@icloud.com
END:VEVENT
BEGIN:VEVENT
DTSTART;TZID=America/Los_Angeles:20250710T180000
DTEND;TZID=America/Los_Angeles:20250710T220000
DTSTAMP:20260423T184333
CREATED:20250127T232001Z
LAST-MODIFIED:20250127T232001Z
UID:10003171-1752170400-1752184800@www.crestlinechamber.org
SUMMARY:Game Nights 🏆🎲♟️🎯🎮
DESCRIPTION:Looking for a fun night out? Join us at San Marzano Wine & Ale Lounge for Game Nights! \n🃏 Play your favorite board games\, card games\, and more while enjoying a night out!  Bring your friends or make new ones—it’s all about good vibes and great times!
URL:https://www.crestlinechamber.org/event/game-nights-%f0%9f%8f%86%f0%9f%8e%b2%e2%99%9f%ef%b8%8f%f0%9f%8e%af%f0%9f%8e%ae/2025-07-10/
LOCATION:The San Marzano Wine & Ale Lounge\, 23575 Lake Dr\, crestline\, CA\, 92325\, United States
CATEGORIES:Community Event,Family Friendly,Lake Gregory
ORGANIZER;CN="San Marzano Wine & Ale Lounge":MAILTO:kenrwilliams@icloud.com
END:VEVENT
BEGIN:VEVENT
DTSTART;TZID=America/Los_Angeles:20250703T180000
DTEND;TZID=America/Los_Angeles:20250703T220000
DTSTAMP:20260423T184333
CREATED:20250127T232001Z
LAST-MODIFIED:20250127T232001Z
UID:10003170-1751565600-1751580000@www.crestlinechamber.org
SUMMARY:Game Nights 🏆🎲♟️🎯🎮
DESCRIPTION:Looking for a fun night out? Join us at San Marzano Wine & Ale Lounge for Game Nights! \n🃏 Play your favorite board games\, card games\, and more while enjoying a night out!  Bring your friends or make new ones—it’s all about good vibes and great times!
URL:https://www.crestlinechamber.org/event/game-nights-%f0%9f%8f%86%f0%9f%8e%b2%e2%99%9f%ef%b8%8f%f0%9f%8e%af%f0%9f%8e%ae/2025-07-03/
LOCATION:The San Marzano Wine & Ale Lounge\, 23575 Lake Dr\, crestline\, CA\, 92325\, United States
CATEGORIES:Community Event,Family Friendly,Lake Gregory
ORGANIZER;CN="San Marzano Wine & Ale Lounge":MAILTO:kenrwilliams@icloud.com
END:VEVENT
BEGIN:VEVENT
DTSTART;TZID=America/Los_Angeles:20250626T180000
DTEND;TZID=America/Los_Angeles:20250626T220000
DTSTAMP:20260423T184333
CREATED:20250127T232001Z
LAST-MODIFIED:20250127T232001Z
UID:10003169-1750960800-1750975200@www.crestlinechamber.org
SUMMARY:Game Nights 🏆🎲♟️🎯🎮
DESCRIPTION:Looking for a fun night out? Join us at San Marzano Wine & Ale Lounge for Game Nights! \n🃏 Play your favorite board games\, card games\, and more while enjoying a night out!  Bring your friends or make new ones—it’s all about good vibes and great times!
URL:https://www.crestlinechamber.org/event/game-nights-%f0%9f%8f%86%f0%9f%8e%b2%e2%99%9f%ef%b8%8f%f0%9f%8e%af%f0%9f%8e%ae/2025-06-26/
LOCATION:The San Marzano Wine & Ale Lounge\, 23575 Lake Dr\, crestline\, CA\, 92325\, United States
CATEGORIES:Community Event,Family Friendly,Lake Gregory
ORGANIZER;CN="San Marzano Wine & Ale Lounge":MAILTO:kenrwilliams@icloud.com
END:VEVENT
BEGIN:VEVENT
DTSTART;TZID=America/Los_Angeles:20250619T180000
DTEND;TZID=America/Los_Angeles:20250619T220000
DTSTAMP:20260423T184333
CREATED:20250127T232001Z
LAST-MODIFIED:20250127T232001Z
UID:10003168-1750356000-1750370400@www.crestlinechamber.org
SUMMARY:Game Nights 🏆🎲♟️🎯🎮
DESCRIPTION:Looking for a fun night out? Join us at San Marzano Wine & Ale Lounge for Game Nights! \n🃏 Play your favorite board games\, card games\, and more while enjoying a night out!  Bring your friends or make new ones—it’s all about good vibes and great times!
URL:https://www.crestlinechamber.org/event/game-nights-%f0%9f%8f%86%f0%9f%8e%b2%e2%99%9f%ef%b8%8f%f0%9f%8e%af%f0%9f%8e%ae/2025-06-19/
LOCATION:The San Marzano Wine & Ale Lounge\, 23575 Lake Dr\, crestline\, CA\, 92325\, United States
CATEGORIES:Community Event,Family Friendly,Lake Gregory
ORGANIZER;CN="San Marzano Wine & Ale Lounge":MAILTO:kenrwilliams@icloud.com
END:VEVENT
BEGIN:VEVENT
DTSTART;TZID=America/Los_Angeles:20250612T180000
DTEND;TZID=America/Los_Angeles:20250612T220000
DTSTAMP:20260423T184333
CREATED:20250127T232001Z
LAST-MODIFIED:20250127T232001Z
UID:10003167-1749751200-1749765600@www.crestlinechamber.org
SUMMARY:Game Nights 🏆🎲♟️🎯🎮
DESCRIPTION:Looking for a fun night out? Join us at San Marzano Wine & Ale Lounge for Game Nights! \n🃏 Play your favorite board games\, card games\, and more while enjoying a night out!  Bring your friends or make new ones—it’s all about good vibes and great times!
URL:https://www.crestlinechamber.org/event/game-nights-%f0%9f%8f%86%f0%9f%8e%b2%e2%99%9f%ef%b8%8f%f0%9f%8e%af%f0%9f%8e%ae/2025-06-12/
LOCATION:The San Marzano Wine & Ale Lounge\, 23575 Lake Dr\, crestline\, CA\, 92325\, United States
CATEGORIES:Community Event,Family Friendly,Lake Gregory
ORGANIZER;CN="San Marzano Wine & Ale Lounge":MAILTO:kenrwilliams@icloud.com
END:VEVENT
BEGIN:VEVENT
DTSTART;TZID=America/Los_Angeles:20250605T180000
DTEND;TZID=America/Los_Angeles:20250605T220000
DTSTAMP:20260423T184333
CREATED:20250127T232001Z
LAST-MODIFIED:20250127T232001Z
UID:10003166-1749146400-1749160800@www.crestlinechamber.org
SUMMARY:Game Nights 🏆🎲♟️🎯🎮
DESCRIPTION:Looking for a fun night out? Join us at San Marzano Wine & Ale Lounge for Game Nights! \n🃏 Play your favorite board games\, card games\, and more while enjoying a night out!  Bring your friends or make new ones—it’s all about good vibes and great times!
URL:https://www.crestlinechamber.org/event/game-nights-%f0%9f%8f%86%f0%9f%8e%b2%e2%99%9f%ef%b8%8f%f0%9f%8e%af%f0%9f%8e%ae/2025-06-05/
LOCATION:The San Marzano Wine & Ale Lounge\, 23575 Lake Dr\, crestline\, CA\, 92325\, United States
CATEGORIES:Community Event,Family Friendly,Lake Gregory
ORGANIZER;CN="San Marzano Wine & Ale Lounge":MAILTO:kenrwilliams@icloud.com
END:VEVENT
BEGIN:VEVENT
DTSTART;TZID=America/Los_Angeles:20250529T180000
DTEND;TZID=America/Los_Angeles:20250529T220000
DTSTAMP:20260423T184333
CREATED:20250127T232001Z
LAST-MODIFIED:20250127T232001Z
UID:10003165-1748541600-1748556000@www.crestlinechamber.org
SUMMARY:Game Nights 🏆🎲♟️🎯🎮
DESCRIPTION:Looking for a fun night out? Join us at San Marzano Wine & Ale Lounge for Game Nights! \n🃏 Play your favorite board games\, card games\, and more while enjoying a night out!  Bring your friends or make new ones—it’s all about good vibes and great times!
URL:https://www.crestlinechamber.org/event/game-nights-%f0%9f%8f%86%f0%9f%8e%b2%e2%99%9f%ef%b8%8f%f0%9f%8e%af%f0%9f%8e%ae/2025-05-29/
LOCATION:The San Marzano Wine & Ale Lounge\, 23575 Lake Dr\, crestline\, CA\, 92325\, United States
CATEGORIES:Community Event,Family Friendly,Lake Gregory
ORGANIZER;CN="San Marzano Wine & Ale Lounge":MAILTO:kenrwilliams@icloud.com
END:VEVENT
BEGIN:VEVENT
DTSTART;TZID=America/Los_Angeles:20250522T180000
DTEND;TZID=America/Los_Angeles:20250522T220000
DTSTAMP:20260423T184333
CREATED:20250127T232001Z
LAST-MODIFIED:20250127T232001Z
UID:10003164-1747936800-1747951200@www.crestlinechamber.org
SUMMARY:Game Nights 🏆🎲♟️🎯🎮
DESCRIPTION:Looking for a fun night out? Join us at San Marzano Wine & Ale Lounge for Game Nights! \n🃏 Play your favorite board games\, card games\, and more while enjoying a night out!  Bring your friends or make new ones—it’s all about good vibes and great times!
URL:https://www.crestlinechamber.org/event/game-nights-%f0%9f%8f%86%f0%9f%8e%b2%e2%99%9f%ef%b8%8f%f0%9f%8e%af%f0%9f%8e%ae/2025-05-22/
LOCATION:The San Marzano Wine & Ale Lounge\, 23575 Lake Dr\, crestline\, CA\, 92325\, United States
CATEGORIES:Community Event,Family Friendly,Lake Gregory
ORGANIZER;CN="San Marzano Wine & Ale Lounge":MAILTO:kenrwilliams@icloud.com
END:VEVENT
BEGIN:VEVENT
DTSTART;TZID=America/Los_Angeles:20250515T180000
DTEND;TZID=America/Los_Angeles:20250515T220000
DTSTAMP:20260423T184333
CREATED:20250127T232001Z
LAST-MODIFIED:20250127T232001Z
UID:10003163-1747332000-1747346400@www.crestlinechamber.org
SUMMARY:Game Nights 🏆🎲♟️🎯🎮
DESCRIPTION:Looking for a fun night out? Join us at San Marzano Wine & Ale Lounge for Game Nights! \n🃏 Play your favorite board games\, card games\, and more while enjoying a night out!  Bring your friends or make new ones—it’s all about good vibes and great times!
URL:https://www.crestlinechamber.org/event/game-nights-%f0%9f%8f%86%f0%9f%8e%b2%e2%99%9f%ef%b8%8f%f0%9f%8e%af%f0%9f%8e%ae/2025-05-15/
LOCATION:The San Marzano Wine & Ale Lounge\, 23575 Lake Dr\, crestline\, CA\, 92325\, United States
CATEGORIES:Community Event,Family Friendly,Lake Gregory
ORGANIZER;CN="San Marzano Wine & Ale Lounge":MAILTO:kenrwilliams@icloud.com
END:VEVENT
BEGIN:VEVENT
DTSTART;TZID=America/Los_Angeles:20250508T180000
DTEND;TZID=America/Los_Angeles:20250508T220000
DTSTAMP:20260423T184333
CREATED:20250127T232001Z
LAST-MODIFIED:20250127T232001Z
UID:10003162-1746727200-1746741600@www.crestlinechamber.org
SUMMARY:Game Nights 🏆🎲♟️🎯🎮
DESCRIPTION:Looking for a fun night out? Join us at San Marzano Wine & Ale Lounge for Game Nights! \n🃏 Play your favorite board games\, card games\, and more while enjoying a night out!  Bring your friends or make new ones—it’s all about good vibes and great times!
URL:https://www.crestlinechamber.org/event/game-nights-%f0%9f%8f%86%f0%9f%8e%b2%e2%99%9f%ef%b8%8f%f0%9f%8e%af%f0%9f%8e%ae/2025-05-08/
LOCATION:The San Marzano Wine & Ale Lounge\, 23575 Lake Dr\, crestline\, CA\, 92325\, United States
CATEGORIES:Community Event,Family Friendly,Lake Gregory
ORGANIZER;CN="San Marzano Wine & Ale Lounge":MAILTO:kenrwilliams@icloud.com
END:VEVENT
BEGIN:VEVENT
DTSTART;TZID=America/Los_Angeles:20250501T180000
DTEND;TZID=America/Los_Angeles:20250501T220000
DTSTAMP:20260423T184333
CREATED:20250127T232001Z
LAST-MODIFIED:20250127T232001Z
UID:10003161-1746122400-1746136800@www.crestlinechamber.org
SUMMARY:Game Nights 🏆🎲♟️🎯🎮
DESCRIPTION:Looking for a fun night out? Join us at San Marzano Wine & Ale Lounge for Game Nights! \n🃏 Play your favorite board games\, card games\, and more while enjoying a night out!  Bring your friends or make new ones—it’s all about good vibes and great times!
URL:https://www.crestlinechamber.org/event/game-nights-%f0%9f%8f%86%f0%9f%8e%b2%e2%99%9f%ef%b8%8f%f0%9f%8e%af%f0%9f%8e%ae/2025-05-01/
LOCATION:The San Marzano Wine & Ale Lounge\, 23575 Lake Dr\, crestline\, CA\, 92325\, United States
CATEGORIES:Community Event,Family Friendly,Lake Gregory
ORGANIZER;CN="San Marzano Wine & Ale Lounge":MAILTO:kenrwilliams@icloud.com
END:VEVENT
BEGIN:VEVENT
DTSTART;TZID=America/Los_Angeles:20250424T180000
DTEND;TZID=America/Los_Angeles:20250424T220000
DTSTAMP:20260423T184333
CREATED:20250127T232001Z
LAST-MODIFIED:20250127T232001Z
UID:10003160-1745517600-1745532000@www.crestlinechamber.org
SUMMARY:Game Nights 🏆🎲♟️🎯🎮
DESCRIPTION:Looking for a fun night out? Join us at San Marzano Wine & Ale Lounge for Game Nights! \n🃏 Play your favorite board games\, card games\, and more while enjoying a night out!  Bring your friends or make new ones—it’s all about good vibes and great times!
URL:https://www.crestlinechamber.org/event/game-nights-%f0%9f%8f%86%f0%9f%8e%b2%e2%99%9f%ef%b8%8f%f0%9f%8e%af%f0%9f%8e%ae/2025-04-24/
LOCATION:The San Marzano Wine & Ale Lounge\, 23575 Lake Dr\, crestline\, CA\, 92325\, United States
CATEGORIES:Community Event,Family Friendly,Lake Gregory
ORGANIZER;CN="San Marzano Wine & Ale Lounge":MAILTO:kenrwilliams@icloud.com
END:VEVENT
BEGIN:VEVENT
DTSTART;TZID=America/Los_Angeles:20250417T180000
DTEND;TZID=America/Los_Angeles:20250417T220000
DTSTAMP:20260423T184333
CREATED:20250127T232001Z
LAST-MODIFIED:20250127T232001Z
UID:10003159-1744912800-1744927200@www.crestlinechamber.org
SUMMARY:Game Nights 🏆🎲♟️🎯🎮
DESCRIPTION:Looking for a fun night out? Join us at San Marzano Wine & Ale Lounge for Game Nights! \n🃏 Play your favorite board games\, card games\, and more while enjoying a night out!  Bring your friends or make new ones—it’s all about good vibes and great times!
URL:https://www.crestlinechamber.org/event/game-nights-%f0%9f%8f%86%f0%9f%8e%b2%e2%99%9f%ef%b8%8f%f0%9f%8e%af%f0%9f%8e%ae/2025-04-17/
LOCATION:The San Marzano Wine & Ale Lounge\, 23575 Lake Dr\, crestline\, CA\, 92325\, United States
CATEGORIES:Community Event,Family Friendly,Lake Gregory
ORGANIZER;CN="San Marzano Wine & Ale Lounge":MAILTO:kenrwilliams@icloud.com
END:VEVENT
BEGIN:VEVENT
DTSTART;TZID=America/Los_Angeles:20250410T180000
DTEND;TZID=America/Los_Angeles:20250410T220000
DTSTAMP:20260423T184333
CREATED:20250127T232001Z
LAST-MODIFIED:20250127T232001Z
UID:10003158-1744308000-1744322400@www.crestlinechamber.org
SUMMARY:Game Nights 🏆🎲♟️🎯🎮
DESCRIPTION:Looking for a fun night out? Join us at San Marzano Wine & Ale Lounge for Game Nights! \n🃏 Play your favorite board games\, card games\, and more while enjoying a night out!  Bring your friends or make new ones—it’s all about good vibes and great times!
URL:https://www.crestlinechamber.org/event/game-nights-%f0%9f%8f%86%f0%9f%8e%b2%e2%99%9f%ef%b8%8f%f0%9f%8e%af%f0%9f%8e%ae/2025-04-10/
LOCATION:The San Marzano Wine & Ale Lounge\, 23575 Lake Dr\, crestline\, CA\, 92325\, United States
CATEGORIES:Community Event,Family Friendly,Lake Gregory
ORGANIZER;CN="San Marzano Wine & Ale Lounge":MAILTO:kenrwilliams@icloud.com
END:VEVENT
BEGIN:VEVENT
DTSTART;TZID=America/Los_Angeles:20250403T180000
DTEND;TZID=America/Los_Angeles:20250403T220000
DTSTAMP:20260423T184333
CREATED:20250127T232001Z
LAST-MODIFIED:20250127T232001Z
UID:10003157-1743703200-1743717600@www.crestlinechamber.org
SUMMARY:Game Nights 🏆🎲♟️🎯🎮
DESCRIPTION:Looking for a fun night out? Join us at San Marzano Wine & Ale Lounge for Game Nights! \n🃏 Play your favorite board games\, card games\, and more while enjoying a night out!  Bring your friends or make new ones—it’s all about good vibes and great times!
URL:https://www.crestlinechamber.org/event/game-nights-%f0%9f%8f%86%f0%9f%8e%b2%e2%99%9f%ef%b8%8f%f0%9f%8e%af%f0%9f%8e%ae/2025-04-03/
LOCATION:The San Marzano Wine & Ale Lounge\, 23575 Lake Dr\, crestline\, CA\, 92325\, United States
CATEGORIES:Community Event,Family Friendly,Lake Gregory
ORGANIZER;CN="San Marzano Wine & Ale Lounge":MAILTO:kenrwilliams@icloud.com
END:VEVENT
BEGIN:VEVENT
DTSTART;TZID=America/Los_Angeles:20250327T180000
DTEND;TZID=America/Los_Angeles:20250327T220000
DTSTAMP:20260423T184333
CREATED:20250127T232001Z
LAST-MODIFIED:20250127T232001Z
UID:10003156-1743098400-1743112800@www.crestlinechamber.org
SUMMARY:Game Nights 🏆🎲♟️🎯🎮
DESCRIPTION:Looking for a fun night out? Join us at San Marzano Wine & Ale Lounge for Game Nights! \n🃏 Play your favorite board games\, card games\, and more while enjoying a night out!  Bring your friends or make new ones—it’s all about good vibes and great times!
URL:https://www.crestlinechamber.org/event/game-nights-%f0%9f%8f%86%f0%9f%8e%b2%e2%99%9f%ef%b8%8f%f0%9f%8e%af%f0%9f%8e%ae/2025-03-27/
LOCATION:The San Marzano Wine & Ale Lounge\, 23575 Lake Dr\, crestline\, CA\, 92325\, United States
CATEGORIES:Community Event,Family Friendly,Lake Gregory
ORGANIZER;CN="San Marzano Wine & Ale Lounge":MAILTO:kenrwilliams@icloud.com
END:VEVENT
BEGIN:VEVENT
DTSTART;TZID=America/Los_Angeles:20250320T180000
DTEND;TZID=America/Los_Angeles:20250320T220000
DTSTAMP:20260423T184333
CREATED:20250127T232001Z
LAST-MODIFIED:20250127T232001Z
UID:10003155-1742493600-1742508000@www.crestlinechamber.org
SUMMARY:Game Nights 🏆🎲♟️🎯🎮
DESCRIPTION:Looking for a fun night out? Join us at San Marzano Wine & Ale Lounge for Game Nights! \n🃏 Play your favorite board games\, card games\, and more while enjoying a night out!  Bring your friends or make new ones—it’s all about good vibes and great times!
URL:https://www.crestlinechamber.org/event/game-nights-%f0%9f%8f%86%f0%9f%8e%b2%e2%99%9f%ef%b8%8f%f0%9f%8e%af%f0%9f%8e%ae/2025-03-20/
LOCATION:The San Marzano Wine & Ale Lounge\, 23575 Lake Dr\, crestline\, CA\, 92325\, United States
CATEGORIES:Community Event,Family Friendly,Lake Gregory
ORGANIZER;CN="San Marzano Wine & Ale Lounge":MAILTO:kenrwilliams@icloud.com
END:VEVENT
BEGIN:VEVENT
DTSTART;TZID=America/Los_Angeles:20250313T180000
DTEND;TZID=America/Los_Angeles:20250313T220000
DTSTAMP:20260423T184333
CREATED:20250127T232001Z
LAST-MODIFIED:20250127T232001Z
UID:10003154-1741888800-1741903200@www.crestlinechamber.org
SUMMARY:Game Nights 🏆🎲♟️🎯🎮
DESCRIPTION:Looking for a fun night out? Join us at San Marzano Wine & Ale Lounge for Game Nights! \n🃏 Play your favorite board games\, card games\, and more while enjoying a night out!  Bring your friends or make new ones—it’s all about good vibes and great times!
URL:https://www.crestlinechamber.org/event/game-nights-%f0%9f%8f%86%f0%9f%8e%b2%e2%99%9f%ef%b8%8f%f0%9f%8e%af%f0%9f%8e%ae/2025-03-13/
LOCATION:The San Marzano Wine & Ale Lounge\, 23575 Lake Dr\, crestline\, CA\, 92325\, United States
CATEGORIES:Community Event,Family Friendly,Lake Gregory
ORGANIZER;CN="San Marzano Wine & Ale Lounge":MAILTO:kenrwilliams@icloud.com
END:VEVENT
BEGIN:VEVENT
DTSTART;TZID=America/Los_Angeles:20250306T180000
DTEND;TZID=America/Los_Angeles:20250306T220000
DTSTAMP:20260423T184333
CREATED:20250127T232001Z
LAST-MODIFIED:20250127T232001Z
UID:10003153-1741284000-1741298400@www.crestlinechamber.org
SUMMARY:Game Nights 🏆🎲♟️🎯🎮
DESCRIPTION:Looking for a fun night out? Join us at San Marzano Wine & Ale Lounge for Game Nights! \n🃏 Play your favorite board games\, card games\, and more while enjoying a night out!  Bring your friends or make new ones—it’s all about good vibes and great times!
URL:https://www.crestlinechamber.org/event/game-nights-%f0%9f%8f%86%f0%9f%8e%b2%e2%99%9f%ef%b8%8f%f0%9f%8e%af%f0%9f%8e%ae/2025-03-06/
LOCATION:The San Marzano Wine & Ale Lounge\, 23575 Lake Dr\, crestline\, CA\, 92325\, United States
CATEGORIES:Community Event,Family Friendly,Lake Gregory
ORGANIZER;CN="San Marzano Wine & Ale Lounge":MAILTO:kenrwilliams@icloud.com
END:VEVENT
BEGIN:VEVENT
DTSTART;TZID=America/Los_Angeles:20250227T180000
DTEND;TZID=America/Los_Angeles:20250227T220000
DTSTAMP:20260423T184333
CREATED:20250127T232001Z
LAST-MODIFIED:20250127T232001Z
UID:10003152-1740679200-1740693600@www.crestlinechamber.org
SUMMARY:Game Nights 🏆🎲♟️🎯🎮
DESCRIPTION:Looking for a fun night out? Join us at San Marzano Wine & Ale Lounge for Game Nights! \n🃏 Play your favorite board games\, card games\, and more while enjoying a night out!  Bring your friends or make new ones—it’s all about good vibes and great times!
URL:https://www.crestlinechamber.org/event/game-nights-%f0%9f%8f%86%f0%9f%8e%b2%e2%99%9f%ef%b8%8f%f0%9f%8e%af%f0%9f%8e%ae/2025-02-27/
LOCATION:The San Marzano Wine & Ale Lounge\, 23575 Lake Dr\, crestline\, CA\, 92325\, United States
CATEGORIES:Community Event,Family Friendly,Lake Gregory
ORGANIZER;CN="San Marzano Wine & Ale Lounge":MAILTO:kenrwilliams@icloud.com
END:VEVENT
BEGIN:VEVENT
DTSTART;TZID=America/Los_Angeles:20250220T180000
DTEND;TZID=America/Los_Angeles:20250220T220000
DTSTAMP:20260423T184333
CREATED:20250127T232001Z
LAST-MODIFIED:20250127T232001Z
UID:10003151-1740074400-1740088800@www.crestlinechamber.org
SUMMARY:Game Nights 🏆🎲♟️🎯🎮
DESCRIPTION:Looking for a fun night out? Join us at San Marzano Wine & Ale Lounge for Game Nights! \n🃏 Play your favorite board games\, card games\, and more while enjoying a night out!  Bring your friends or make new ones—it’s all about good vibes and great times!
URL:https://www.crestlinechamber.org/event/game-nights-%f0%9f%8f%86%f0%9f%8e%b2%e2%99%9f%ef%b8%8f%f0%9f%8e%af%f0%9f%8e%ae/2025-02-20/
LOCATION:The San Marzano Wine & Ale Lounge\, 23575 Lake Dr\, crestline\, CA\, 92325\, United States
CATEGORIES:Community Event,Family Friendly,Lake Gregory
ORGANIZER;CN="San Marzano Wine & Ale Lounge":MAILTO:kenrwilliams@icloud.com
END:VEVENT
BEGIN:VEVENT
DTSTART;TZID=America/Los_Angeles:20250213T180000
DTEND;TZID=America/Los_Angeles:20250213T220000
DTSTAMP:20260423T184333
CREATED:20250127T232001Z
LAST-MODIFIED:20250127T232001Z
UID:10003150-1739469600-1739484000@www.crestlinechamber.org
SUMMARY:Game Nights 🏆🎲♟️🎯🎮
DESCRIPTION:Looking for a fun night out? Join us at San Marzano Wine & Ale Lounge for Game Nights! \n🃏 Play your favorite board games\, card games\, and more while enjoying a night out!  Bring your friends or make new ones—it’s all about good vibes and great times!
URL:https://www.crestlinechamber.org/event/game-nights-%f0%9f%8f%86%f0%9f%8e%b2%e2%99%9f%ef%b8%8f%f0%9f%8e%af%f0%9f%8e%ae/2025-02-13/
LOCATION:The San Marzano Wine & Ale Lounge\, 23575 Lake Dr\, crestline\, CA\, 92325\, United States
CATEGORIES:Community Event,Family Friendly,Lake Gregory
ORGANIZER;CN="San Marzano Wine & Ale Lounge":MAILTO:kenrwilliams@icloud.com
END:VEVENT
BEGIN:VEVENT
DTSTART;TZID=America/Los_Angeles:20250206T180000
DTEND;TZID=America/Los_Angeles:20250206T220000
DTSTAMP:20260423T184333
CREATED:20250127T232001Z
LAST-MODIFIED:20250127T232001Z
UID:10003149-1738864800-1738879200@www.crestlinechamber.org
SUMMARY:Game Nights 🏆🎲♟️🎯🎮
DESCRIPTION:Looking for a fun night out? Join us at San Marzano Wine & Ale Lounge for Game Nights! \n🃏 Play your favorite board games\, card games\, and more while enjoying a night out!  Bring your friends or make new ones—it’s all about good vibes and great times!
URL:https://www.crestlinechamber.org/event/game-nights-%f0%9f%8f%86%f0%9f%8e%b2%e2%99%9f%ef%b8%8f%f0%9f%8e%af%f0%9f%8e%ae/2025-02-06/
LOCATION:The San Marzano Wine & Ale Lounge\, 23575 Lake Dr\, crestline\, CA\, 92325\, United States
CATEGORIES:Community Event,Family Friendly,Lake Gregory
ORGANIZER;CN="San Marzano Wine & Ale Lounge":MAILTO:kenrwilliams@icloud.com
END:VEVENT
BEGIN:VEVENT
DTSTART;TZID=America/Los_Angeles:20250130T180000
DTEND;TZID=America/Los_Angeles:20250130T220000
DTSTAMP:20260423T184333
CREATED:20250127T232001Z
LAST-MODIFIED:20250127T232001Z
UID:10003148-1738260000-1738274400@www.crestlinechamber.org
SUMMARY:Game Nights 🏆🎲♟️🎯🎮
DESCRIPTION:Looking for a fun night out? Join us at San Marzano Wine & Ale Lounge for Game Nights! \n🃏 Play your favorite board games\, card games\, and more while enjoying a night out!  Bring your friends or make new ones—it’s all about good vibes and great times!
URL:https://www.crestlinechamber.org/event/game-nights-%f0%9f%8f%86%f0%9f%8e%b2%e2%99%9f%ef%b8%8f%f0%9f%8e%af%f0%9f%8e%ae/2025-01-30/
LOCATION:The San Marzano Wine & Ale Lounge\, 23575 Lake Dr\, crestline\, CA\, 92325\, United States
CATEGORIES:Community Event,Family Friendly,Lake Gregory
ORGANIZER;CN="San Marzano Wine & Ale Lounge":MAILTO:kenrwilliams@icloud.com
END:VEVENT
BEGIN:VEVENT
DTSTART;TZID=America/Los_Angeles:20240505T190000
DTEND;TZID=America/Los_Angeles:20240505T220000
DTSTAMP:20260423T184333
CREATED:20240422T171436Z
LAST-MODIFIED:20240422T171436Z
UID:10001305-1714935600-1714946400@www.crestlinechamber.org
SUMMARY:Hot Wings Challenge at San Marzano - May 3\, 4\, and 5
DESCRIPTION:May 3\, 4 or 5th from 7pm until 10pm \nBack by popular demand\, this second round introduces 10 new hot sauces; from classic rojo\, to savory chocolate & ghost pepper\, dabble in the tangy lemon pepper or the hopped watermelon ghost with el dorado hops\, try all 10 if you dare. Will you be one of the round two champions? \nTickets are available online or by calling us at 951-977-5290. RSVP today! \nTicket includes; 10 Wings in 10 different hot sauces\, side dishes and unlimited draft beer samples. \nAll new for this round\, choose from classic bone in wings\, or a veggie chili challenge.
URL:https://www.crestlinechamber.org/event/hot-wings-challenge-at-san-marzano-may-3-4-and-5/2024-05-05/
LOCATION:The San Marzano Wine & Ale Lounge\, 23575 Lake Dr\, crestline\, CA\, 92325\, United States
CATEGORIES:Community Event
ORGANIZER;CN="San Marzano Wine & Ale Lounge":MAILTO:kenrwilliams@icloud.com
END:VEVENT
BEGIN:VEVENT
DTSTART;TZID=America/Los_Angeles:20240504T190000
DTEND;TZID=America/Los_Angeles:20240504T220000
DTSTAMP:20260423T184333
CREATED:20240422T171436Z
LAST-MODIFIED:20240422T171436Z
UID:10001304-1714849200-1714860000@www.crestlinechamber.org
SUMMARY:Hot Wings Challenge at San Marzano - May 3\, 4\, and 5
DESCRIPTION:May 3\, 4 or 5th from 7pm until 10pm \nBack by popular demand\, this second round introduces 10 new hot sauces; from classic rojo\, to savory chocolate & ghost pepper\, dabble in the tangy lemon pepper or the hopped watermelon ghost with el dorado hops\, try all 10 if you dare. Will you be one of the round two champions? \nTickets are available online or by calling us at 951-977-5290. RSVP today! \nTicket includes; 10 Wings in 10 different hot sauces\, side dishes and unlimited draft beer samples. \nAll new for this round\, choose from classic bone in wings\, or a veggie chili challenge.
URL:https://www.crestlinechamber.org/event/hot-wings-challenge-at-san-marzano-may-3-4-and-5/2024-05-04/
LOCATION:The San Marzano Wine & Ale Lounge\, 23575 Lake Dr\, crestline\, CA\, 92325\, United States
CATEGORIES:Community Event
ORGANIZER;CN="San Marzano Wine & Ale Lounge":MAILTO:kenrwilliams@icloud.com
END:VEVENT
END:VCALENDAR