BEGIN:VCALENDAR
VERSION:2.0
PRODID:-//Crestline Chamber of Commerce - ECPv6.15.20//NONSGML v1.0//EN
CALSCALE:GREGORIAN
METHOD:PUBLISH
X-WR-CALNAME:Crestline Chamber of Commerce
X-ORIGINAL-URL:https://www.crestlinechamber.org
X-WR-CALDESC:Events for Crestline Chamber of Commerce
REFRESH-INTERVAL;VALUE=DURATION:PT1H
X-Robots-Tag:noindex
X-PUBLISHED-TTL:PT1H
BEGIN:VTIMEZONE
TZID:America/Los_Angeles
BEGIN:DAYLIGHT
TZOFFSETFROM:-0800
TZOFFSETTO:-0700
TZNAME:PDT
DTSTART:20230312T100000
END:DAYLIGHT
BEGIN:STANDARD
TZOFFSETFROM:-0700
TZOFFSETTO:-0800
TZNAME:PST
DTSTART:20231105T090000
END:STANDARD
BEGIN:DAYLIGHT
TZOFFSETFROM:-0800
TZOFFSETTO:-0700
TZNAME:PDT
DTSTART:20240310T100000
END:DAYLIGHT
BEGIN:STANDARD
TZOFFSETFROM:-0700
TZOFFSETTO:-0800
TZNAME:PST
DTSTART:20241103T090000
END:STANDARD
BEGIN:DAYLIGHT
TZOFFSETFROM:-0800
TZOFFSETTO:-0700
TZNAME:PDT
DTSTART:20250309T100000
END:DAYLIGHT
BEGIN:STANDARD
TZOFFSETFROM:-0700
TZOFFSETTO:-0800
TZNAME:PST
DTSTART:20251102T090000
END:STANDARD
BEGIN:DAYLIGHT
TZOFFSETFROM:-0800
TZOFFSETTO:-0700
TZNAME:PDT
DTSTART:20260308T100000
END:DAYLIGHT
BEGIN:STANDARD
TZOFFSETFROM:-0700
TZOFFSETTO:-0800
TZNAME:PST
DTSTART:20261101T090000
END:STANDARD
END:VTIMEZONE
BEGIN:VEVENT
DTSTART;TZID=America/Los_Angeles:20250227T180000
DTEND;TZID=America/Los_Angeles:20250227T220000
DTSTAMP:20260423T233605
CREATED:20250127T232001Z
LAST-MODIFIED:20250127T232001Z
UID:10003152-1740679200-1740693600@www.crestlinechamber.org
SUMMARY:Game Nights 🏆🎲♟️🎯🎮
DESCRIPTION:Looking for a fun night out? Join us at San Marzano Wine & Ale Lounge for Game Nights! \n🃏 Play your favorite board games\, card games\, and more while enjoying a night out!  Bring your friends or make new ones—it’s all about good vibes and great times!
URL:https://www.crestlinechamber.org/event/game-nights-%f0%9f%8f%86%f0%9f%8e%b2%e2%99%9f%ef%b8%8f%f0%9f%8e%af%f0%9f%8e%ae/2025-02-27/
LOCATION:The San Marzano Wine & Ale Lounge\, 23575 Lake Dr\, crestline\, CA\, 92325\, United States
CATEGORIES:Community Event,Family Friendly,Lake Gregory
ORGANIZER;CN="San Marzano Wine & Ale Lounge":MAILTO:kenrwilliams@icloud.com
END:VEVENT
BEGIN:VEVENT
DTSTART;TZID=America/Los_Angeles:20250220T180000
DTEND;TZID=America/Los_Angeles:20250220T220000
DTSTAMP:20260423T233605
CREATED:20250127T232001Z
LAST-MODIFIED:20250127T232001Z
UID:10003151-1740074400-1740088800@www.crestlinechamber.org
SUMMARY:Game Nights 🏆🎲♟️🎯🎮
DESCRIPTION:Looking for a fun night out? Join us at San Marzano Wine & Ale Lounge for Game Nights! \n🃏 Play your favorite board games\, card games\, and more while enjoying a night out!  Bring your friends or make new ones—it’s all about good vibes and great times!
URL:https://www.crestlinechamber.org/event/game-nights-%f0%9f%8f%86%f0%9f%8e%b2%e2%99%9f%ef%b8%8f%f0%9f%8e%af%f0%9f%8e%ae/2025-02-20/
LOCATION:The San Marzano Wine & Ale Lounge\, 23575 Lake Dr\, crestline\, CA\, 92325\, United States
CATEGORIES:Community Event,Family Friendly,Lake Gregory
ORGANIZER;CN="San Marzano Wine & Ale Lounge":MAILTO:kenrwilliams@icloud.com
END:VEVENT
BEGIN:VEVENT
DTSTART;TZID=America/Los_Angeles:20250213T180000
DTEND;TZID=America/Los_Angeles:20250213T220000
DTSTAMP:20260423T233605
CREATED:20250127T232001Z
LAST-MODIFIED:20250127T232001Z
UID:10003150-1739469600-1739484000@www.crestlinechamber.org
SUMMARY:Game Nights 🏆🎲♟️🎯🎮
DESCRIPTION:Looking for a fun night out? Join us at San Marzano Wine & Ale Lounge for Game Nights! \n🃏 Play your favorite board games\, card games\, and more while enjoying a night out!  Bring your friends or make new ones—it’s all about good vibes and great times!
URL:https://www.crestlinechamber.org/event/game-nights-%f0%9f%8f%86%f0%9f%8e%b2%e2%99%9f%ef%b8%8f%f0%9f%8e%af%f0%9f%8e%ae/2025-02-13/
LOCATION:The San Marzano Wine & Ale Lounge\, 23575 Lake Dr\, crestline\, CA\, 92325\, United States
CATEGORIES:Community Event,Family Friendly,Lake Gregory
ORGANIZER;CN="San Marzano Wine & Ale Lounge":MAILTO:kenrwilliams@icloud.com
END:VEVENT
BEGIN:VEVENT
DTSTART;TZID=America/Los_Angeles:20250206T180000
DTEND;TZID=America/Los_Angeles:20250206T220000
DTSTAMP:20260423T233605
CREATED:20250127T232001Z
LAST-MODIFIED:20250127T232001Z
UID:10003149-1738864800-1738879200@www.crestlinechamber.org
SUMMARY:Game Nights 🏆🎲♟️🎯🎮
DESCRIPTION:Looking for a fun night out? Join us at San Marzano Wine & Ale Lounge for Game Nights! \n🃏 Play your favorite board games\, card games\, and more while enjoying a night out!  Bring your friends or make new ones—it’s all about good vibes and great times!
URL:https://www.crestlinechamber.org/event/game-nights-%f0%9f%8f%86%f0%9f%8e%b2%e2%99%9f%ef%b8%8f%f0%9f%8e%af%f0%9f%8e%ae/2025-02-06/
LOCATION:The San Marzano Wine & Ale Lounge\, 23575 Lake Dr\, crestline\, CA\, 92325\, United States
CATEGORIES:Community Event,Family Friendly,Lake Gregory
ORGANIZER;CN="San Marzano Wine & Ale Lounge":MAILTO:kenrwilliams@icloud.com
END:VEVENT
BEGIN:VEVENT
DTSTART;TZID=America/Los_Angeles:20250130T180000
DTEND;TZID=America/Los_Angeles:20250130T220000
DTSTAMP:20260423T233605
CREATED:20250127T232001Z
LAST-MODIFIED:20250127T232001Z
UID:10003148-1738260000-1738274400@www.crestlinechamber.org
SUMMARY:Game Nights 🏆🎲♟️🎯🎮
DESCRIPTION:Looking for a fun night out? Join us at San Marzano Wine & Ale Lounge for Game Nights! \n🃏 Play your favorite board games\, card games\, and more while enjoying a night out!  Bring your friends or make new ones—it’s all about good vibes and great times!
URL:https://www.crestlinechamber.org/event/game-nights-%f0%9f%8f%86%f0%9f%8e%b2%e2%99%9f%ef%b8%8f%f0%9f%8e%af%f0%9f%8e%ae/2025-01-30/
LOCATION:The San Marzano Wine & Ale Lounge\, 23575 Lake Dr\, crestline\, CA\, 92325\, United States
CATEGORIES:Community Event,Family Friendly,Lake Gregory
ORGANIZER;CN="San Marzano Wine & Ale Lounge":MAILTO:kenrwilliams@icloud.com
END:VEVENT
BEGIN:VEVENT
DTSTART;TZID=America/Los_Angeles:20240505T190000
DTEND;TZID=America/Los_Angeles:20240505T220000
DTSTAMP:20260423T233605
CREATED:20240422T171436Z
LAST-MODIFIED:20240422T171436Z
UID:10001305-1714935600-1714946400@www.crestlinechamber.org
SUMMARY:Hot Wings Challenge at San Marzano - May 3\, 4\, and 5
DESCRIPTION:May 3\, 4 or 5th from 7pm until 10pm \nBack by popular demand\, this second round introduces 10 new hot sauces; from classic rojo\, to savory chocolate & ghost pepper\, dabble in the tangy lemon pepper or the hopped watermelon ghost with el dorado hops\, try all 10 if you dare. Will you be one of the round two champions? \nTickets are available online or by calling us at 951-977-5290. RSVP today! \nTicket includes; 10 Wings in 10 different hot sauces\, side dishes and unlimited draft beer samples. \nAll new for this round\, choose from classic bone in wings\, or a veggie chili challenge.
URL:https://www.crestlinechamber.org/event/hot-wings-challenge-at-san-marzano-may-3-4-and-5/2024-05-05/
LOCATION:The San Marzano Wine & Ale Lounge\, 23575 Lake Dr\, crestline\, CA\, 92325\, United States
CATEGORIES:Community Event
ORGANIZER;CN="San Marzano Wine & Ale Lounge":MAILTO:kenrwilliams@icloud.com
END:VEVENT
BEGIN:VEVENT
DTSTART;TZID=America/Los_Angeles:20240504T190000
DTEND;TZID=America/Los_Angeles:20240504T220000
DTSTAMP:20260423T233605
CREATED:20240422T171436Z
LAST-MODIFIED:20240422T171436Z
UID:10001304-1714849200-1714860000@www.crestlinechamber.org
SUMMARY:Hot Wings Challenge at San Marzano - May 3\, 4\, and 5
DESCRIPTION:May 3\, 4 or 5th from 7pm until 10pm \nBack by popular demand\, this second round introduces 10 new hot sauces; from classic rojo\, to savory chocolate & ghost pepper\, dabble in the tangy lemon pepper or the hopped watermelon ghost with el dorado hops\, try all 10 if you dare. Will you be one of the round two champions? \nTickets are available online or by calling us at 951-977-5290. RSVP today! \nTicket includes; 10 Wings in 10 different hot sauces\, side dishes and unlimited draft beer samples. \nAll new for this round\, choose from classic bone in wings\, or a veggie chili challenge.
URL:https://www.crestlinechamber.org/event/hot-wings-challenge-at-san-marzano-may-3-4-and-5/2024-05-04/
LOCATION:The San Marzano Wine & Ale Lounge\, 23575 Lake Dr\, crestline\, CA\, 92325\, United States
CATEGORIES:Community Event
ORGANIZER;CN="San Marzano Wine & Ale Lounge":MAILTO:kenrwilliams@icloud.com
END:VEVENT
BEGIN:VEVENT
DTSTART;TZID=America/Los_Angeles:20240503T190000
DTEND;TZID=America/Los_Angeles:20240503T220000
DTSTAMP:20260423T233605
CREATED:20240422T171436Z
LAST-MODIFIED:20240422T171436Z
UID:10001303-1714762800-1714773600@www.crestlinechamber.org
SUMMARY:Hot Wings Challenge at San Marzano - May 3\, 4\, and 5
DESCRIPTION:May 3\, 4 or 5th from 7pm until 10pm \nBack by popular demand\, this second round introduces 10 new hot sauces; from classic rojo\, to savory chocolate & ghost pepper\, dabble in the tangy lemon pepper or the hopped watermelon ghost with el dorado hops\, try all 10 if you dare. Will you be one of the round two champions? \nTickets are available online or by calling us at 951-977-5290. RSVP today! \nTicket includes; 10 Wings in 10 different hot sauces\, side dishes and unlimited draft beer samples. \nAll new for this round\, choose from classic bone in wings\, or a veggie chili challenge.
URL:https://www.crestlinechamber.org/event/hot-wings-challenge-at-san-marzano-may-3-4-and-5/2024-05-03/
LOCATION:The San Marzano Wine & Ale Lounge\, 23575 Lake Dr\, crestline\, CA\, 92325\, United States
CATEGORIES:Community Event
ORGANIZER;CN="San Marzano Wine & Ale Lounge":MAILTO:kenrwilliams@icloud.com
END:VEVENT
END:VCALENDAR