BEGIN:VCALENDAR
VERSION:2.0
PRODID:-//Crestline Chamber of Commerce - ECPv6.15.20//NONSGML v1.0//EN
CALSCALE:GREGORIAN
METHOD:PUBLISH
X-WR-CALNAME:Crestline Chamber of Commerce
X-ORIGINAL-URL:https://www.crestlinechamber.org
X-WR-CALDESC:Events for Crestline Chamber of Commerce
REFRESH-INTERVAL;VALUE=DURATION:PT1H
X-Robots-Tag:noindex
X-PUBLISHED-TTL:PT1H
BEGIN:VTIMEZONE
TZID:America/Los_Angeles
BEGIN:DAYLIGHT
TZOFFSETFROM:-0800
TZOFFSETTO:-0700
TZNAME:PDT
DTSTART:20270314T100000
END:DAYLIGHT
BEGIN:STANDARD
TZOFFSETFROM:-0700
TZOFFSETTO:-0800
TZNAME:PST
DTSTART:20271107T090000
END:STANDARD
BEGIN:DAYLIGHT
TZOFFSETFROM:-0800
TZOFFSETTO:-0700
TZNAME:PDT
DTSTART:20280312T100000
END:DAYLIGHT
BEGIN:STANDARD
TZOFFSETFROM:-0700
TZOFFSETTO:-0800
TZNAME:PST
DTSTART:20281105T090000
END:STANDARD
BEGIN:DAYLIGHT
TZOFFSETFROM:-0800
TZOFFSETTO:-0700
TZNAME:PDT
DTSTART:20290311T100000
END:DAYLIGHT
BEGIN:STANDARD
TZOFFSETFROM:-0700
TZOFFSETTO:-0800
TZNAME:PST
DTSTART:20291104T090000
END:STANDARD
END:VTIMEZONE
BEGIN:VEVENT
DTSTART;TZID=America/Los_Angeles:20280302T180000
DTEND;TZID=America/Los_Angeles:20280302T220000
DTSTAMP:20260424T005545
CREATED:20250127T232001Z
LAST-MODIFIED:20250127T232001Z
UID:10003309-1835632800-1835647200@www.crestlinechamber.org
SUMMARY:Game Nights 🏆🎲♟️🎯🎮
DESCRIPTION:Looking for a fun night out? Join us at San Marzano Wine & Ale Lounge for Game Nights! \n🃏 Play your favorite board games\, card games\, and more while enjoying a night out!  Bring your friends or make new ones—it’s all about good vibes and great times!
URL:https://www.crestlinechamber.org/event/game-nights-%f0%9f%8f%86%f0%9f%8e%b2%e2%99%9f%ef%b8%8f%f0%9f%8e%af%f0%9f%8e%ae/2028-03-02/
LOCATION:The San Marzano Wine & Ale Lounge\, 23575 Lake Dr\, crestline\, CA\, 92325\, United States
CATEGORIES:Community Event,Family Friendly,Lake Gregory
ORGANIZER;CN="San Marzano Wine & Ale Lounge":MAILTO:kenrwilliams@icloud.com
END:VEVENT
BEGIN:VEVENT
DTSTART;TZID=America/Los_Angeles:20280309T180000
DTEND;TZID=America/Los_Angeles:20280309T220000
DTSTAMP:20260424T005545
CREATED:20250127T232001Z
LAST-MODIFIED:20250127T232001Z
UID:10003310-1836237600-1836252000@www.crestlinechamber.org
SUMMARY:Game Nights 🏆🎲♟️🎯🎮
DESCRIPTION:Looking for a fun night out? Join us at San Marzano Wine & Ale Lounge for Game Nights! \n🃏 Play your favorite board games\, card games\, and more while enjoying a night out!  Bring your friends or make new ones—it’s all about good vibes and great times!
URL:https://www.crestlinechamber.org/event/game-nights-%f0%9f%8f%86%f0%9f%8e%b2%e2%99%9f%ef%b8%8f%f0%9f%8e%af%f0%9f%8e%ae/2028-03-09/
LOCATION:The San Marzano Wine & Ale Lounge\, 23575 Lake Dr\, crestline\, CA\, 92325\, United States
CATEGORIES:Community Event,Family Friendly,Lake Gregory
ORGANIZER;CN="San Marzano Wine & Ale Lounge":MAILTO:kenrwilliams@icloud.com
END:VEVENT
BEGIN:VEVENT
DTSTART;TZID=America/Los_Angeles:20280316T180000
DTEND;TZID=America/Los_Angeles:20280316T220000
DTSTAMP:20260424T005545
CREATED:20250127T232001Z
LAST-MODIFIED:20250127T232001Z
UID:10003311-1836842400-1836856800@www.crestlinechamber.org
SUMMARY:Game Nights 🏆🎲♟️🎯🎮
DESCRIPTION:Looking for a fun night out? Join us at San Marzano Wine & Ale Lounge for Game Nights! \n🃏 Play your favorite board games\, card games\, and more while enjoying a night out!  Bring your friends or make new ones—it’s all about good vibes and great times!
URL:https://www.crestlinechamber.org/event/game-nights-%f0%9f%8f%86%f0%9f%8e%b2%e2%99%9f%ef%b8%8f%f0%9f%8e%af%f0%9f%8e%ae/2028-03-16/
LOCATION:The San Marzano Wine & Ale Lounge\, 23575 Lake Dr\, crestline\, CA\, 92325\, United States
CATEGORIES:Community Event,Family Friendly,Lake Gregory
ORGANIZER;CN="San Marzano Wine & Ale Lounge":MAILTO:kenrwilliams@icloud.com
END:VEVENT
BEGIN:VEVENT
DTSTART;TZID=America/Los_Angeles:20280323T180000
DTEND;TZID=America/Los_Angeles:20280323T220000
DTSTAMP:20260424T005545
CREATED:20250127T232001Z
LAST-MODIFIED:20250127T232001Z
UID:10003312-1837447200-1837461600@www.crestlinechamber.org
SUMMARY:Game Nights 🏆🎲♟️🎯🎮
DESCRIPTION:Looking for a fun night out? Join us at San Marzano Wine & Ale Lounge for Game Nights! \n🃏 Play your favorite board games\, card games\, and more while enjoying a night out!  Bring your friends or make new ones—it’s all about good vibes and great times!
URL:https://www.crestlinechamber.org/event/game-nights-%f0%9f%8f%86%f0%9f%8e%b2%e2%99%9f%ef%b8%8f%f0%9f%8e%af%f0%9f%8e%ae/2028-03-23/
LOCATION:The San Marzano Wine & Ale Lounge\, 23575 Lake Dr\, crestline\, CA\, 92325\, United States
CATEGORIES:Community Event,Family Friendly,Lake Gregory
ORGANIZER;CN="San Marzano Wine & Ale Lounge":MAILTO:kenrwilliams@icloud.com
END:VEVENT
BEGIN:VEVENT
DTSTART;TZID=America/Los_Angeles:20280330T180000
DTEND;TZID=America/Los_Angeles:20280330T220000
DTSTAMP:20260424T005545
CREATED:20250127T232001Z
LAST-MODIFIED:20250127T232001Z
UID:10003313-1838052000-1838066400@www.crestlinechamber.org
SUMMARY:Game Nights 🏆🎲♟️🎯🎮
DESCRIPTION:Looking for a fun night out? Join us at San Marzano Wine & Ale Lounge for Game Nights! \n🃏 Play your favorite board games\, card games\, and more while enjoying a night out!  Bring your friends or make new ones—it’s all about good vibes and great times!
URL:https://www.crestlinechamber.org/event/game-nights-%f0%9f%8f%86%f0%9f%8e%b2%e2%99%9f%ef%b8%8f%f0%9f%8e%af%f0%9f%8e%ae/2028-03-30/
LOCATION:The San Marzano Wine & Ale Lounge\, 23575 Lake Dr\, crestline\, CA\, 92325\, United States
CATEGORIES:Community Event,Family Friendly,Lake Gregory
ORGANIZER;CN="San Marzano Wine & Ale Lounge":MAILTO:kenrwilliams@icloud.com
END:VEVENT
BEGIN:VEVENT
DTSTART;TZID=America/Los_Angeles:20280406T180000
DTEND;TZID=America/Los_Angeles:20280406T220000
DTSTAMP:20260424T005545
CREATED:20250127T232001Z
LAST-MODIFIED:20250127T232001Z
UID:10003314-1838656800-1838671200@www.crestlinechamber.org
SUMMARY:Game Nights 🏆🎲♟️🎯🎮
DESCRIPTION:Looking for a fun night out? Join us at San Marzano Wine & Ale Lounge for Game Nights! \n🃏 Play your favorite board games\, card games\, and more while enjoying a night out!  Bring your friends or make new ones—it’s all about good vibes and great times!
URL:https://www.crestlinechamber.org/event/game-nights-%f0%9f%8f%86%f0%9f%8e%b2%e2%99%9f%ef%b8%8f%f0%9f%8e%af%f0%9f%8e%ae/2028-04-06/
LOCATION:The San Marzano Wine & Ale Lounge\, 23575 Lake Dr\, crestline\, CA\, 92325\, United States
CATEGORIES:Community Event,Family Friendly,Lake Gregory
ORGANIZER;CN="San Marzano Wine & Ale Lounge":MAILTO:kenrwilliams@icloud.com
END:VEVENT
BEGIN:VEVENT
DTSTART;TZID=America/Los_Angeles:20280413T180000
DTEND;TZID=America/Los_Angeles:20280413T220000
DTSTAMP:20260424T005545
CREATED:20250127T232001Z
LAST-MODIFIED:20250127T232001Z
UID:10003315-1839261600-1839276000@www.crestlinechamber.org
SUMMARY:Game Nights 🏆🎲♟️🎯🎮
DESCRIPTION:Looking for a fun night out? Join us at San Marzano Wine & Ale Lounge for Game Nights! \n🃏 Play your favorite board games\, card games\, and more while enjoying a night out!  Bring your friends or make new ones—it’s all about good vibes and great times!
URL:https://www.crestlinechamber.org/event/game-nights-%f0%9f%8f%86%f0%9f%8e%b2%e2%99%9f%ef%b8%8f%f0%9f%8e%af%f0%9f%8e%ae/2028-04-13/
LOCATION:The San Marzano Wine & Ale Lounge\, 23575 Lake Dr\, crestline\, CA\, 92325\, United States
CATEGORIES:Community Event,Family Friendly,Lake Gregory
ORGANIZER;CN="San Marzano Wine & Ale Lounge":MAILTO:kenrwilliams@icloud.com
END:VEVENT
BEGIN:VEVENT
DTSTART;TZID=America/Los_Angeles:20280420T180000
DTEND;TZID=America/Los_Angeles:20280420T220000
DTSTAMP:20260424T005545
CREATED:20250127T232001Z
LAST-MODIFIED:20250127T232001Z
UID:10003316-1839866400-1839880800@www.crestlinechamber.org
SUMMARY:Game Nights 🏆🎲♟️🎯🎮
DESCRIPTION:Looking for a fun night out? Join us at San Marzano Wine & Ale Lounge for Game Nights! \n🃏 Play your favorite board games\, card games\, and more while enjoying a night out!  Bring your friends or make new ones—it’s all about good vibes and great times!
URL:https://www.crestlinechamber.org/event/game-nights-%f0%9f%8f%86%f0%9f%8e%b2%e2%99%9f%ef%b8%8f%f0%9f%8e%af%f0%9f%8e%ae/2028-04-20/
LOCATION:The San Marzano Wine & Ale Lounge\, 23575 Lake Dr\, crestline\, CA\, 92325\, United States
CATEGORIES:Community Event,Family Friendly,Lake Gregory
ORGANIZER;CN="San Marzano Wine & Ale Lounge":MAILTO:kenrwilliams@icloud.com
END:VEVENT
BEGIN:VEVENT
DTSTART;TZID=America/Los_Angeles:20280427T180000
DTEND;TZID=America/Los_Angeles:20280427T220000
DTSTAMP:20260424T005545
CREATED:20250127T232001Z
LAST-MODIFIED:20250127T232001Z
UID:10003317-1840471200-1840485600@www.crestlinechamber.org
SUMMARY:Game Nights 🏆🎲♟️🎯🎮
DESCRIPTION:Looking for a fun night out? Join us at San Marzano Wine & Ale Lounge for Game Nights! \n🃏 Play your favorite board games\, card games\, and more while enjoying a night out!  Bring your friends or make new ones—it’s all about good vibes and great times!
URL:https://www.crestlinechamber.org/event/game-nights-%f0%9f%8f%86%f0%9f%8e%b2%e2%99%9f%ef%b8%8f%f0%9f%8e%af%f0%9f%8e%ae/2028-04-27/
LOCATION:The San Marzano Wine & Ale Lounge\, 23575 Lake Dr\, crestline\, CA\, 92325\, United States
CATEGORIES:Community Event,Family Friendly,Lake Gregory
ORGANIZER;CN="San Marzano Wine & Ale Lounge":MAILTO:kenrwilliams@icloud.com
END:VEVENT
BEGIN:VEVENT
DTSTART;TZID=America/Los_Angeles:20280504T180000
DTEND;TZID=America/Los_Angeles:20280504T220000
DTSTAMP:20260424T005545
CREATED:20250127T232001Z
LAST-MODIFIED:20250127T232001Z
UID:10003318-1841076000-1841090400@www.crestlinechamber.org
SUMMARY:Game Nights 🏆🎲♟️🎯🎮
DESCRIPTION:Looking for a fun night out? Join us at San Marzano Wine & Ale Lounge for Game Nights! \n🃏 Play your favorite board games\, card games\, and more while enjoying a night out!  Bring your friends or make new ones—it’s all about good vibes and great times!
URL:https://www.crestlinechamber.org/event/game-nights-%f0%9f%8f%86%f0%9f%8e%b2%e2%99%9f%ef%b8%8f%f0%9f%8e%af%f0%9f%8e%ae/2028-05-04/
LOCATION:The San Marzano Wine & Ale Lounge\, 23575 Lake Dr\, crestline\, CA\, 92325\, United States
CATEGORIES:Community Event,Family Friendly,Lake Gregory
ORGANIZER;CN="San Marzano Wine & Ale Lounge":MAILTO:kenrwilliams@icloud.com
END:VEVENT
BEGIN:VEVENT
DTSTART;TZID=America/Los_Angeles:20280511T180000
DTEND;TZID=America/Los_Angeles:20280511T220000
DTSTAMP:20260424T005545
CREATED:20250127T232001Z
LAST-MODIFIED:20250127T232001Z
UID:10003319-1841680800-1841695200@www.crestlinechamber.org
SUMMARY:Game Nights 🏆🎲♟️🎯🎮
DESCRIPTION:Looking for a fun night out? Join us at San Marzano Wine & Ale Lounge for Game Nights! \n🃏 Play your favorite board games\, card games\, and more while enjoying a night out!  Bring your friends or make new ones—it’s all about good vibes and great times!
URL:https://www.crestlinechamber.org/event/game-nights-%f0%9f%8f%86%f0%9f%8e%b2%e2%99%9f%ef%b8%8f%f0%9f%8e%af%f0%9f%8e%ae/2028-05-11/
LOCATION:The San Marzano Wine & Ale Lounge\, 23575 Lake Dr\, crestline\, CA\, 92325\, United States
CATEGORIES:Community Event,Family Friendly,Lake Gregory
ORGANIZER;CN="San Marzano Wine & Ale Lounge":MAILTO:kenrwilliams@icloud.com
END:VEVENT
BEGIN:VEVENT
DTSTART;TZID=America/Los_Angeles:20280518T180000
DTEND;TZID=America/Los_Angeles:20280518T220000
DTSTAMP:20260424T005545
CREATED:20250127T232001Z
LAST-MODIFIED:20250127T232001Z
UID:10003320-1842285600-1842300000@www.crestlinechamber.org
SUMMARY:Game Nights 🏆🎲♟️🎯🎮
DESCRIPTION:Looking for a fun night out? Join us at San Marzano Wine & Ale Lounge for Game Nights! \n🃏 Play your favorite board games\, card games\, and more while enjoying a night out!  Bring your friends or make new ones—it’s all about good vibes and great times!
URL:https://www.crestlinechamber.org/event/game-nights-%f0%9f%8f%86%f0%9f%8e%b2%e2%99%9f%ef%b8%8f%f0%9f%8e%af%f0%9f%8e%ae/2028-05-18/
LOCATION:The San Marzano Wine & Ale Lounge\, 23575 Lake Dr\, crestline\, CA\, 92325\, United States
CATEGORIES:Community Event,Family Friendly,Lake Gregory
ORGANIZER;CN="San Marzano Wine & Ale Lounge":MAILTO:kenrwilliams@icloud.com
END:VEVENT
BEGIN:VEVENT
DTSTART;TZID=America/Los_Angeles:20280525T180000
DTEND;TZID=America/Los_Angeles:20280525T220000
DTSTAMP:20260424T005545
CREATED:20250127T232001Z
LAST-MODIFIED:20250127T232001Z
UID:10003321-1842890400-1842904800@www.crestlinechamber.org
SUMMARY:Game Nights 🏆🎲♟️🎯🎮
DESCRIPTION:Looking for a fun night out? Join us at San Marzano Wine & Ale Lounge for Game Nights! \n🃏 Play your favorite board games\, card games\, and more while enjoying a night out!  Bring your friends or make new ones—it’s all about good vibes and great times!
URL:https://www.crestlinechamber.org/event/game-nights-%f0%9f%8f%86%f0%9f%8e%b2%e2%99%9f%ef%b8%8f%f0%9f%8e%af%f0%9f%8e%ae/2028-05-25/
LOCATION:The San Marzano Wine & Ale Lounge\, 23575 Lake Dr\, crestline\, CA\, 92325\, United States
CATEGORIES:Community Event,Family Friendly,Lake Gregory
ORGANIZER;CN="San Marzano Wine & Ale Lounge":MAILTO:kenrwilliams@icloud.com
END:VEVENT
BEGIN:VEVENT
DTSTART;TZID=America/Los_Angeles:20280601T180000
DTEND;TZID=America/Los_Angeles:20280601T220000
DTSTAMP:20260424T005545
CREATED:20250127T232001Z
LAST-MODIFIED:20250127T232001Z
UID:10003322-1843495200-1843509600@www.crestlinechamber.org
SUMMARY:Game Nights 🏆🎲♟️🎯🎮
DESCRIPTION:Looking for a fun night out? Join us at San Marzano Wine & Ale Lounge for Game Nights! \n🃏 Play your favorite board games\, card games\, and more while enjoying a night out!  Bring your friends or make new ones—it’s all about good vibes and great times!
URL:https://www.crestlinechamber.org/event/game-nights-%f0%9f%8f%86%f0%9f%8e%b2%e2%99%9f%ef%b8%8f%f0%9f%8e%af%f0%9f%8e%ae/2028-06-01/
LOCATION:The San Marzano Wine & Ale Lounge\, 23575 Lake Dr\, crestline\, CA\, 92325\, United States
CATEGORIES:Community Event,Family Friendly,Lake Gregory
ORGANIZER;CN="San Marzano Wine & Ale Lounge":MAILTO:kenrwilliams@icloud.com
END:VEVENT
BEGIN:VEVENT
DTSTART;TZID=America/Los_Angeles:20280608T180000
DTEND;TZID=America/Los_Angeles:20280608T220000
DTSTAMP:20260424T005545
CREATED:20250127T232001Z
LAST-MODIFIED:20250127T232001Z
UID:10003323-1844100000-1844114400@www.crestlinechamber.org
SUMMARY:Game Nights 🏆🎲♟️🎯🎮
DESCRIPTION:Looking for a fun night out? Join us at San Marzano Wine & Ale Lounge for Game Nights! \n🃏 Play your favorite board games\, card games\, and more while enjoying a night out!  Bring your friends or make new ones—it’s all about good vibes and great times!
URL:https://www.crestlinechamber.org/event/game-nights-%f0%9f%8f%86%f0%9f%8e%b2%e2%99%9f%ef%b8%8f%f0%9f%8e%af%f0%9f%8e%ae/2028-06-08/
LOCATION:The San Marzano Wine & Ale Lounge\, 23575 Lake Dr\, crestline\, CA\, 92325\, United States
CATEGORIES:Community Event,Family Friendly,Lake Gregory
ORGANIZER;CN="San Marzano Wine & Ale Lounge":MAILTO:kenrwilliams@icloud.com
END:VEVENT
BEGIN:VEVENT
DTSTART;TZID=America/Los_Angeles:20280615T180000
DTEND;TZID=America/Los_Angeles:20280615T220000
DTSTAMP:20260424T005545
CREATED:20250127T232001Z
LAST-MODIFIED:20250127T232001Z
UID:10003324-1844704800-1844719200@www.crestlinechamber.org
SUMMARY:Game Nights 🏆🎲♟️🎯🎮
DESCRIPTION:Looking for a fun night out? Join us at San Marzano Wine & Ale Lounge for Game Nights! \n🃏 Play your favorite board games\, card games\, and more while enjoying a night out!  Bring your friends or make new ones—it’s all about good vibes and great times!
URL:https://www.crestlinechamber.org/event/game-nights-%f0%9f%8f%86%f0%9f%8e%b2%e2%99%9f%ef%b8%8f%f0%9f%8e%af%f0%9f%8e%ae/2028-06-15/
LOCATION:The San Marzano Wine & Ale Lounge\, 23575 Lake Dr\, crestline\, CA\, 92325\, United States
CATEGORIES:Community Event,Family Friendly,Lake Gregory
ORGANIZER;CN="San Marzano Wine & Ale Lounge":MAILTO:kenrwilliams@icloud.com
END:VEVENT
BEGIN:VEVENT
DTSTART;TZID=America/Los_Angeles:20280622T180000
DTEND;TZID=America/Los_Angeles:20280622T220000
DTSTAMP:20260424T005545
CREATED:20250127T232001Z
LAST-MODIFIED:20250127T232001Z
UID:10003325-1845309600-1845324000@www.crestlinechamber.org
SUMMARY:Game Nights 🏆🎲♟️🎯🎮
DESCRIPTION:Looking for a fun night out? Join us at San Marzano Wine & Ale Lounge for Game Nights! \n🃏 Play your favorite board games\, card games\, and more while enjoying a night out!  Bring your friends or make new ones—it’s all about good vibes and great times!
URL:https://www.crestlinechamber.org/event/game-nights-%f0%9f%8f%86%f0%9f%8e%b2%e2%99%9f%ef%b8%8f%f0%9f%8e%af%f0%9f%8e%ae/2028-06-22/
LOCATION:The San Marzano Wine & Ale Lounge\, 23575 Lake Dr\, crestline\, CA\, 92325\, United States
CATEGORIES:Community Event,Family Friendly,Lake Gregory
ORGANIZER;CN="San Marzano Wine & Ale Lounge":MAILTO:kenrwilliams@icloud.com
END:VEVENT
BEGIN:VEVENT
DTSTART;TZID=America/Los_Angeles:20280629T180000
DTEND;TZID=America/Los_Angeles:20280629T220000
DTSTAMP:20260424T005545
CREATED:20250127T232001Z
LAST-MODIFIED:20250127T232001Z
UID:10003326-1845914400-1845928800@www.crestlinechamber.org
SUMMARY:Game Nights 🏆🎲♟️🎯🎮
DESCRIPTION:Looking for a fun night out? Join us at San Marzano Wine & Ale Lounge for Game Nights! \n🃏 Play your favorite board games\, card games\, and more while enjoying a night out!  Bring your friends or make new ones—it’s all about good vibes and great times!
URL:https://www.crestlinechamber.org/event/game-nights-%f0%9f%8f%86%f0%9f%8e%b2%e2%99%9f%ef%b8%8f%f0%9f%8e%af%f0%9f%8e%ae/2028-06-29/
LOCATION:The San Marzano Wine & Ale Lounge\, 23575 Lake Dr\, crestline\, CA\, 92325\, United States
CATEGORIES:Community Event,Family Friendly,Lake Gregory
ORGANIZER;CN="San Marzano Wine & Ale Lounge":MAILTO:kenrwilliams@icloud.com
END:VEVENT
BEGIN:VEVENT
DTSTART;TZID=America/Los_Angeles:20280706T180000
DTEND;TZID=America/Los_Angeles:20280706T220000
DTSTAMP:20260424T005545
CREATED:20250127T232001Z
LAST-MODIFIED:20250127T232001Z
UID:10003327-1846519200-1846533600@www.crestlinechamber.org
SUMMARY:Game Nights 🏆🎲♟️🎯🎮
DESCRIPTION:Looking for a fun night out? Join us at San Marzano Wine & Ale Lounge for Game Nights! \n🃏 Play your favorite board games\, card games\, and more while enjoying a night out!  Bring your friends or make new ones—it’s all about good vibes and great times!
URL:https://www.crestlinechamber.org/event/game-nights-%f0%9f%8f%86%f0%9f%8e%b2%e2%99%9f%ef%b8%8f%f0%9f%8e%af%f0%9f%8e%ae/2028-07-06/
LOCATION:The San Marzano Wine & Ale Lounge\, 23575 Lake Dr\, crestline\, CA\, 92325\, United States
CATEGORIES:Community Event,Family Friendly,Lake Gregory
ORGANIZER;CN="San Marzano Wine & Ale Lounge":MAILTO:kenrwilliams@icloud.com
END:VEVENT
BEGIN:VEVENT
DTSTART;TZID=America/Los_Angeles:20280713T180000
DTEND;TZID=America/Los_Angeles:20280713T220000
DTSTAMP:20260424T005545
CREATED:20250127T232001Z
LAST-MODIFIED:20250127T232001Z
UID:10003328-1847124000-1847138400@www.crestlinechamber.org
SUMMARY:Game Nights 🏆🎲♟️🎯🎮
DESCRIPTION:Looking for a fun night out? Join us at San Marzano Wine & Ale Lounge for Game Nights! \n🃏 Play your favorite board games\, card games\, and more while enjoying a night out!  Bring your friends or make new ones—it’s all about good vibes and great times!
URL:https://www.crestlinechamber.org/event/game-nights-%f0%9f%8f%86%f0%9f%8e%b2%e2%99%9f%ef%b8%8f%f0%9f%8e%af%f0%9f%8e%ae/2028-07-13/
LOCATION:The San Marzano Wine & Ale Lounge\, 23575 Lake Dr\, crestline\, CA\, 92325\, United States
CATEGORIES:Community Event,Family Friendly,Lake Gregory
ORGANIZER;CN="San Marzano Wine & Ale Lounge":MAILTO:kenrwilliams@icloud.com
END:VEVENT
BEGIN:VEVENT
DTSTART;TZID=America/Los_Angeles:20280720T180000
DTEND;TZID=America/Los_Angeles:20280720T220000
DTSTAMP:20260424T005545
CREATED:20250127T232001Z
LAST-MODIFIED:20250127T232001Z
UID:10003329-1847728800-1847743200@www.crestlinechamber.org
SUMMARY:Game Nights 🏆🎲♟️🎯🎮
DESCRIPTION:Looking for a fun night out? Join us at San Marzano Wine & Ale Lounge for Game Nights! \n🃏 Play your favorite board games\, card games\, and more while enjoying a night out!  Bring your friends or make new ones—it’s all about good vibes and great times!
URL:https://www.crestlinechamber.org/event/game-nights-%f0%9f%8f%86%f0%9f%8e%b2%e2%99%9f%ef%b8%8f%f0%9f%8e%af%f0%9f%8e%ae/2028-07-20/
LOCATION:The San Marzano Wine & Ale Lounge\, 23575 Lake Dr\, crestline\, CA\, 92325\, United States
CATEGORIES:Community Event,Family Friendly,Lake Gregory
ORGANIZER;CN="San Marzano Wine & Ale Lounge":MAILTO:kenrwilliams@icloud.com
END:VEVENT
BEGIN:VEVENT
DTSTART;TZID=America/Los_Angeles:20280727T180000
DTEND;TZID=America/Los_Angeles:20280727T220000
DTSTAMP:20260424T005545
CREATED:20250127T232001Z
LAST-MODIFIED:20250127T232001Z
UID:10003330-1848333600-1848348000@www.crestlinechamber.org
SUMMARY:Game Nights 🏆🎲♟️🎯🎮
DESCRIPTION:Looking for a fun night out? Join us at San Marzano Wine & Ale Lounge for Game Nights! \n🃏 Play your favorite board games\, card games\, and more while enjoying a night out!  Bring your friends or make new ones—it’s all about good vibes and great times!
URL:https://www.crestlinechamber.org/event/game-nights-%f0%9f%8f%86%f0%9f%8e%b2%e2%99%9f%ef%b8%8f%f0%9f%8e%af%f0%9f%8e%ae/2028-07-27/
LOCATION:The San Marzano Wine & Ale Lounge\, 23575 Lake Dr\, crestline\, CA\, 92325\, United States
CATEGORIES:Community Event,Family Friendly,Lake Gregory
ORGANIZER;CN="San Marzano Wine & Ale Lounge":MAILTO:kenrwilliams@icloud.com
END:VEVENT
BEGIN:VEVENT
DTSTART;TZID=America/Los_Angeles:20280803T180000
DTEND;TZID=America/Los_Angeles:20280803T220000
DTSTAMP:20260424T005545
CREATED:20250127T232001Z
LAST-MODIFIED:20250127T232001Z
UID:10003331-1848938400-1848952800@www.crestlinechamber.org
SUMMARY:Game Nights 🏆🎲♟️🎯🎮
DESCRIPTION:Looking for a fun night out? Join us at San Marzano Wine & Ale Lounge for Game Nights! \n🃏 Play your favorite board games\, card games\, and more while enjoying a night out!  Bring your friends or make new ones—it’s all about good vibes and great times!
URL:https://www.crestlinechamber.org/event/game-nights-%f0%9f%8f%86%f0%9f%8e%b2%e2%99%9f%ef%b8%8f%f0%9f%8e%af%f0%9f%8e%ae/2028-08-03/
LOCATION:The San Marzano Wine & Ale Lounge\, 23575 Lake Dr\, crestline\, CA\, 92325\, United States
CATEGORIES:Community Event,Family Friendly,Lake Gregory
ORGANIZER;CN="San Marzano Wine & Ale Lounge":MAILTO:kenrwilliams@icloud.com
END:VEVENT
BEGIN:VEVENT
DTSTART;TZID=America/Los_Angeles:20280810T180000
DTEND;TZID=America/Los_Angeles:20280810T220000
DTSTAMP:20260424T005545
CREATED:20250127T232001Z
LAST-MODIFIED:20250127T232001Z
UID:10003332-1849543200-1849557600@www.crestlinechamber.org
SUMMARY:Game Nights 🏆🎲♟️🎯🎮
DESCRIPTION:Looking for a fun night out? Join us at San Marzano Wine & Ale Lounge for Game Nights! \n🃏 Play your favorite board games\, card games\, and more while enjoying a night out!  Bring your friends or make new ones—it’s all about good vibes and great times!
URL:https://www.crestlinechamber.org/event/game-nights-%f0%9f%8f%86%f0%9f%8e%b2%e2%99%9f%ef%b8%8f%f0%9f%8e%af%f0%9f%8e%ae/2028-08-10/
LOCATION:The San Marzano Wine & Ale Lounge\, 23575 Lake Dr\, crestline\, CA\, 92325\, United States
CATEGORIES:Community Event,Family Friendly,Lake Gregory
ORGANIZER;CN="San Marzano Wine & Ale Lounge":MAILTO:kenrwilliams@icloud.com
END:VEVENT
BEGIN:VEVENT
DTSTART;TZID=America/Los_Angeles:20280817T180000
DTEND;TZID=America/Los_Angeles:20280817T220000
DTSTAMP:20260424T005545
CREATED:20250127T232001Z
LAST-MODIFIED:20250127T232001Z
UID:10003333-1850148000-1850162400@www.crestlinechamber.org
SUMMARY:Game Nights 🏆🎲♟️🎯🎮
DESCRIPTION:Looking for a fun night out? Join us at San Marzano Wine & Ale Lounge for Game Nights! \n🃏 Play your favorite board games\, card games\, and more while enjoying a night out!  Bring your friends or make new ones—it’s all about good vibes and great times!
URL:https://www.crestlinechamber.org/event/game-nights-%f0%9f%8f%86%f0%9f%8e%b2%e2%99%9f%ef%b8%8f%f0%9f%8e%af%f0%9f%8e%ae/2028-08-17/
LOCATION:The San Marzano Wine & Ale Lounge\, 23575 Lake Dr\, crestline\, CA\, 92325\, United States
CATEGORIES:Community Event,Family Friendly,Lake Gregory
ORGANIZER;CN="San Marzano Wine & Ale Lounge":MAILTO:kenrwilliams@icloud.com
END:VEVENT
BEGIN:VEVENT
DTSTART;TZID=America/Los_Angeles:20280824T180000
DTEND;TZID=America/Los_Angeles:20280824T220000
DTSTAMP:20260424T005545
CREATED:20250127T232001Z
LAST-MODIFIED:20250127T232001Z
UID:10003334-1850752800-1850767200@www.crestlinechamber.org
SUMMARY:Game Nights 🏆🎲♟️🎯🎮
DESCRIPTION:Looking for a fun night out? Join us at San Marzano Wine & Ale Lounge for Game Nights! \n🃏 Play your favorite board games\, card games\, and more while enjoying a night out!  Bring your friends or make new ones—it’s all about good vibes and great times!
URL:https://www.crestlinechamber.org/event/game-nights-%f0%9f%8f%86%f0%9f%8e%b2%e2%99%9f%ef%b8%8f%f0%9f%8e%af%f0%9f%8e%ae/2028-08-24/
LOCATION:The San Marzano Wine & Ale Lounge\, 23575 Lake Dr\, crestline\, CA\, 92325\, United States
CATEGORIES:Community Event,Family Friendly,Lake Gregory
ORGANIZER;CN="San Marzano Wine & Ale Lounge":MAILTO:kenrwilliams@icloud.com
END:VEVENT
BEGIN:VEVENT
DTSTART;TZID=America/Los_Angeles:20280831T180000
DTEND;TZID=America/Los_Angeles:20280831T220000
DTSTAMP:20260424T005545
CREATED:20250127T232001Z
LAST-MODIFIED:20250127T232001Z
UID:10003335-1851357600-1851372000@www.crestlinechamber.org
SUMMARY:Game Nights 🏆🎲♟️🎯🎮
DESCRIPTION:Looking for a fun night out? Join us at San Marzano Wine & Ale Lounge for Game Nights! \n🃏 Play your favorite board games\, card games\, and more while enjoying a night out!  Bring your friends or make new ones—it’s all about good vibes and great times!
URL:https://www.crestlinechamber.org/event/game-nights-%f0%9f%8f%86%f0%9f%8e%b2%e2%99%9f%ef%b8%8f%f0%9f%8e%af%f0%9f%8e%ae/2028-08-31/
LOCATION:The San Marzano Wine & Ale Lounge\, 23575 Lake Dr\, crestline\, CA\, 92325\, United States
CATEGORIES:Community Event,Family Friendly,Lake Gregory
ORGANIZER;CN="San Marzano Wine & Ale Lounge":MAILTO:kenrwilliams@icloud.com
END:VEVENT
BEGIN:VEVENT
DTSTART;TZID=America/Los_Angeles:20280907T180000
DTEND;TZID=America/Los_Angeles:20280907T220000
DTSTAMP:20260424T005545
CREATED:20250127T232001Z
LAST-MODIFIED:20250127T232001Z
UID:10003336-1851962400-1851976800@www.crestlinechamber.org
SUMMARY:Game Nights 🏆🎲♟️🎯🎮
DESCRIPTION:Looking for a fun night out? Join us at San Marzano Wine & Ale Lounge for Game Nights! \n🃏 Play your favorite board games\, card games\, and more while enjoying a night out!  Bring your friends or make new ones—it’s all about good vibes and great times!
URL:https://www.crestlinechamber.org/event/game-nights-%f0%9f%8f%86%f0%9f%8e%b2%e2%99%9f%ef%b8%8f%f0%9f%8e%af%f0%9f%8e%ae/2028-09-07/
LOCATION:The San Marzano Wine & Ale Lounge\, 23575 Lake Dr\, crestline\, CA\, 92325\, United States
CATEGORIES:Community Event,Family Friendly,Lake Gregory
ORGANIZER;CN="San Marzano Wine & Ale Lounge":MAILTO:kenrwilliams@icloud.com
END:VEVENT
BEGIN:VEVENT
DTSTART;TZID=America/Los_Angeles:20280914T180000
DTEND;TZID=America/Los_Angeles:20280914T220000
DTSTAMP:20260424T005545
CREATED:20250127T232001Z
LAST-MODIFIED:20250127T232001Z
UID:10003337-1852567200-1852581600@www.crestlinechamber.org
SUMMARY:Game Nights 🏆🎲♟️🎯🎮
DESCRIPTION:Looking for a fun night out? Join us at San Marzano Wine & Ale Lounge for Game Nights! \n🃏 Play your favorite board games\, card games\, and more while enjoying a night out!  Bring your friends or make new ones—it’s all about good vibes and great times!
URL:https://www.crestlinechamber.org/event/game-nights-%f0%9f%8f%86%f0%9f%8e%b2%e2%99%9f%ef%b8%8f%f0%9f%8e%af%f0%9f%8e%ae/2028-09-14/
LOCATION:The San Marzano Wine & Ale Lounge\, 23575 Lake Dr\, crestline\, CA\, 92325\, United States
CATEGORIES:Community Event,Family Friendly,Lake Gregory
ORGANIZER;CN="San Marzano Wine & Ale Lounge":MAILTO:kenrwilliams@icloud.com
END:VEVENT
BEGIN:VEVENT
DTSTART;TZID=America/Los_Angeles:20280921T180000
DTEND;TZID=America/Los_Angeles:20280921T220000
DTSTAMP:20260424T005545
CREATED:20250127T232001Z
LAST-MODIFIED:20250127T232001Z
UID:10003338-1853172000-1853186400@www.crestlinechamber.org
SUMMARY:Game Nights 🏆🎲♟️🎯🎮
DESCRIPTION:Looking for a fun night out? Join us at San Marzano Wine & Ale Lounge for Game Nights! \n🃏 Play your favorite board games\, card games\, and more while enjoying a night out!  Bring your friends or make new ones—it’s all about good vibes and great times!
URL:https://www.crestlinechamber.org/event/game-nights-%f0%9f%8f%86%f0%9f%8e%b2%e2%99%9f%ef%b8%8f%f0%9f%8e%af%f0%9f%8e%ae/2028-09-21/
LOCATION:The San Marzano Wine & Ale Lounge\, 23575 Lake Dr\, crestline\, CA\, 92325\, United States
CATEGORIES:Community Event,Family Friendly,Lake Gregory
ORGANIZER;CN="San Marzano Wine & Ale Lounge":MAILTO:kenrwilliams@icloud.com
END:VEVENT
END:VCALENDAR