BEGIN:VCALENDAR
VERSION:2.0
PRODID:-//Crestline Chamber of Commerce - ECPv6.15.20//NONSGML v1.0//EN
CALSCALE:GREGORIAN
METHOD:PUBLISH
X-ORIGINAL-URL:https://www.crestlinechamber.org
X-WR-CALDESC:Events for Crestline Chamber of Commerce
REFRESH-INTERVAL;VALUE=DURATION:PT1H
X-Robots-Tag:noindex
X-PUBLISHED-TTL:PT1H
BEGIN:VTIMEZONE
TZID:America/Los_Angeles
BEGIN:DAYLIGHT
TZOFFSETFROM:-0800
TZOFFSETTO:-0700
TZNAME:PDT
DTSTART:20210314T100000
END:DAYLIGHT
BEGIN:STANDARD
TZOFFSETFROM:-0700
TZOFFSETTO:-0800
TZNAME:PST
DTSTART:20211107T090000
END:STANDARD
BEGIN:DAYLIGHT
TZOFFSETFROM:-0800
TZOFFSETTO:-0700
TZNAME:PDT
DTSTART:20220313T100000
END:DAYLIGHT
BEGIN:STANDARD
TZOFFSETFROM:-0700
TZOFFSETTO:-0800
TZNAME:PST
DTSTART:20221106T090000
END:STANDARD
BEGIN:DAYLIGHT
TZOFFSETFROM:-0800
TZOFFSETTO:-0700
TZNAME:PDT
DTSTART:20230312T100000
END:DAYLIGHT
BEGIN:STANDARD
TZOFFSETFROM:-0700
TZOFFSETTO:-0800
TZNAME:PST
DTSTART:20231105T090000
END:STANDARD
END:VTIMEZONE
BEGIN:VEVENT
DTSTART;TZID=America/Los_Angeles:20221224T160000
DTEND;TZID=America/Los_Angeles:20221224T210000
DTSTAMP:20260424T055447
CREATED:20221130T220936Z
LAST-MODIFIED:20221130T220936Z
UID:10000202-1671897600-1671915600@www.crestlinechamber.org
SUMMARY:A Christmas Carol performed by Heisler Theater Group
DESCRIPTION:Attend Twin Peaks Community Center daily! December 20th-Dec 24th\, for Amazing food\, drinks and a screen play adaptation of the classic A Christmas Carol by Charles Dickens\, adapted for the stage and performed by Heisler Theater Group. Tickets for the performance are free for kids and $20 for adults.\nSpecial Offer for TWO: Tickets to the show\, Dinner and Unlimited Happy Hour for $79. Promotional price ends December 3rd 2022.
URL:https://www.crestlinechamber.org/event/a-christmas-carol-performed-by-heisler-theater-group/2022-12-24/
LOCATION:Twin Peaks Senior-Community Center\, 675 Grandview Rd\, Twin Peaks\, 675 Grandvirew Rd\, Twin Peaks\, CA\, 92391\, United States
GEO:34.2410012;-117.2378948
X-APPLE-STRUCTURED-LOCATION;VALUE=URI;X-ADDRESS=Twin Peaks Senior-Community Center 675 Grandview Rd Twin Peaks 675 Grandvirew Rd Twin Peaks CA 92391 United States;X-APPLE-RADIUS=500;X-TITLE=675 Grandvirew Rd:geo:-117.2378948,34.2410012
END:VEVENT
BEGIN:VEVENT
DTSTART;TZID=America/Los_Angeles:20221223T160000
DTEND;TZID=America/Los_Angeles:20221223T210000
DTSTAMP:20260424T055447
CREATED:20221130T220936Z
LAST-MODIFIED:20221130T220936Z
UID:10000201-1671811200-1671829200@www.crestlinechamber.org
SUMMARY:A Christmas Carol performed by Heisler Theater Group
DESCRIPTION:Attend Twin Peaks Community Center daily! December 20th-Dec 24th\, for Amazing food\, drinks and a screen play adaptation of the classic A Christmas Carol by Charles Dickens\, adapted for the stage and performed by Heisler Theater Group. Tickets for the performance are free for kids and $20 for adults.\nSpecial Offer for TWO: Tickets to the show\, Dinner and Unlimited Happy Hour for $79. Promotional price ends December 3rd 2022.
URL:https://www.crestlinechamber.org/event/a-christmas-carol-performed-by-heisler-theater-group/2022-12-23/
LOCATION:Twin Peaks Senior-Community Center\, 675 Grandview Rd\, Twin Peaks\, 675 Grandvirew Rd\, Twin Peaks\, CA\, 92391\, United States
GEO:34.2410012;-117.2378948
X-APPLE-STRUCTURED-LOCATION;VALUE=URI;X-ADDRESS=Twin Peaks Senior-Community Center 675 Grandview Rd Twin Peaks 675 Grandvirew Rd Twin Peaks CA 92391 United States;X-APPLE-RADIUS=500;X-TITLE=675 Grandvirew Rd:geo:-117.2378948,34.2410012
END:VEVENT
BEGIN:VEVENT
DTSTART;TZID=America/Los_Angeles:20221222T160000
DTEND;TZID=America/Los_Angeles:20221222T210000
DTSTAMP:20260424T055447
CREATED:20221130T220936Z
LAST-MODIFIED:20221130T220936Z
UID:10000200-1671724800-1671742800@www.crestlinechamber.org
SUMMARY:A Christmas Carol performed by Heisler Theater Group
DESCRIPTION:Attend Twin Peaks Community Center daily! December 20th-Dec 24th\, for Amazing food\, drinks and a screen play adaptation of the classic A Christmas Carol by Charles Dickens\, adapted for the stage and performed by Heisler Theater Group. Tickets for the performance are free for kids and $20 for adults.\nSpecial Offer for TWO: Tickets to the show\, Dinner and Unlimited Happy Hour for $79. Promotional price ends December 3rd 2022.
URL:https://www.crestlinechamber.org/event/a-christmas-carol-performed-by-heisler-theater-group/2022-12-22/
LOCATION:Twin Peaks Senior-Community Center\, 675 Grandview Rd\, Twin Peaks\, 675 Grandvirew Rd\, Twin Peaks\, CA\, 92391\, United States
GEO:34.2410012;-117.2378948
X-APPLE-STRUCTURED-LOCATION;VALUE=URI;X-ADDRESS=Twin Peaks Senior-Community Center 675 Grandview Rd Twin Peaks 675 Grandvirew Rd Twin Peaks CA 92391 United States;X-APPLE-RADIUS=500;X-TITLE=675 Grandvirew Rd:geo:-117.2378948,34.2410012
END:VEVENT
BEGIN:VEVENT
DTSTART;TZID=America/Los_Angeles:20221221T160000
DTEND;TZID=America/Los_Angeles:20221221T210000
DTSTAMP:20260424T055447
CREATED:20221130T220936Z
LAST-MODIFIED:20221130T220936Z
UID:10000199-1671638400-1671656400@www.crestlinechamber.org
SUMMARY:A Christmas Carol performed by Heisler Theater Group
DESCRIPTION:Attend Twin Peaks Community Center daily! December 20th-Dec 24th\, for Amazing food\, drinks and a screen play adaptation of the classic A Christmas Carol by Charles Dickens\, adapted for the stage and performed by Heisler Theater Group. Tickets for the performance are free for kids and $20 for adults.\nSpecial Offer for TWO: Tickets to the show\, Dinner and Unlimited Happy Hour for $79. Promotional price ends December 3rd 2022.
URL:https://www.crestlinechamber.org/event/a-christmas-carol-performed-by-heisler-theater-group/2022-12-21/
LOCATION:Twin Peaks Senior-Community Center\, 675 Grandview Rd\, Twin Peaks\, 675 Grandvirew Rd\, Twin Peaks\, CA\, 92391\, United States
GEO:34.2410012;-117.2378948
X-APPLE-STRUCTURED-LOCATION;VALUE=URI;X-ADDRESS=Twin Peaks Senior-Community Center 675 Grandview Rd Twin Peaks 675 Grandvirew Rd Twin Peaks CA 92391 United States;X-APPLE-RADIUS=500;X-TITLE=675 Grandvirew Rd:geo:-117.2378948,34.2410012
END:VEVENT
BEGIN:VEVENT
DTSTART;TZID=America/Los_Angeles:20221220T160000
DTEND;TZID=America/Los_Angeles:20221220T210000
DTSTAMP:20260424T055447
CREATED:20221130T220936Z
LAST-MODIFIED:20221130T220936Z
UID:10000198-1671552000-1671570000@www.crestlinechamber.org
SUMMARY:A Christmas Carol performed by Heisler Theater Group
DESCRIPTION:Attend Twin Peaks Community Center daily! December 20th-Dec 24th\, for Amazing food\, drinks and a screen play adaptation of the classic A Christmas Carol by Charles Dickens\, adapted for the stage and performed by Heisler Theater Group. Tickets for the performance are free for kids and $20 for adults.\nSpecial Offer for TWO: Tickets to the show\, Dinner and Unlimited Happy Hour for $79. Promotional price ends December 3rd 2022.
URL:https://www.crestlinechamber.org/event/a-christmas-carol-performed-by-heisler-theater-group/2022-12-20/
LOCATION:Twin Peaks Senior-Community Center\, 675 Grandview Rd\, Twin Peaks\, 675 Grandvirew Rd\, Twin Peaks\, CA\, 92391\, United States
GEO:34.2410012;-117.2378948
X-APPLE-STRUCTURED-LOCATION;VALUE=URI;X-ADDRESS=Twin Peaks Senior-Community Center 675 Grandview Rd Twin Peaks 675 Grandvirew Rd Twin Peaks CA 92391 United States;X-APPLE-RADIUS=500;X-TITLE=675 Grandvirew Rd:geo:-117.2378948,34.2410012
END:VEVENT
END:VCALENDAR