BEGIN:VCALENDAR
VERSION:2.0
PRODID:-//Crestline Chamber of Commerce - ECPv6.15.20//NONSGML v1.0//EN
CALSCALE:GREGORIAN
METHOD:PUBLISH
X-ORIGINAL-URL:https://www.crestlinechamber.org
X-WR-CALDESC:Events for Crestline Chamber of Commerce
REFRESH-INTERVAL;VALUE=DURATION:PT1H
X-Robots-Tag:noindex
X-PUBLISHED-TTL:PT1H
BEGIN:VTIMEZONE
TZID:America/Los_Angeles
BEGIN:DAYLIGHT
TZOFFSETFROM:-0800
TZOFFSETTO:-0700
TZNAME:PDT
DTSTART:20220313T100000
END:DAYLIGHT
BEGIN:STANDARD
TZOFFSETFROM:-0700
TZOFFSETTO:-0800
TZNAME:PST
DTSTART:20221106T090000
END:STANDARD
BEGIN:DAYLIGHT
TZOFFSETFROM:-0800
TZOFFSETTO:-0700
TZNAME:PDT
DTSTART:20230312T100000
END:DAYLIGHT
BEGIN:STANDARD
TZOFFSETFROM:-0700
TZOFFSETTO:-0800
TZNAME:PST
DTSTART:20231105T090000
END:STANDARD
BEGIN:DAYLIGHT
TZOFFSETFROM:-0800
TZOFFSETTO:-0700
TZNAME:PDT
DTSTART:20240310T100000
END:DAYLIGHT
BEGIN:STANDARD
TZOFFSETFROM:-0700
TZOFFSETTO:-0800
TZNAME:PST
DTSTART:20241103T090000
END:STANDARD
BEGIN:DAYLIGHT
TZOFFSETFROM:-0800
TZOFFSETTO:-0700
TZNAME:PDT
DTSTART:20250309T100000
END:DAYLIGHT
BEGIN:STANDARD
TZOFFSETFROM:-0700
TZOFFSETTO:-0800
TZNAME:PST
DTSTART:20251102T090000
END:STANDARD
BEGIN:DAYLIGHT
TZOFFSETFROM:-0800
TZOFFSETTO:-0700
TZNAME:PDT
DTSTART:20260308T100000
END:DAYLIGHT
BEGIN:STANDARD
TZOFFSETFROM:-0700
TZOFFSETTO:-0800
TZNAME:PST
DTSTART:20261101T090000
END:STANDARD
END:VTIMEZONE
BEGIN:VEVENT
DTSTART;TZID=America/Los_Angeles:20251002T180000
DTEND;TZID=America/Los_Angeles:20251002T190000
DTSTAMP:20260423T231628
CREATED:20250922T212059Z
LAST-MODIFIED:20250922T212059Z
UID:10006932-1759428000-1759431600@www.crestlinechamber.org
SUMMARY:Wildfire Safety Meeting
DESCRIPTION:Hosted by Southern California Edison in partnership with Riverside Country Emergency Management Department & San Bernardino County Office of Emergency Services  \ntinyurl.com/SCE-WSCM
URL:https://www.crestlinechamber.org/event/wildfire-safety-meeting/
LOCATION:Online
CATEGORIES:Community Event,Community Meeting
ATTACH;FMTTYPE=image/jpeg:https://www.crestlinechamber.org/wp-content/uploads/2025/09/SCE-WSCM-IE-Counties.jpg
ORGANIZER;CN="Southern California Edison":MAILTO:SCE currently does not offer support by email.
END:VEVENT
BEGIN:VEVENT
DTSTART;TZID=America/Los_Angeles:20230912T183000
DTEND;TZID=America/Los_Angeles:20230912T193000
DTSTAMP:20260423T231628
CREATED:20230906T195526Z
LAST-MODIFIED:20230906T195526Z
UID:10000331-1694543400-1694547000@www.crestlinechamber.org
SUMMARY:Southern CA Edison Community Meeting regarding Upcoming Power Outages
DESCRIPTION:Southern California Edison invites residents of Crestline to a community meeting to receive information about an upcoming outage that will strengthen grid reliability in the Crestline area in advance of the coming winter months. Work is scheduled to begin at 8pm on October 7th to 12:00 pm on October 8th and at 8pm on October 14th to 12:00 pm on October 15th. \nPlease join us to learn important details about this upcoming work. \nSeptember 12th\, 2023  \nSAN MORITZ LODGE  \n24640 San Moritz Dr\, Crestline\, CA 92325  \n@ 6:30 pm  \n* Planned work will result in overnight power outages
URL:https://www.crestlinechamber.org/event/southern-ca-edison-community-meeting-regarding-upcoming-power-outages/
LOCATION:San Moritz Lodge\, 24640 San Moritz Dr.\, Crestline\, CA\, 92325\, United States
CATEGORIES:Community Meeting,Lake Gregory,seminar
ORGANIZER;CN="Southern California Edison":MAILTO:SCE currently does not offer support by email.
GEO:34.2389643;-117.2661879
X-APPLE-STRUCTURED-LOCATION;VALUE=URI;X-ADDRESS=San Moritz Lodge 24640 San Moritz Dr. Crestline CA 92325 United States;X-APPLE-RADIUS=500;X-TITLE=24640 San Moritz Dr.:geo:-117.2661879,34.2389643
END:VEVENT
END:VCALENDAR