BEGIN:VCALENDAR
VERSION:2.0
PRODID:-//Crestline Chamber of Commerce - ECPv6.15.20//NONSGML v1.0//EN
CALSCALE:GREGORIAN
METHOD:PUBLISH
X-ORIGINAL-URL:https://www.crestlinechamber.org
X-WR-CALDESC:Events for Crestline Chamber of Commerce
REFRESH-INTERVAL;VALUE=DURATION:PT1H
X-Robots-Tag:noindex
X-PUBLISHED-TTL:PT1H
BEGIN:VTIMEZONE
TZID:America/Los_Angeles
BEGIN:DAYLIGHT
TZOFFSETFROM:-0800
TZOFFSETTO:-0700
TZNAME:PDT
DTSTART:20240310T100000
END:DAYLIGHT
BEGIN:STANDARD
TZOFFSETFROM:-0700
TZOFFSETTO:-0800
TZNAME:PST
DTSTART:20241103T090000
END:STANDARD
BEGIN:DAYLIGHT
TZOFFSETFROM:-0800
TZOFFSETTO:-0700
TZNAME:PDT
DTSTART:20250309T100000
END:DAYLIGHT
BEGIN:STANDARD
TZOFFSETFROM:-0700
TZOFFSETTO:-0800
TZNAME:PST
DTSTART:20251102T090000
END:STANDARD
BEGIN:DAYLIGHT
TZOFFSETFROM:-0800
TZOFFSETTO:-0700
TZNAME:PDT
DTSTART:20260308T100000
END:DAYLIGHT
BEGIN:STANDARD
TZOFFSETFROM:-0700
TZOFFSETTO:-0800
TZNAME:PST
DTSTART:20261101T090000
END:STANDARD
END:VTIMEZONE
BEGIN:VEVENT
DTSTART;TZID=America/Los_Angeles:20250415T120000
DTEND;TZID=America/Los_Angeles:20250415T133000
DTSTAMP:20260423T182650
CREATED:20250204T210843Z
LAST-MODIFIED:20250204T210843Z
UID:10005303-1744718400-1744723800@www.crestlinechamber.org
SUMMARY:Mountainpreneurs Networking Meetup
DESCRIPTION:Join us at Crestline Hive for our Mountainpreneurs Networking Meetup\, a monthly gathering designed for local entrepreneurs\, freelancers\, and small business owners to connect\, collaborate\, and grow together! 🌿✨ \nWhether you’re looking to share ideas\, find business support\, or simply meet like-minded professionals\, this is a great opportunity to build community and keep business thriving in the mountains. \nCome be part of the movement to strengthen our local economy—let’s support\, inspire\, and elevate each other! \n#CrestlineHive #Mountainpreneurs #Networking #SupportLocal #CrestlineBusiness
URL:https://www.crestlinechamber.org/event/mountainpreneurs-networking-meetup/2025-04-15/
LOCATION:The Hive\, 23928 Lake Drive\, Unit 103\, Crestline\, CA\, 92325
CATEGORIES:Community Event,Community Meeting,Family Friendly
ORGANIZER;CN="The Hive":MAILTO:hello@crestlinehive.com
END:VEVENT
BEGIN:VEVENT
DTSTART;TZID=America/Los_Angeles:20250318T120000
DTEND;TZID=America/Los_Angeles:20250318T133000
DTSTAMP:20260423T182650
CREATED:20250204T210843Z
LAST-MODIFIED:20250204T210843Z
UID:10005302-1742299200-1742304600@www.crestlinechamber.org
SUMMARY:Mountainpreneurs Networking Meetup
DESCRIPTION:Join us at Crestline Hive for our Mountainpreneurs Networking Meetup\, a monthly gathering designed for local entrepreneurs\, freelancers\, and small business owners to connect\, collaborate\, and grow together! 🌿✨ \nWhether you’re looking to share ideas\, find business support\, or simply meet like-minded professionals\, this is a great opportunity to build community and keep business thriving in the mountains. \nCome be part of the movement to strengthen our local economy—let’s support\, inspire\, and elevate each other! \n#CrestlineHive #Mountainpreneurs #Networking #SupportLocal #CrestlineBusiness
URL:https://www.crestlinechamber.org/event/mountainpreneurs-networking-meetup/2025-03-18/
LOCATION:The Hive\, 23928 Lake Drive\, Unit 103\, Crestline\, CA\, 92325
CATEGORIES:Community Event,Community Meeting,Family Friendly
ORGANIZER;CN="The Hive":MAILTO:hello@crestlinehive.com
END:VEVENT
BEGIN:VEVENT
DTSTART;TZID=America/Los_Angeles:20250218T120000
DTEND;TZID=America/Los_Angeles:20250218T133000
DTSTAMP:20260423T182650
CREATED:20250204T210843Z
LAST-MODIFIED:20250204T210843Z
UID:10005301-1739880000-1739885400@www.crestlinechamber.org
SUMMARY:Mountainpreneurs Networking Meetup
DESCRIPTION:Join us at Crestline Hive for our Mountainpreneurs Networking Meetup\, a monthly gathering designed for local entrepreneurs\, freelancers\, and small business owners to connect\, collaborate\, and grow together! 🌿✨ \nWhether you’re looking to share ideas\, find business support\, or simply meet like-minded professionals\, this is a great opportunity to build community and keep business thriving in the mountains. \nCome be part of the movement to strengthen our local economy—let’s support\, inspire\, and elevate each other! \n#CrestlineHive #Mountainpreneurs #Networking #SupportLocal #CrestlineBusiness
URL:https://www.crestlinechamber.org/event/mountainpreneurs-networking-meetup/2025-02-18/
LOCATION:The Hive\, 23928 Lake Drive\, Unit 103\, Crestline\, CA\, 92325
CATEGORIES:Community Event,Community Meeting,Family Friendly
ORGANIZER;CN="The Hive":MAILTO:hello@crestlinehive.com
END:VEVENT
END:VCALENDAR