BEGIN:VCALENDAR
VERSION:2.0
PRODID:-//Crestline Chamber of Commerce - ECPv6.15.20//NONSGML v1.0//EN
CALSCALE:GREGORIAN
METHOD:PUBLISH
X-WR-CALNAME:Crestline Chamber of Commerce
X-ORIGINAL-URL:https://www.crestlinechamber.org
X-WR-CALDESC:Events for Crestline Chamber of Commerce
REFRESH-INTERVAL;VALUE=DURATION:PT1H
X-Robots-Tag:noindex
X-PUBLISHED-TTL:PT1H
BEGIN:VTIMEZONE
TZID:America/Los_Angeles
BEGIN:DAYLIGHT
TZOFFSETFROM:-0800
TZOFFSETTO:-0700
TZNAME:PDT
DTSTART:20210314T100000
END:DAYLIGHT
BEGIN:STANDARD
TZOFFSETFROM:-0700
TZOFFSETTO:-0800
TZNAME:PST
DTSTART:20211107T090000
END:STANDARD
BEGIN:DAYLIGHT
TZOFFSETFROM:-0800
TZOFFSETTO:-0700
TZNAME:PDT
DTSTART:20220313T100000
END:DAYLIGHT
BEGIN:STANDARD
TZOFFSETFROM:-0700
TZOFFSETTO:-0800
TZNAME:PST
DTSTART:20221106T090000
END:STANDARD
BEGIN:DAYLIGHT
TZOFFSETFROM:-0800
TZOFFSETTO:-0700
TZNAME:PDT
DTSTART:20230312T100000
END:DAYLIGHT
BEGIN:STANDARD
TZOFFSETFROM:-0700
TZOFFSETTO:-0800
TZNAME:PST
DTSTART:20231105T090000
END:STANDARD
END:VTIMEZONE
BEGIN:VEVENT
DTSTART;TZID=America/Los_Angeles:20220811T150000
DTEND;TZID=America/Los_Angeles:20220811T190000
DTSTAMP:20260423T182115
CREATED:20220727T181352Z
LAST-MODIFIED:20220727T181352Z
UID:10000051-1660230000-1660244400@www.crestlinechamber.org
SUMMARY:Twin Peaks Farmers Market
DESCRIPTION:We are curated locally based Certified Farmers market. We feature some of southern California’s best farmers as well as food products and local artisans. Located in Twin Peaks between Crestline and Lake Arrowhead we are hosted by the Rim of the World Lodge right next to the sheriffs station every Thursday 3pm-7pm weather permitting. Some of our vendors include local seafood from Cast Away seafood\, amazing hand crafted yogurts from Bon Jour Yogurts\, fresh orange juice from Happy Hawk Farms\, fresh local cheeses\, kombucha and breads from the Twin Peaks Trading Post and so many more! We also feature local hot food classics such as Buddys BBQ\, Tye Dye Tacos\, Jerk Grill and weekly guests! Come and enjoy a beautiful afternoon with us\, take in the fresh foods\, enjoy the beautiful music\, and go home knowing you are nurturing yourself and your community.
URL:https://www.crestlinechamber.org/event/twin-peaks-farmers-market-2/
LOCATION:Rim of the World Lodge\, 26012 CA-189\, Twin Peak\, CA\, 92391\, United States
CATEGORIES:Family Friendly
ORGANIZER;CN="Twin Peaks Farmers Market":MAILTO:twinpeaksfarmersmarket@gmail.com
GEO:34.2390152;-117.2360344
X-APPLE-STRUCTURED-LOCATION;VALUE=URI;X-ADDRESS=Rim of the World Lodge 26012 CA-189 Twin Peak CA 92391 United States;X-APPLE-RADIUS=500;X-TITLE=26012 CA-189:geo:-117.2360344,34.2390152
END:VEVENT
BEGIN:VEVENT
DTSTART;TZID=America/Los_Angeles:20220804T150000
DTEND;TZID=America/Los_Angeles:20220804T190000
DTSTAMP:20260423T182115
CREATED:20220727T174315Z
LAST-MODIFIED:20220727T174315Z
UID:10000050-1659625200-1659639600@www.crestlinechamber.org
SUMMARY:Twin Peaks Farmers Market
DESCRIPTION:We are curated locally based Certified Farmers market. We feature some of southern California’s best farmers as well as food products and local artisans. Located in Twin Peaks between Crestline and Lake Arrowhead we are hosted by the Rim of the World Lodge right next to the sheriffs station every Thursday 3pm-7pm weather permitting. Some of our vendors include local seafood from Cast Away seafood\, amazing hand crafted yogurts from Bon Jour Yogurts\, fresh orange juice from Happy Hawk Farms\, fresh local cheeses\, kombucha and breads from the Twin Peaks Trading Post and so many more! We also feature local hot food classics such as Buddys BBQ\, Tye Dye Tacos\, Jerk Grill and weekly guests! Come and enjoy a beautiful afternoon with us\, take in the fresh foods\, enjoy the beautiful music\, and go home knowing you are nurturing yourself and your community.
URL:https://www.crestlinechamber.org/event/twin-peaks-farmers-market/
LOCATION:Rim of the World Lodge\, 26012 CA-189\, Twin Peak\, CA\, 92391\, United States
CATEGORIES:Family Friendly,Live Music
ORGANIZER;CN="Twin Peaks Farmers Market":MAILTO:twinpeaksfarmersmarket@gmail.com
GEO:34.2390152;-117.2360344
X-APPLE-STRUCTURED-LOCATION;VALUE=URI;X-ADDRESS=Rim of the World Lodge 26012 CA-189 Twin Peak CA 92391 United States;X-APPLE-RADIUS=500;X-TITLE=26012 CA-189:geo:-117.2360344,34.2390152
END:VEVENT
END:VCALENDAR