BEGIN:VCALENDAR
VERSION:2.0
PRODID:-//Crestline Chamber of Commerce - ECPv6.15.20//NONSGML v1.0//EN
CALSCALE:GREGORIAN
METHOD:PUBLISH
X-WR-CALNAME:Crestline Chamber of Commerce
X-ORIGINAL-URL:https://www.crestlinechamber.org
X-WR-CALDESC:Events for Crestline Chamber of Commerce
REFRESH-INTERVAL;VALUE=DURATION:PT1H
X-Robots-Tag:noindex
X-PUBLISHED-TTL:PT1H
BEGIN:VTIMEZONE
TZID:America/Los_Angeles
BEGIN:DAYLIGHT
TZOFFSETFROM:-0800
TZOFFSETTO:-0700
TZNAME:PDT
DTSTART:20260308T100000
END:DAYLIGHT
BEGIN:STANDARD
TZOFFSETFROM:-0700
TZOFFSETTO:-0800
TZNAME:PST
DTSTART:20261101T090000
END:STANDARD
BEGIN:DAYLIGHT
TZOFFSETFROM:-0800
TZOFFSETTO:-0700
TZNAME:PDT
DTSTART:20270314T100000
END:DAYLIGHT
BEGIN:STANDARD
TZOFFSETFROM:-0700
TZOFFSETTO:-0800
TZNAME:PST
DTSTART:20271107T090000
END:STANDARD
BEGIN:DAYLIGHT
TZOFFSETFROM:-0800
TZOFFSETTO:-0700
TZNAME:PDT
DTSTART:20280312T100000
END:DAYLIGHT
BEGIN:STANDARD
TZOFFSETFROM:-0700
TZOFFSETTO:-0800
TZNAME:PST
DTSTART:20281105T090000
END:STANDARD
BEGIN:DAYLIGHT
TZOFFSETFROM:-0800
TZOFFSETTO:-0700
TZNAME:PDT
DTSTART:20290311T100000
END:DAYLIGHT
BEGIN:STANDARD
TZOFFSETFROM:-0700
TZOFFSETTO:-0800
TZNAME:PST
DTSTART:20291104T090000
END:STANDARD
END:VTIMEZONE
BEGIN:VEVENT
DTSTART;TZID=America/Los_Angeles:20271209T140000
DTEND;TZID=America/Los_Angeles:20271209T183000
DTSTAMP:20260424T011224
CREATED:20250813T172934Z
LAST-MODIFIED:20250813T173846Z
UID:10006785-1828360800-1828377000@www.crestlinechamber.org
SUMMARY:Twin Peaks Farmers Market 🍏🍊🍋🍉🍓🥦🥒🫑🧄🍞🥖
DESCRIPTION:
URL:https://www.crestlinechamber.org/event/twin-peaks-farmers-market-%f0%9f%8d%8f%f0%9f%8d%8a%f0%9f%8d%8b%f0%9f%8d%89%f0%9f%8d%93%f0%9f%a5%a6%f0%9f%a5%92%f0%9f%ab%91%f0%9f%a7%84%f0%9f%8d%9e%f0%9f%a5%96/2027-12-09/
LOCATION:26012 HWY 189\, Twin Peaks
CATEGORIES:Community Event,Family Friendly,Live Music
ATTACH;FMTTYPE=image/jpeg:https://www.crestlinechamber.org/wp-content/uploads/2025/08/img20250812_15422707-scaled.jpg
ORGANIZER;CN="Twin Peaks Farmers Market":MAILTO:twinpeaksfarmersmarket@gmail.com
END:VEVENT
BEGIN:VEVENT
DTSTART;TZID=America/Los_Angeles:20271216T140000
DTEND;TZID=America/Los_Angeles:20271216T183000
DTSTAMP:20260424T011224
CREATED:20250813T172934Z
LAST-MODIFIED:20250813T173846Z
UID:10006786-1828965600-1828981800@www.crestlinechamber.org
SUMMARY:Twin Peaks Farmers Market 🍏🍊🍋🍉🍓🥦🥒🫑🧄🍞🥖
DESCRIPTION:
URL:https://www.crestlinechamber.org/event/twin-peaks-farmers-market-%f0%9f%8d%8f%f0%9f%8d%8a%f0%9f%8d%8b%f0%9f%8d%89%f0%9f%8d%93%f0%9f%a5%a6%f0%9f%a5%92%f0%9f%ab%91%f0%9f%a7%84%f0%9f%8d%9e%f0%9f%a5%96/2027-12-16/
LOCATION:26012 HWY 189\, Twin Peaks
CATEGORIES:Community Event,Family Friendly,Live Music
ATTACH;FMTTYPE=image/jpeg:https://www.crestlinechamber.org/wp-content/uploads/2025/08/img20250812_15422707-scaled.jpg
ORGANIZER;CN="Twin Peaks Farmers Market":MAILTO:twinpeaksfarmersmarket@gmail.com
END:VEVENT
BEGIN:VEVENT
DTSTART;TZID=America/Los_Angeles:20271223T140000
DTEND;TZID=America/Los_Angeles:20271223T183000
DTSTAMP:20260424T011224
CREATED:20250813T172934Z
LAST-MODIFIED:20250813T173846Z
UID:10006787-1829570400-1829586600@www.crestlinechamber.org
SUMMARY:Twin Peaks Farmers Market 🍏🍊🍋🍉🍓🥦🥒🫑🧄🍞🥖
DESCRIPTION:
URL:https://www.crestlinechamber.org/event/twin-peaks-farmers-market-%f0%9f%8d%8f%f0%9f%8d%8a%f0%9f%8d%8b%f0%9f%8d%89%f0%9f%8d%93%f0%9f%a5%a6%f0%9f%a5%92%f0%9f%ab%91%f0%9f%a7%84%f0%9f%8d%9e%f0%9f%a5%96/2027-12-23/
LOCATION:26012 HWY 189\, Twin Peaks
CATEGORIES:Community Event,Family Friendly,Live Music
ATTACH;FMTTYPE=image/jpeg:https://www.crestlinechamber.org/wp-content/uploads/2025/08/img20250812_15422707-scaled.jpg
ORGANIZER;CN="Twin Peaks Farmers Market":MAILTO:twinpeaksfarmersmarket@gmail.com
END:VEVENT
BEGIN:VEVENT
DTSTART;TZID=America/Los_Angeles:20271230T140000
DTEND;TZID=America/Los_Angeles:20271230T183000
DTSTAMP:20260424T011224
CREATED:20250813T172934Z
LAST-MODIFIED:20250813T173846Z
UID:10006788-1830175200-1830191400@www.crestlinechamber.org
SUMMARY:Twin Peaks Farmers Market 🍏🍊🍋🍉🍓🥦🥒🫑🧄🍞🥖
DESCRIPTION:
URL:https://www.crestlinechamber.org/event/twin-peaks-farmers-market-%f0%9f%8d%8f%f0%9f%8d%8a%f0%9f%8d%8b%f0%9f%8d%89%f0%9f%8d%93%f0%9f%a5%a6%f0%9f%a5%92%f0%9f%ab%91%f0%9f%a7%84%f0%9f%8d%9e%f0%9f%a5%96/2027-12-30/
LOCATION:26012 HWY 189\, Twin Peaks
CATEGORIES:Community Event,Family Friendly,Live Music
ATTACH;FMTTYPE=image/jpeg:https://www.crestlinechamber.org/wp-content/uploads/2025/08/img20250812_15422707-scaled.jpg
ORGANIZER;CN="Twin Peaks Farmers Market":MAILTO:twinpeaksfarmersmarket@gmail.com
END:VEVENT
BEGIN:VEVENT
DTSTART;TZID=America/Los_Angeles:20280106T140000
DTEND;TZID=America/Los_Angeles:20280106T183000
DTSTAMP:20260424T011224
CREATED:20250813T172934Z
LAST-MODIFIED:20250813T173846Z
UID:10006789-1830780000-1830796200@www.crestlinechamber.org
SUMMARY:Twin Peaks Farmers Market 🍏🍊🍋🍉🍓🥦🥒🫑🧄🍞🥖
DESCRIPTION:
URL:https://www.crestlinechamber.org/event/twin-peaks-farmers-market-%f0%9f%8d%8f%f0%9f%8d%8a%f0%9f%8d%8b%f0%9f%8d%89%f0%9f%8d%93%f0%9f%a5%a6%f0%9f%a5%92%f0%9f%ab%91%f0%9f%a7%84%f0%9f%8d%9e%f0%9f%a5%96/2028-01-06/
LOCATION:26012 HWY 189\, Twin Peaks
CATEGORIES:Community Event,Family Friendly,Live Music
ATTACH;FMTTYPE=image/jpeg:https://www.crestlinechamber.org/wp-content/uploads/2025/08/img20250812_15422707-scaled.jpg
ORGANIZER;CN="Twin Peaks Farmers Market":MAILTO:twinpeaksfarmersmarket@gmail.com
END:VEVENT
BEGIN:VEVENT
DTSTART;TZID=America/Los_Angeles:20280113T140000
DTEND;TZID=America/Los_Angeles:20280113T183000
DTSTAMP:20260424T011224
CREATED:20250813T172934Z
LAST-MODIFIED:20250813T173846Z
UID:10006790-1831384800-1831401000@www.crestlinechamber.org
SUMMARY:Twin Peaks Farmers Market 🍏🍊🍋🍉🍓🥦🥒🫑🧄🍞🥖
DESCRIPTION:
URL:https://www.crestlinechamber.org/event/twin-peaks-farmers-market-%f0%9f%8d%8f%f0%9f%8d%8a%f0%9f%8d%8b%f0%9f%8d%89%f0%9f%8d%93%f0%9f%a5%a6%f0%9f%a5%92%f0%9f%ab%91%f0%9f%a7%84%f0%9f%8d%9e%f0%9f%a5%96/2028-01-13/
LOCATION:26012 HWY 189\, Twin Peaks
CATEGORIES:Community Event,Family Friendly,Live Music
ATTACH;FMTTYPE=image/jpeg:https://www.crestlinechamber.org/wp-content/uploads/2025/08/img20250812_15422707-scaled.jpg
ORGANIZER;CN="Twin Peaks Farmers Market":MAILTO:twinpeaksfarmersmarket@gmail.com
END:VEVENT
BEGIN:VEVENT
DTSTART;TZID=America/Los_Angeles:20280120T140000
DTEND;TZID=America/Los_Angeles:20280120T183000
DTSTAMP:20260424T011224
CREATED:20250813T172934Z
LAST-MODIFIED:20250813T173846Z
UID:10006791-1831989600-1832005800@www.crestlinechamber.org
SUMMARY:Twin Peaks Farmers Market 🍏🍊🍋🍉🍓🥦🥒🫑🧄🍞🥖
DESCRIPTION:
URL:https://www.crestlinechamber.org/event/twin-peaks-farmers-market-%f0%9f%8d%8f%f0%9f%8d%8a%f0%9f%8d%8b%f0%9f%8d%89%f0%9f%8d%93%f0%9f%a5%a6%f0%9f%a5%92%f0%9f%ab%91%f0%9f%a7%84%f0%9f%8d%9e%f0%9f%a5%96/2028-01-20/
LOCATION:26012 HWY 189\, Twin Peaks
CATEGORIES:Community Event,Family Friendly,Live Music
ATTACH;FMTTYPE=image/jpeg:https://www.crestlinechamber.org/wp-content/uploads/2025/08/img20250812_15422707-scaled.jpg
ORGANIZER;CN="Twin Peaks Farmers Market":MAILTO:twinpeaksfarmersmarket@gmail.com
END:VEVENT
BEGIN:VEVENT
DTSTART;TZID=America/Los_Angeles:20280127T140000
DTEND;TZID=America/Los_Angeles:20280127T183000
DTSTAMP:20260424T011224
CREATED:20250813T172934Z
LAST-MODIFIED:20250813T173846Z
UID:10006792-1832594400-1832610600@www.crestlinechamber.org
SUMMARY:Twin Peaks Farmers Market 🍏🍊🍋🍉🍓🥦🥒🫑🧄🍞🥖
DESCRIPTION:
URL:https://www.crestlinechamber.org/event/twin-peaks-farmers-market-%f0%9f%8d%8f%f0%9f%8d%8a%f0%9f%8d%8b%f0%9f%8d%89%f0%9f%8d%93%f0%9f%a5%a6%f0%9f%a5%92%f0%9f%ab%91%f0%9f%a7%84%f0%9f%8d%9e%f0%9f%a5%96/2028-01-27/
LOCATION:26012 HWY 189\, Twin Peaks
CATEGORIES:Community Event,Family Friendly,Live Music
ATTACH;FMTTYPE=image/jpeg:https://www.crestlinechamber.org/wp-content/uploads/2025/08/img20250812_15422707-scaled.jpg
ORGANIZER;CN="Twin Peaks Farmers Market":MAILTO:twinpeaksfarmersmarket@gmail.com
END:VEVENT
BEGIN:VEVENT
DTSTART;TZID=America/Los_Angeles:20280203T140000
DTEND;TZID=America/Los_Angeles:20280203T183000
DTSTAMP:20260424T011224
CREATED:20250813T172934Z
LAST-MODIFIED:20250813T173846Z
UID:10006793-1833199200-1833215400@www.crestlinechamber.org
SUMMARY:Twin Peaks Farmers Market 🍏🍊🍋🍉🍓🥦🥒🫑🧄🍞🥖
DESCRIPTION:
URL:https://www.crestlinechamber.org/event/twin-peaks-farmers-market-%f0%9f%8d%8f%f0%9f%8d%8a%f0%9f%8d%8b%f0%9f%8d%89%f0%9f%8d%93%f0%9f%a5%a6%f0%9f%a5%92%f0%9f%ab%91%f0%9f%a7%84%f0%9f%8d%9e%f0%9f%a5%96/2028-02-03/
LOCATION:26012 HWY 189\, Twin Peaks
CATEGORIES:Community Event,Family Friendly,Live Music
ATTACH;FMTTYPE=image/jpeg:https://www.crestlinechamber.org/wp-content/uploads/2025/08/img20250812_15422707-scaled.jpg
ORGANIZER;CN="Twin Peaks Farmers Market":MAILTO:twinpeaksfarmersmarket@gmail.com
END:VEVENT
BEGIN:VEVENT
DTSTART;TZID=America/Los_Angeles:20280210T140000
DTEND;TZID=America/Los_Angeles:20280210T183000
DTSTAMP:20260424T011224
CREATED:20250813T172934Z
LAST-MODIFIED:20250813T173846Z
UID:10006794-1833804000-1833820200@www.crestlinechamber.org
SUMMARY:Twin Peaks Farmers Market 🍏🍊🍋🍉🍓🥦🥒🫑🧄🍞🥖
DESCRIPTION:
URL:https://www.crestlinechamber.org/event/twin-peaks-farmers-market-%f0%9f%8d%8f%f0%9f%8d%8a%f0%9f%8d%8b%f0%9f%8d%89%f0%9f%8d%93%f0%9f%a5%a6%f0%9f%a5%92%f0%9f%ab%91%f0%9f%a7%84%f0%9f%8d%9e%f0%9f%a5%96/2028-02-10/
LOCATION:26012 HWY 189\, Twin Peaks
CATEGORIES:Community Event,Family Friendly,Live Music
ATTACH;FMTTYPE=image/jpeg:https://www.crestlinechamber.org/wp-content/uploads/2025/08/img20250812_15422707-scaled.jpg
ORGANIZER;CN="Twin Peaks Farmers Market":MAILTO:twinpeaksfarmersmarket@gmail.com
END:VEVENT
BEGIN:VEVENT
DTSTART;TZID=America/Los_Angeles:20280217T140000
DTEND;TZID=America/Los_Angeles:20280217T183000
DTSTAMP:20260424T011224
CREATED:20250813T172934Z
LAST-MODIFIED:20250813T173846Z
UID:10006795-1834408800-1834425000@www.crestlinechamber.org
SUMMARY:Twin Peaks Farmers Market 🍏🍊🍋🍉🍓🥦🥒🫑🧄🍞🥖
DESCRIPTION:
URL:https://www.crestlinechamber.org/event/twin-peaks-farmers-market-%f0%9f%8d%8f%f0%9f%8d%8a%f0%9f%8d%8b%f0%9f%8d%89%f0%9f%8d%93%f0%9f%a5%a6%f0%9f%a5%92%f0%9f%ab%91%f0%9f%a7%84%f0%9f%8d%9e%f0%9f%a5%96/2028-02-17/
LOCATION:26012 HWY 189\, Twin Peaks
CATEGORIES:Community Event,Family Friendly,Live Music
ATTACH;FMTTYPE=image/jpeg:https://www.crestlinechamber.org/wp-content/uploads/2025/08/img20250812_15422707-scaled.jpg
ORGANIZER;CN="Twin Peaks Farmers Market":MAILTO:twinpeaksfarmersmarket@gmail.com
END:VEVENT
BEGIN:VEVENT
DTSTART;TZID=America/Los_Angeles:20280224T140000
DTEND;TZID=America/Los_Angeles:20280224T183000
DTSTAMP:20260424T011224
CREATED:20250813T172934Z
LAST-MODIFIED:20250813T173846Z
UID:10006796-1835013600-1835029800@www.crestlinechamber.org
SUMMARY:Twin Peaks Farmers Market 🍏🍊🍋🍉🍓🥦🥒🫑🧄🍞🥖
DESCRIPTION:
URL:https://www.crestlinechamber.org/event/twin-peaks-farmers-market-%f0%9f%8d%8f%f0%9f%8d%8a%f0%9f%8d%8b%f0%9f%8d%89%f0%9f%8d%93%f0%9f%a5%a6%f0%9f%a5%92%f0%9f%ab%91%f0%9f%a7%84%f0%9f%8d%9e%f0%9f%a5%96/2028-02-24/
LOCATION:26012 HWY 189\, Twin Peaks
CATEGORIES:Community Event,Family Friendly,Live Music
ATTACH;FMTTYPE=image/jpeg:https://www.crestlinechamber.org/wp-content/uploads/2025/08/img20250812_15422707-scaled.jpg
ORGANIZER;CN="Twin Peaks Farmers Market":MAILTO:twinpeaksfarmersmarket@gmail.com
END:VEVENT
BEGIN:VEVENT
DTSTART;TZID=America/Los_Angeles:20280302T140000
DTEND;TZID=America/Los_Angeles:20280302T183000
DTSTAMP:20260424T011224
CREATED:20250813T172934Z
LAST-MODIFIED:20250813T173846Z
UID:10006797-1835618400-1835634600@www.crestlinechamber.org
SUMMARY:Twin Peaks Farmers Market 🍏🍊🍋🍉🍓🥦🥒🫑🧄🍞🥖
DESCRIPTION:
URL:https://www.crestlinechamber.org/event/twin-peaks-farmers-market-%f0%9f%8d%8f%f0%9f%8d%8a%f0%9f%8d%8b%f0%9f%8d%89%f0%9f%8d%93%f0%9f%a5%a6%f0%9f%a5%92%f0%9f%ab%91%f0%9f%a7%84%f0%9f%8d%9e%f0%9f%a5%96/2028-03-02/
LOCATION:26012 HWY 189\, Twin Peaks
CATEGORIES:Community Event,Family Friendly,Live Music
ATTACH;FMTTYPE=image/jpeg:https://www.crestlinechamber.org/wp-content/uploads/2025/08/img20250812_15422707-scaled.jpg
ORGANIZER;CN="Twin Peaks Farmers Market":MAILTO:twinpeaksfarmersmarket@gmail.com
END:VEVENT
BEGIN:VEVENT
DTSTART;TZID=America/Los_Angeles:20280309T140000
DTEND;TZID=America/Los_Angeles:20280309T183000
DTSTAMP:20260424T011224
CREATED:20250813T172934Z
LAST-MODIFIED:20250813T173846Z
UID:10006798-1836223200-1836239400@www.crestlinechamber.org
SUMMARY:Twin Peaks Farmers Market 🍏🍊🍋🍉🍓🥦🥒🫑🧄🍞🥖
DESCRIPTION:
URL:https://www.crestlinechamber.org/event/twin-peaks-farmers-market-%f0%9f%8d%8f%f0%9f%8d%8a%f0%9f%8d%8b%f0%9f%8d%89%f0%9f%8d%93%f0%9f%a5%a6%f0%9f%a5%92%f0%9f%ab%91%f0%9f%a7%84%f0%9f%8d%9e%f0%9f%a5%96/2028-03-09/
LOCATION:26012 HWY 189\, Twin Peaks
CATEGORIES:Community Event,Family Friendly,Live Music
ATTACH;FMTTYPE=image/jpeg:https://www.crestlinechamber.org/wp-content/uploads/2025/08/img20250812_15422707-scaled.jpg
ORGANIZER;CN="Twin Peaks Farmers Market":MAILTO:twinpeaksfarmersmarket@gmail.com
END:VEVENT
BEGIN:VEVENT
DTSTART;TZID=America/Los_Angeles:20280316T140000
DTEND;TZID=America/Los_Angeles:20280316T183000
DTSTAMP:20260424T011224
CREATED:20250813T172934Z
LAST-MODIFIED:20250813T173846Z
UID:10006799-1836828000-1836844200@www.crestlinechamber.org
SUMMARY:Twin Peaks Farmers Market 🍏🍊🍋🍉🍓🥦🥒🫑🧄🍞🥖
DESCRIPTION:
URL:https://www.crestlinechamber.org/event/twin-peaks-farmers-market-%f0%9f%8d%8f%f0%9f%8d%8a%f0%9f%8d%8b%f0%9f%8d%89%f0%9f%8d%93%f0%9f%a5%a6%f0%9f%a5%92%f0%9f%ab%91%f0%9f%a7%84%f0%9f%8d%9e%f0%9f%a5%96/2028-03-16/
LOCATION:26012 HWY 189\, Twin Peaks
CATEGORIES:Community Event,Family Friendly,Live Music
ATTACH;FMTTYPE=image/jpeg:https://www.crestlinechamber.org/wp-content/uploads/2025/08/img20250812_15422707-scaled.jpg
ORGANIZER;CN="Twin Peaks Farmers Market":MAILTO:twinpeaksfarmersmarket@gmail.com
END:VEVENT
BEGIN:VEVENT
DTSTART;TZID=America/Los_Angeles:20280323T140000
DTEND;TZID=America/Los_Angeles:20280323T183000
DTSTAMP:20260424T011224
CREATED:20250813T172934Z
LAST-MODIFIED:20250813T173846Z
UID:10006800-1837432800-1837449000@www.crestlinechamber.org
SUMMARY:Twin Peaks Farmers Market 🍏🍊🍋🍉🍓🥦🥒🫑🧄🍞🥖
DESCRIPTION:
URL:https://www.crestlinechamber.org/event/twin-peaks-farmers-market-%f0%9f%8d%8f%f0%9f%8d%8a%f0%9f%8d%8b%f0%9f%8d%89%f0%9f%8d%93%f0%9f%a5%a6%f0%9f%a5%92%f0%9f%ab%91%f0%9f%a7%84%f0%9f%8d%9e%f0%9f%a5%96/2028-03-23/
LOCATION:26012 HWY 189\, Twin Peaks
CATEGORIES:Community Event,Family Friendly,Live Music
ATTACH;FMTTYPE=image/jpeg:https://www.crestlinechamber.org/wp-content/uploads/2025/08/img20250812_15422707-scaled.jpg
ORGANIZER;CN="Twin Peaks Farmers Market":MAILTO:twinpeaksfarmersmarket@gmail.com
END:VEVENT
BEGIN:VEVENT
DTSTART;TZID=America/Los_Angeles:20280330T140000
DTEND;TZID=America/Los_Angeles:20280330T183000
DTSTAMP:20260424T011224
CREATED:20250813T172934Z
LAST-MODIFIED:20250813T173846Z
UID:10006801-1838037600-1838053800@www.crestlinechamber.org
SUMMARY:Twin Peaks Farmers Market 🍏🍊🍋🍉🍓🥦🥒🫑🧄🍞🥖
DESCRIPTION:
URL:https://www.crestlinechamber.org/event/twin-peaks-farmers-market-%f0%9f%8d%8f%f0%9f%8d%8a%f0%9f%8d%8b%f0%9f%8d%89%f0%9f%8d%93%f0%9f%a5%a6%f0%9f%a5%92%f0%9f%ab%91%f0%9f%a7%84%f0%9f%8d%9e%f0%9f%a5%96/2028-03-30/
LOCATION:26012 HWY 189\, Twin Peaks
CATEGORIES:Community Event,Family Friendly,Live Music
ATTACH;FMTTYPE=image/jpeg:https://www.crestlinechamber.org/wp-content/uploads/2025/08/img20250812_15422707-scaled.jpg
ORGANIZER;CN="Twin Peaks Farmers Market":MAILTO:twinpeaksfarmersmarket@gmail.com
END:VEVENT
BEGIN:VEVENT
DTSTART;TZID=America/Los_Angeles:20280406T140000
DTEND;TZID=America/Los_Angeles:20280406T183000
DTSTAMP:20260424T011224
CREATED:20250813T172934Z
LAST-MODIFIED:20250813T173846Z
UID:10006802-1838642400-1838658600@www.crestlinechamber.org
SUMMARY:Twin Peaks Farmers Market 🍏🍊🍋🍉🍓🥦🥒🫑🧄🍞🥖
DESCRIPTION:
URL:https://www.crestlinechamber.org/event/twin-peaks-farmers-market-%f0%9f%8d%8f%f0%9f%8d%8a%f0%9f%8d%8b%f0%9f%8d%89%f0%9f%8d%93%f0%9f%a5%a6%f0%9f%a5%92%f0%9f%ab%91%f0%9f%a7%84%f0%9f%8d%9e%f0%9f%a5%96/2028-04-06/
LOCATION:26012 HWY 189\, Twin Peaks
CATEGORIES:Community Event,Family Friendly,Live Music
ATTACH;FMTTYPE=image/jpeg:https://www.crestlinechamber.org/wp-content/uploads/2025/08/img20250812_15422707-scaled.jpg
ORGANIZER;CN="Twin Peaks Farmers Market":MAILTO:twinpeaksfarmersmarket@gmail.com
END:VEVENT
BEGIN:VEVENT
DTSTART;TZID=America/Los_Angeles:20280413T140000
DTEND;TZID=America/Los_Angeles:20280413T183000
DTSTAMP:20260424T011224
CREATED:20250813T172934Z
LAST-MODIFIED:20250813T173846Z
UID:10006803-1839247200-1839263400@www.crestlinechamber.org
SUMMARY:Twin Peaks Farmers Market 🍏🍊🍋🍉🍓🥦🥒🫑🧄🍞🥖
DESCRIPTION:
URL:https://www.crestlinechamber.org/event/twin-peaks-farmers-market-%f0%9f%8d%8f%f0%9f%8d%8a%f0%9f%8d%8b%f0%9f%8d%89%f0%9f%8d%93%f0%9f%a5%a6%f0%9f%a5%92%f0%9f%ab%91%f0%9f%a7%84%f0%9f%8d%9e%f0%9f%a5%96/2028-04-13/
LOCATION:26012 HWY 189\, Twin Peaks
CATEGORIES:Community Event,Family Friendly,Live Music
ATTACH;FMTTYPE=image/jpeg:https://www.crestlinechamber.org/wp-content/uploads/2025/08/img20250812_15422707-scaled.jpg
ORGANIZER;CN="Twin Peaks Farmers Market":MAILTO:twinpeaksfarmersmarket@gmail.com
END:VEVENT
BEGIN:VEVENT
DTSTART;TZID=America/Los_Angeles:20280420T140000
DTEND;TZID=America/Los_Angeles:20280420T183000
DTSTAMP:20260424T011224
CREATED:20250813T172934Z
LAST-MODIFIED:20250813T173846Z
UID:10006804-1839852000-1839868200@www.crestlinechamber.org
SUMMARY:Twin Peaks Farmers Market 🍏🍊🍋🍉🍓🥦🥒🫑🧄🍞🥖
DESCRIPTION:
URL:https://www.crestlinechamber.org/event/twin-peaks-farmers-market-%f0%9f%8d%8f%f0%9f%8d%8a%f0%9f%8d%8b%f0%9f%8d%89%f0%9f%8d%93%f0%9f%a5%a6%f0%9f%a5%92%f0%9f%ab%91%f0%9f%a7%84%f0%9f%8d%9e%f0%9f%a5%96/2028-04-20/
LOCATION:26012 HWY 189\, Twin Peaks
CATEGORIES:Community Event,Family Friendly,Live Music
ATTACH;FMTTYPE=image/jpeg:https://www.crestlinechamber.org/wp-content/uploads/2025/08/img20250812_15422707-scaled.jpg
ORGANIZER;CN="Twin Peaks Farmers Market":MAILTO:twinpeaksfarmersmarket@gmail.com
END:VEVENT
BEGIN:VEVENT
DTSTART;TZID=America/Los_Angeles:20280427T140000
DTEND;TZID=America/Los_Angeles:20280427T183000
DTSTAMP:20260424T011224
CREATED:20250813T172934Z
LAST-MODIFIED:20250813T173846Z
UID:10006805-1840456800-1840473000@www.crestlinechamber.org
SUMMARY:Twin Peaks Farmers Market 🍏🍊🍋🍉🍓🥦🥒🫑🧄🍞🥖
DESCRIPTION:
URL:https://www.crestlinechamber.org/event/twin-peaks-farmers-market-%f0%9f%8d%8f%f0%9f%8d%8a%f0%9f%8d%8b%f0%9f%8d%89%f0%9f%8d%93%f0%9f%a5%a6%f0%9f%a5%92%f0%9f%ab%91%f0%9f%a7%84%f0%9f%8d%9e%f0%9f%a5%96/2028-04-27/
LOCATION:26012 HWY 189\, Twin Peaks
CATEGORIES:Community Event,Family Friendly,Live Music
ATTACH;FMTTYPE=image/jpeg:https://www.crestlinechamber.org/wp-content/uploads/2025/08/img20250812_15422707-scaled.jpg
ORGANIZER;CN="Twin Peaks Farmers Market":MAILTO:twinpeaksfarmersmarket@gmail.com
END:VEVENT
BEGIN:VEVENT
DTSTART;TZID=America/Los_Angeles:20280504T140000
DTEND;TZID=America/Los_Angeles:20280504T183000
DTSTAMP:20260424T011224
CREATED:20250813T172934Z
LAST-MODIFIED:20250813T173846Z
UID:10006806-1841061600-1841077800@www.crestlinechamber.org
SUMMARY:Twin Peaks Farmers Market 🍏🍊🍋🍉🍓🥦🥒🫑🧄🍞🥖
DESCRIPTION:
URL:https://www.crestlinechamber.org/event/twin-peaks-farmers-market-%f0%9f%8d%8f%f0%9f%8d%8a%f0%9f%8d%8b%f0%9f%8d%89%f0%9f%8d%93%f0%9f%a5%a6%f0%9f%a5%92%f0%9f%ab%91%f0%9f%a7%84%f0%9f%8d%9e%f0%9f%a5%96/2028-05-04/
LOCATION:26012 HWY 189\, Twin Peaks
CATEGORIES:Community Event,Family Friendly,Live Music
ATTACH;FMTTYPE=image/jpeg:https://www.crestlinechamber.org/wp-content/uploads/2025/08/img20250812_15422707-scaled.jpg
ORGANIZER;CN="Twin Peaks Farmers Market":MAILTO:twinpeaksfarmersmarket@gmail.com
END:VEVENT
BEGIN:VEVENT
DTSTART;TZID=America/Los_Angeles:20280511T140000
DTEND;TZID=America/Los_Angeles:20280511T183000
DTSTAMP:20260424T011224
CREATED:20250813T172934Z
LAST-MODIFIED:20250813T173846Z
UID:10006807-1841666400-1841682600@www.crestlinechamber.org
SUMMARY:Twin Peaks Farmers Market 🍏🍊🍋🍉🍓🥦🥒🫑🧄🍞🥖
DESCRIPTION:
URL:https://www.crestlinechamber.org/event/twin-peaks-farmers-market-%f0%9f%8d%8f%f0%9f%8d%8a%f0%9f%8d%8b%f0%9f%8d%89%f0%9f%8d%93%f0%9f%a5%a6%f0%9f%a5%92%f0%9f%ab%91%f0%9f%a7%84%f0%9f%8d%9e%f0%9f%a5%96/2028-05-11/
LOCATION:26012 HWY 189\, Twin Peaks
CATEGORIES:Community Event,Family Friendly,Live Music
ATTACH;FMTTYPE=image/jpeg:https://www.crestlinechamber.org/wp-content/uploads/2025/08/img20250812_15422707-scaled.jpg
ORGANIZER;CN="Twin Peaks Farmers Market":MAILTO:twinpeaksfarmersmarket@gmail.com
END:VEVENT
BEGIN:VEVENT
DTSTART;TZID=America/Los_Angeles:20280518T140000
DTEND;TZID=America/Los_Angeles:20280518T183000
DTSTAMP:20260424T011224
CREATED:20250813T172934Z
LAST-MODIFIED:20250813T173846Z
UID:10006808-1842271200-1842287400@www.crestlinechamber.org
SUMMARY:Twin Peaks Farmers Market 🍏🍊🍋🍉🍓🥦🥒🫑🧄🍞🥖
DESCRIPTION:
URL:https://www.crestlinechamber.org/event/twin-peaks-farmers-market-%f0%9f%8d%8f%f0%9f%8d%8a%f0%9f%8d%8b%f0%9f%8d%89%f0%9f%8d%93%f0%9f%a5%a6%f0%9f%a5%92%f0%9f%ab%91%f0%9f%a7%84%f0%9f%8d%9e%f0%9f%a5%96/2028-05-18/
LOCATION:26012 HWY 189\, Twin Peaks
CATEGORIES:Community Event,Family Friendly,Live Music
ATTACH;FMTTYPE=image/jpeg:https://www.crestlinechamber.org/wp-content/uploads/2025/08/img20250812_15422707-scaled.jpg
ORGANIZER;CN="Twin Peaks Farmers Market":MAILTO:twinpeaksfarmersmarket@gmail.com
END:VEVENT
BEGIN:VEVENT
DTSTART;TZID=America/Los_Angeles:20280525T140000
DTEND;TZID=America/Los_Angeles:20280525T183000
DTSTAMP:20260424T011224
CREATED:20250813T172934Z
LAST-MODIFIED:20250813T173846Z
UID:10006809-1842876000-1842892200@www.crestlinechamber.org
SUMMARY:Twin Peaks Farmers Market 🍏🍊🍋🍉🍓🥦🥒🫑🧄🍞🥖
DESCRIPTION:
URL:https://www.crestlinechamber.org/event/twin-peaks-farmers-market-%f0%9f%8d%8f%f0%9f%8d%8a%f0%9f%8d%8b%f0%9f%8d%89%f0%9f%8d%93%f0%9f%a5%a6%f0%9f%a5%92%f0%9f%ab%91%f0%9f%a7%84%f0%9f%8d%9e%f0%9f%a5%96/2028-05-25/
LOCATION:26012 HWY 189\, Twin Peaks
CATEGORIES:Community Event,Family Friendly,Live Music
ATTACH;FMTTYPE=image/jpeg:https://www.crestlinechamber.org/wp-content/uploads/2025/08/img20250812_15422707-scaled.jpg
ORGANIZER;CN="Twin Peaks Farmers Market":MAILTO:twinpeaksfarmersmarket@gmail.com
END:VEVENT
BEGIN:VEVENT
DTSTART;TZID=America/Los_Angeles:20280601T140000
DTEND;TZID=America/Los_Angeles:20280601T183000
DTSTAMP:20260424T011224
CREATED:20250813T172934Z
LAST-MODIFIED:20250813T173846Z
UID:10006810-1843480800-1843497000@www.crestlinechamber.org
SUMMARY:Twin Peaks Farmers Market 🍏🍊🍋🍉🍓🥦🥒🫑🧄🍞🥖
DESCRIPTION:
URL:https://www.crestlinechamber.org/event/twin-peaks-farmers-market-%f0%9f%8d%8f%f0%9f%8d%8a%f0%9f%8d%8b%f0%9f%8d%89%f0%9f%8d%93%f0%9f%a5%a6%f0%9f%a5%92%f0%9f%ab%91%f0%9f%a7%84%f0%9f%8d%9e%f0%9f%a5%96/2028-06-01/
LOCATION:26012 HWY 189\, Twin Peaks
CATEGORIES:Community Event,Family Friendly,Live Music
ATTACH;FMTTYPE=image/jpeg:https://www.crestlinechamber.org/wp-content/uploads/2025/08/img20250812_15422707-scaled.jpg
ORGANIZER;CN="Twin Peaks Farmers Market":MAILTO:twinpeaksfarmersmarket@gmail.com
END:VEVENT
BEGIN:VEVENT
DTSTART;TZID=America/Los_Angeles:20280608T140000
DTEND;TZID=America/Los_Angeles:20280608T183000
DTSTAMP:20260424T011224
CREATED:20250813T172934Z
LAST-MODIFIED:20250813T173846Z
UID:10006811-1844085600-1844101800@www.crestlinechamber.org
SUMMARY:Twin Peaks Farmers Market 🍏🍊🍋🍉🍓🥦🥒🫑🧄🍞🥖
DESCRIPTION:
URL:https://www.crestlinechamber.org/event/twin-peaks-farmers-market-%f0%9f%8d%8f%f0%9f%8d%8a%f0%9f%8d%8b%f0%9f%8d%89%f0%9f%8d%93%f0%9f%a5%a6%f0%9f%a5%92%f0%9f%ab%91%f0%9f%a7%84%f0%9f%8d%9e%f0%9f%a5%96/2028-06-08/
LOCATION:26012 HWY 189\, Twin Peaks
CATEGORIES:Community Event,Family Friendly,Live Music
ATTACH;FMTTYPE=image/jpeg:https://www.crestlinechamber.org/wp-content/uploads/2025/08/img20250812_15422707-scaled.jpg
ORGANIZER;CN="Twin Peaks Farmers Market":MAILTO:twinpeaksfarmersmarket@gmail.com
END:VEVENT
BEGIN:VEVENT
DTSTART;TZID=America/Los_Angeles:20280615T140000
DTEND;TZID=America/Los_Angeles:20280615T183000
DTSTAMP:20260424T011224
CREATED:20250813T172934Z
LAST-MODIFIED:20250813T173846Z
UID:10006812-1844690400-1844706600@www.crestlinechamber.org
SUMMARY:Twin Peaks Farmers Market 🍏🍊🍋🍉🍓🥦🥒🫑🧄🍞🥖
DESCRIPTION:
URL:https://www.crestlinechamber.org/event/twin-peaks-farmers-market-%f0%9f%8d%8f%f0%9f%8d%8a%f0%9f%8d%8b%f0%9f%8d%89%f0%9f%8d%93%f0%9f%a5%a6%f0%9f%a5%92%f0%9f%ab%91%f0%9f%a7%84%f0%9f%8d%9e%f0%9f%a5%96/2028-06-15/
LOCATION:26012 HWY 189\, Twin Peaks
CATEGORIES:Community Event,Family Friendly,Live Music
ATTACH;FMTTYPE=image/jpeg:https://www.crestlinechamber.org/wp-content/uploads/2025/08/img20250812_15422707-scaled.jpg
ORGANIZER;CN="Twin Peaks Farmers Market":MAILTO:twinpeaksfarmersmarket@gmail.com
END:VEVENT
BEGIN:VEVENT
DTSTART;TZID=America/Los_Angeles:20280622T140000
DTEND;TZID=America/Los_Angeles:20280622T183000
DTSTAMP:20260424T011224
CREATED:20250813T172934Z
LAST-MODIFIED:20250813T173846Z
UID:10006813-1845295200-1845311400@www.crestlinechamber.org
SUMMARY:Twin Peaks Farmers Market 🍏🍊🍋🍉🍓🥦🥒🫑🧄🍞🥖
DESCRIPTION:
URL:https://www.crestlinechamber.org/event/twin-peaks-farmers-market-%f0%9f%8d%8f%f0%9f%8d%8a%f0%9f%8d%8b%f0%9f%8d%89%f0%9f%8d%93%f0%9f%a5%a6%f0%9f%a5%92%f0%9f%ab%91%f0%9f%a7%84%f0%9f%8d%9e%f0%9f%a5%96/2028-06-22/
LOCATION:26012 HWY 189\, Twin Peaks
CATEGORIES:Community Event,Family Friendly,Live Music
ATTACH;FMTTYPE=image/jpeg:https://www.crestlinechamber.org/wp-content/uploads/2025/08/img20250812_15422707-scaled.jpg
ORGANIZER;CN="Twin Peaks Farmers Market":MAILTO:twinpeaksfarmersmarket@gmail.com
END:VEVENT
BEGIN:VEVENT
DTSTART;TZID=America/Los_Angeles:20280629T140000
DTEND;TZID=America/Los_Angeles:20280629T183000
DTSTAMP:20260424T011224
CREATED:20250813T172934Z
LAST-MODIFIED:20250813T173846Z
UID:10006814-1845900000-1845916200@www.crestlinechamber.org
SUMMARY:Twin Peaks Farmers Market 🍏🍊🍋🍉🍓🥦🥒🫑🧄🍞🥖
DESCRIPTION:
URL:https://www.crestlinechamber.org/event/twin-peaks-farmers-market-%f0%9f%8d%8f%f0%9f%8d%8a%f0%9f%8d%8b%f0%9f%8d%89%f0%9f%8d%93%f0%9f%a5%a6%f0%9f%a5%92%f0%9f%ab%91%f0%9f%a7%84%f0%9f%8d%9e%f0%9f%a5%96/2028-06-29/
LOCATION:26012 HWY 189\, Twin Peaks
CATEGORIES:Community Event,Family Friendly,Live Music
ATTACH;FMTTYPE=image/jpeg:https://www.crestlinechamber.org/wp-content/uploads/2025/08/img20250812_15422707-scaled.jpg
ORGANIZER;CN="Twin Peaks Farmers Market":MAILTO:twinpeaksfarmersmarket@gmail.com
END:VEVENT
END:VCALENDAR