BEGIN:VCALENDAR
VERSION:2.0
PRODID:-//Crestline Chamber of Commerce - ECPv6.15.20//NONSGML v1.0//EN
CALSCALE:GREGORIAN
METHOD:PUBLISH
X-WR-CALNAME:Crestline Chamber of Commerce
X-ORIGINAL-URL:https://www.crestlinechamber.org
X-WR-CALDESC:Events for Crestline Chamber of Commerce
REFRESH-INTERVAL;VALUE=DURATION:PT1H
X-Robots-Tag:noindex
X-PUBLISHED-TTL:PT1H
BEGIN:VTIMEZONE
TZID:America/Los_Angeles
BEGIN:DAYLIGHT
TZOFFSETFROM:-0800
TZOFFSETTO:-0700
TZNAME:PDT
DTSTART:20240310T100000
END:DAYLIGHT
BEGIN:STANDARD
TZOFFSETFROM:-0700
TZOFFSETTO:-0800
TZNAME:PST
DTSTART:20241103T090000
END:STANDARD
BEGIN:DAYLIGHT
TZOFFSETFROM:-0800
TZOFFSETTO:-0700
TZNAME:PDT
DTSTART:20250309T100000
END:DAYLIGHT
BEGIN:STANDARD
TZOFFSETFROM:-0700
TZOFFSETTO:-0800
TZNAME:PST
DTSTART:20251102T090000
END:STANDARD
BEGIN:DAYLIGHT
TZOFFSETFROM:-0800
TZOFFSETTO:-0700
TZNAME:PDT
DTSTART:20260308T100000
END:DAYLIGHT
BEGIN:STANDARD
TZOFFSETFROM:-0700
TZOFFSETTO:-0800
TZNAME:PST
DTSTART:20261101T090000
END:STANDARD
END:VTIMEZONE
BEGIN:VEVENT
DTSTART;TZID=America/Los_Angeles:20250227T170000
DTEND;TZID=America/Los_Angeles:20250227T190000
DTSTAMP:20260423T220534
CREATED:20250127T233534Z
LAST-MODIFIED:20250127T233534Z
UID:10003413-1740675600-1740682800@www.crestlinechamber.org
SUMMARY:VFW Chess Club ♟️
DESCRIPTION:♟️ Checkmate at the VFW Chess Club! \nCalling all chess enthusiasts\, beginners\, and strategists! Join the VFW Chess Club for a fun and engaging experience. Whether you’re mastering the game or just learning the ropes\, this is the perfect place to challenge your mind and connect with fellow players. \n🕰️ When: Check the VFW calendar for meeting times\n📍 Where: Local VFW Post \nSharpen your skills\, make new friends\, and enjoy the timeless game of chess. All ages and skill levels are welcome—let’s make some moves! ♟️✨
URL:https://www.crestlinechamber.org/event/vfw-chess-club-%e2%99%9f%ef%b8%8f/2025-02-27/
LOCATION:Rim of the World VFW Auxiliary 9624\, 21841 Crest Forest Dr.\, Cedarpines Park\, CA\, 92322
CATEGORIES:Community Event,Family Friendly,Lake Gregory
END:VEVENT
BEGIN:VEVENT
DTSTART;TZID=America/Los_Angeles:20250220T170000
DTEND;TZID=America/Los_Angeles:20250220T190000
DTSTAMP:20260423T220534
CREATED:20250127T233534Z
LAST-MODIFIED:20250127T233534Z
UID:10003412-1740070800-1740078000@www.crestlinechamber.org
SUMMARY:VFW Chess Club ♟️
DESCRIPTION:♟️ Checkmate at the VFW Chess Club! \nCalling all chess enthusiasts\, beginners\, and strategists! Join the VFW Chess Club for a fun and engaging experience. Whether you’re mastering the game or just learning the ropes\, this is the perfect place to challenge your mind and connect with fellow players. \n🕰️ When: Check the VFW calendar for meeting times\n📍 Where: Local VFW Post \nSharpen your skills\, make new friends\, and enjoy the timeless game of chess. All ages and skill levels are welcome—let’s make some moves! ♟️✨
URL:https://www.crestlinechamber.org/event/vfw-chess-club-%e2%99%9f%ef%b8%8f/2025-02-20/
LOCATION:Rim of the World VFW Auxiliary 9624\, 21841 Crest Forest Dr.\, Cedarpines Park\, CA\, 92322
CATEGORIES:Community Event,Family Friendly,Lake Gregory
END:VEVENT
BEGIN:VEVENT
DTSTART;TZID=America/Los_Angeles:20250213T170000
DTEND;TZID=America/Los_Angeles:20250213T190000
DTSTAMP:20260423T220534
CREATED:20250127T233534Z
LAST-MODIFIED:20250127T233534Z
UID:10003411-1739466000-1739473200@www.crestlinechamber.org
SUMMARY:VFW Chess Club ♟️
DESCRIPTION:♟️ Checkmate at the VFW Chess Club! \nCalling all chess enthusiasts\, beginners\, and strategists! Join the VFW Chess Club for a fun and engaging experience. Whether you’re mastering the game or just learning the ropes\, this is the perfect place to challenge your mind and connect with fellow players. \n🕰️ When: Check the VFW calendar for meeting times\n📍 Where: Local VFW Post \nSharpen your skills\, make new friends\, and enjoy the timeless game of chess. All ages and skill levels are welcome—let’s make some moves! ♟️✨
URL:https://www.crestlinechamber.org/event/vfw-chess-club-%e2%99%9f%ef%b8%8f/2025-02-13/
LOCATION:Rim of the World VFW Auxiliary 9624\, 21841 Crest Forest Dr.\, Cedarpines Park\, CA\, 92322
CATEGORIES:Community Event,Family Friendly,Lake Gregory
END:VEVENT
BEGIN:VEVENT
DTSTART;TZID=America/Los_Angeles:20250206T170000
DTEND;TZID=America/Los_Angeles:20250206T190000
DTSTAMP:20260423T220534
CREATED:20250127T233534Z
LAST-MODIFIED:20250127T233534Z
UID:10003410-1738861200-1738868400@www.crestlinechamber.org
SUMMARY:VFW Chess Club ♟️
DESCRIPTION:♟️ Checkmate at the VFW Chess Club! \nCalling all chess enthusiasts\, beginners\, and strategists! Join the VFW Chess Club for a fun and engaging experience. Whether you’re mastering the game or just learning the ropes\, this is the perfect place to challenge your mind and connect with fellow players. \n🕰️ When: Check the VFW calendar for meeting times\n📍 Where: Local VFW Post \nSharpen your skills\, make new friends\, and enjoy the timeless game of chess. All ages and skill levels are welcome—let’s make some moves! ♟️✨
URL:https://www.crestlinechamber.org/event/vfw-chess-club-%e2%99%9f%ef%b8%8f/2025-02-06/
LOCATION:Rim of the World VFW Auxiliary 9624\, 21841 Crest Forest Dr.\, Cedarpines Park\, CA\, 92322
CATEGORIES:Community Event,Family Friendly,Lake Gregory
END:VEVENT
BEGIN:VEVENT
DTSTART;TZID=America/Los_Angeles:20250130T170000
DTEND;TZID=America/Los_Angeles:20250130T190000
DTSTAMP:20260423T220534
CREATED:20250127T233534Z
LAST-MODIFIED:20250127T233534Z
UID:10003409-1738256400-1738263600@www.crestlinechamber.org
SUMMARY:VFW Chess Club ♟️
DESCRIPTION:♟️ Checkmate at the VFW Chess Club! \nCalling all chess enthusiasts\, beginners\, and strategists! Join the VFW Chess Club for a fun and engaging experience. Whether you’re mastering the game or just learning the ropes\, this is the perfect place to challenge your mind and connect with fellow players. \n🕰️ When: Check the VFW calendar for meeting times\n📍 Where: Local VFW Post \nSharpen your skills\, make new friends\, and enjoy the timeless game of chess. All ages and skill levels are welcome—let’s make some moves! ♟️✨
URL:https://www.crestlinechamber.org/event/vfw-chess-club-%e2%99%9f%ef%b8%8f/2025-01-30/
LOCATION:Rim of the World VFW Auxiliary 9624\, 21841 Crest Forest Dr.\, Cedarpines Park\, CA\, 92322
CATEGORIES:Community Event,Family Friendly,Lake Gregory
END:VEVENT
END:VCALENDAR