BEGIN:VCALENDAR
VERSION:2.0
PRODID:-//Crestline Chamber of Commerce - ECPv6.15.20//NONSGML v1.0//EN
CALSCALE:GREGORIAN
METHOD:PUBLISH
X-ORIGINAL-URL:https://www.crestlinechamber.org
X-WR-CALDESC:Events for Crestline Chamber of Commerce
REFRESH-INTERVAL;VALUE=DURATION:PT1H
X-Robots-Tag:noindex
X-PUBLISHED-TTL:PT1H
BEGIN:VTIMEZONE
TZID:America/Los_Angeles
BEGIN:DAYLIGHT
TZOFFSETFROM:-0800
TZOFFSETTO:-0700
TZNAME:PDT
DTSTART:20210314T100000
END:DAYLIGHT
BEGIN:STANDARD
TZOFFSETFROM:-0700
TZOFFSETTO:-0800
TZNAME:PST
DTSTART:20211107T090000
END:STANDARD
BEGIN:DAYLIGHT
TZOFFSETFROM:-0800
TZOFFSETTO:-0700
TZNAME:PDT
DTSTART:20220313T100000
END:DAYLIGHT
BEGIN:STANDARD
TZOFFSETFROM:-0700
TZOFFSETTO:-0800
TZNAME:PST
DTSTART:20221106T090000
END:STANDARD
BEGIN:DAYLIGHT
TZOFFSETFROM:-0800
TZOFFSETTO:-0700
TZNAME:PDT
DTSTART:20230312T100000
END:DAYLIGHT
BEGIN:STANDARD
TZOFFSETFROM:-0700
TZOFFSETTO:-0800
TZNAME:PST
DTSTART:20231105T090000
END:STANDARD
END:VTIMEZONE
BEGIN:VEVENT
DTSTART;TZID=America/Los_Angeles:20220701T160000
DTEND;TZID=America/Los_Angeles:20220701T200000
DTSTAMP:20260424T024440
CREATED:20220424T073339Z
LAST-MODIFIED:20220424T093941Z
UID:10000118-1656691200-1656705600@www.crestlinechamber.org
SUMMARY:The Market at Lake Gregory
DESCRIPTION:The Market at Lake Gregory is a family friendly Community Market that hopes to bring people and business together in the best way possible – with shopping\, food\, and live music! \nThe market will open on April 29th\, and continue through until November 4\, 2022. The hours of operation will be 4pm-8pm. \nHere’s what you have to look forward to:\n-Upwards of 40+ vendors including Food\, Agriculture\, and Artisans\n-Pet Friendly\n-Live Music!\n-Beer and wine available\n-The breathtaking sunsets at Lake Gregory all summer long\n-Free parking for vendors + patrons \nDates: Fridays\, April 22nd through November 4th 2022\nTime: 4pm-8pm\nLocation: Lake Gregory South Shore Pavilion\, 24271 San Moritz Drive\, Crestline CA 92325
URL:https://www.crestlinechamber.org/event/the-market-at-lake-gregory/2022-07-01/
LOCATION:Lake Gregory South Shore\, 24271 San Moritz Dr\, Crestline\, CA\, 92325
ORGANIZER;CN="Wears The Mountain":MAILTO:events@wearsthemountain.com
GEO:34.2406634;-117.2736394
X-APPLE-STRUCTURED-LOCATION;VALUE=URI;X-ADDRESS=Lake Gregory South Shore 24271 San Moritz Dr Crestline CA 92325;X-APPLE-RADIUS=500;X-TITLE=24271 San Moritz Dr:geo:-117.2736394,34.2406634
END:VEVENT
BEGIN:VEVENT
DTSTART;TZID=America/Los_Angeles:20220624T160000
DTEND;TZID=America/Los_Angeles:20220624T200000
DTSTAMP:20260424T024440
CREATED:20220424T073339Z
LAST-MODIFIED:20220424T093941Z
UID:10000117-1656086400-1656100800@www.crestlinechamber.org
SUMMARY:The Market at Lake Gregory
DESCRIPTION:The Market at Lake Gregory is a family friendly Community Market that hopes to bring people and business together in the best way possible – with shopping\, food\, and live music! \nThe market will open on April 29th\, and continue through until November 4\, 2022. The hours of operation will be 4pm-8pm. \nHere’s what you have to look forward to:\n-Upwards of 40+ vendors including Food\, Agriculture\, and Artisans\n-Pet Friendly\n-Live Music!\n-Beer and wine available\n-The breathtaking sunsets at Lake Gregory all summer long\n-Free parking for vendors + patrons \nDates: Fridays\, April 22nd through November 4th 2022\nTime: 4pm-8pm\nLocation: Lake Gregory South Shore Pavilion\, 24271 San Moritz Drive\, Crestline CA 92325
URL:https://www.crestlinechamber.org/event/the-market-at-lake-gregory/2022-06-24/
LOCATION:Lake Gregory South Shore\, 24271 San Moritz Dr\, Crestline\, CA\, 92325
ORGANIZER;CN="Wears The Mountain":MAILTO:events@wearsthemountain.com
GEO:34.2406634;-117.2736394
X-APPLE-STRUCTURED-LOCATION;VALUE=URI;X-ADDRESS=Lake Gregory South Shore 24271 San Moritz Dr Crestline CA 92325;X-APPLE-RADIUS=500;X-TITLE=24271 San Moritz Dr:geo:-117.2736394,34.2406634
END:VEVENT
BEGIN:VEVENT
DTSTART;TZID=America/Los_Angeles:20220617T160000
DTEND;TZID=America/Los_Angeles:20220617T200000
DTSTAMP:20260424T024440
CREATED:20220424T073339Z
LAST-MODIFIED:20220424T093941Z
UID:10000116-1655481600-1655496000@www.crestlinechamber.org
SUMMARY:The Market at Lake Gregory
DESCRIPTION:The Market at Lake Gregory is a family friendly Community Market that hopes to bring people and business together in the best way possible – with shopping\, food\, and live music! \nThe market will open on April 29th\, and continue through until November 4\, 2022. The hours of operation will be 4pm-8pm. \nHere’s what you have to look forward to:\n-Upwards of 40+ vendors including Food\, Agriculture\, and Artisans\n-Pet Friendly\n-Live Music!\n-Beer and wine available\n-The breathtaking sunsets at Lake Gregory all summer long\n-Free parking for vendors + patrons \nDates: Fridays\, April 22nd through November 4th 2022\nTime: 4pm-8pm\nLocation: Lake Gregory South Shore Pavilion\, 24271 San Moritz Drive\, Crestline CA 92325
URL:https://www.crestlinechamber.org/event/the-market-at-lake-gregory/2022-06-17/
LOCATION:Lake Gregory South Shore\, 24271 San Moritz Dr\, Crestline\, CA\, 92325
ORGANIZER;CN="Wears The Mountain":MAILTO:events@wearsthemountain.com
GEO:34.2406634;-117.2736394
X-APPLE-STRUCTURED-LOCATION;VALUE=URI;X-ADDRESS=Lake Gregory South Shore 24271 San Moritz Dr Crestline CA 92325;X-APPLE-RADIUS=500;X-TITLE=24271 San Moritz Dr:geo:-117.2736394,34.2406634
END:VEVENT
BEGIN:VEVENT
DTSTART;TZID=America/Los_Angeles:20220610T160000
DTEND;TZID=America/Los_Angeles:20220610T200000
DTSTAMP:20260424T024440
CREATED:20220424T073339Z
LAST-MODIFIED:20220424T093941Z
UID:10000115-1654876800-1654891200@www.crestlinechamber.org
SUMMARY:The Market at Lake Gregory
DESCRIPTION:The Market at Lake Gregory is a family friendly Community Market that hopes to bring people and business together in the best way possible – with shopping\, food\, and live music! \nThe market will open on April 29th\, and continue through until November 4\, 2022. The hours of operation will be 4pm-8pm. \nHere’s what you have to look forward to:\n-Upwards of 40+ vendors including Food\, Agriculture\, and Artisans\n-Pet Friendly\n-Live Music!\n-Beer and wine available\n-The breathtaking sunsets at Lake Gregory all summer long\n-Free parking for vendors + patrons \nDates: Fridays\, April 22nd through November 4th 2022\nTime: 4pm-8pm\nLocation: Lake Gregory South Shore Pavilion\, 24271 San Moritz Drive\, Crestline CA 92325
URL:https://www.crestlinechamber.org/event/the-market-at-lake-gregory/2022-06-10/
LOCATION:Lake Gregory South Shore\, 24271 San Moritz Dr\, Crestline\, CA\, 92325
ORGANIZER;CN="Wears The Mountain":MAILTO:events@wearsthemountain.com
GEO:34.2406634;-117.2736394
X-APPLE-STRUCTURED-LOCATION;VALUE=URI;X-ADDRESS=Lake Gregory South Shore 24271 San Moritz Dr Crestline CA 92325;X-APPLE-RADIUS=500;X-TITLE=24271 San Moritz Dr:geo:-117.2736394,34.2406634
END:VEVENT
BEGIN:VEVENT
DTSTART;TZID=America/Los_Angeles:20220603T160000
DTEND;TZID=America/Los_Angeles:20220603T200000
DTSTAMP:20260424T024440
CREATED:20220424T073339Z
LAST-MODIFIED:20220424T093941Z
UID:10000114-1654272000-1654286400@www.crestlinechamber.org
SUMMARY:The Market at Lake Gregory
DESCRIPTION:The Market at Lake Gregory is a family friendly Community Market that hopes to bring people and business together in the best way possible – with shopping\, food\, and live music! \nThe market will open on April 29th\, and continue through until November 4\, 2022. The hours of operation will be 4pm-8pm. \nHere’s what you have to look forward to:\n-Upwards of 40+ vendors including Food\, Agriculture\, and Artisans\n-Pet Friendly\n-Live Music!\n-Beer and wine available\n-The breathtaking sunsets at Lake Gregory all summer long\n-Free parking for vendors + patrons \nDates: Fridays\, April 22nd through November 4th 2022\nTime: 4pm-8pm\nLocation: Lake Gregory South Shore Pavilion\, 24271 San Moritz Drive\, Crestline CA 92325
URL:https://www.crestlinechamber.org/event/the-market-at-lake-gregory/2022-06-03/
LOCATION:Lake Gregory South Shore\, 24271 San Moritz Dr\, Crestline\, CA\, 92325
ORGANIZER;CN="Wears The Mountain":MAILTO:events@wearsthemountain.com
GEO:34.2406634;-117.2736394
X-APPLE-STRUCTURED-LOCATION;VALUE=URI;X-ADDRESS=Lake Gregory South Shore 24271 San Moritz Dr Crestline CA 92325;X-APPLE-RADIUS=500;X-TITLE=24271 San Moritz Dr:geo:-117.2736394,34.2406634
END:VEVENT
BEGIN:VEVENT
DTSTART;TZID=America/Los_Angeles:20220527T160000
DTEND;TZID=America/Los_Angeles:20220527T200000
DTSTAMP:20260424T024440
CREATED:20220424T073339Z
LAST-MODIFIED:20220424T093941Z
UID:10000113-1653667200-1653681600@www.crestlinechamber.org
SUMMARY:The Market at Lake Gregory
DESCRIPTION:The Market at Lake Gregory is a family friendly Community Market that hopes to bring people and business together in the best way possible – with shopping\, food\, and live music! \nThe market will open on April 29th\, and continue through until November 4\, 2022. The hours of operation will be 4pm-8pm. \nHere’s what you have to look forward to:\n-Upwards of 40+ vendors including Food\, Agriculture\, and Artisans\n-Pet Friendly\n-Live Music!\n-Beer and wine available\n-The breathtaking sunsets at Lake Gregory all summer long\n-Free parking for vendors + patrons \nDates: Fridays\, April 22nd through November 4th 2022\nTime: 4pm-8pm\nLocation: Lake Gregory South Shore Pavilion\, 24271 San Moritz Drive\, Crestline CA 92325
URL:https://www.crestlinechamber.org/event/the-market-at-lake-gregory/2022-05-27/
LOCATION:Lake Gregory South Shore\, 24271 San Moritz Dr\, Crestline\, CA\, 92325
ORGANIZER;CN="Wears The Mountain":MAILTO:events@wearsthemountain.com
GEO:34.2406634;-117.2736394
X-APPLE-STRUCTURED-LOCATION;VALUE=URI;X-ADDRESS=Lake Gregory South Shore 24271 San Moritz Dr Crestline CA 92325;X-APPLE-RADIUS=500;X-TITLE=24271 San Moritz Dr:geo:-117.2736394,34.2406634
END:VEVENT
BEGIN:VEVENT
DTSTART;TZID=America/Los_Angeles:20220520T160000
DTEND;TZID=America/Los_Angeles:20220520T200000
DTSTAMP:20260424T024440
CREATED:20220424T073339Z
LAST-MODIFIED:20220424T093941Z
UID:10000112-1653062400-1653076800@www.crestlinechamber.org
SUMMARY:The Market at Lake Gregory
DESCRIPTION:The Market at Lake Gregory is a family friendly Community Market that hopes to bring people and business together in the best way possible – with shopping\, food\, and live music! \nThe market will open on April 29th\, and continue through until November 4\, 2022. The hours of operation will be 4pm-8pm. \nHere’s what you have to look forward to:\n-Upwards of 40+ vendors including Food\, Agriculture\, and Artisans\n-Pet Friendly\n-Live Music!\n-Beer and wine available\n-The breathtaking sunsets at Lake Gregory all summer long\n-Free parking for vendors + patrons \nDates: Fridays\, April 22nd through November 4th 2022\nTime: 4pm-8pm\nLocation: Lake Gregory South Shore Pavilion\, 24271 San Moritz Drive\, Crestline CA 92325
URL:https://www.crestlinechamber.org/event/the-market-at-lake-gregory/2022-05-20/
LOCATION:Lake Gregory South Shore\, 24271 San Moritz Dr\, Crestline\, CA\, 92325
ORGANIZER;CN="Wears The Mountain":MAILTO:events@wearsthemountain.com
GEO:34.2406634;-117.2736394
X-APPLE-STRUCTURED-LOCATION;VALUE=URI;X-ADDRESS=Lake Gregory South Shore 24271 San Moritz Dr Crestline CA 92325;X-APPLE-RADIUS=500;X-TITLE=24271 San Moritz Dr:geo:-117.2736394,34.2406634
END:VEVENT
BEGIN:VEVENT
DTSTART;TZID=America/Los_Angeles:20220513T160000
DTEND;TZID=America/Los_Angeles:20220513T200000
DTSTAMP:20260424T024440
CREATED:20220424T073339Z
LAST-MODIFIED:20220424T093941Z
UID:10000111-1652457600-1652472000@www.crestlinechamber.org
SUMMARY:The Market at Lake Gregory
DESCRIPTION:The Market at Lake Gregory is a family friendly Community Market that hopes to bring people and business together in the best way possible – with shopping\, food\, and live music! \nThe market will open on April 29th\, and continue through until November 4\, 2022. The hours of operation will be 4pm-8pm. \nHere’s what you have to look forward to:\n-Upwards of 40+ vendors including Food\, Agriculture\, and Artisans\n-Pet Friendly\n-Live Music!\n-Beer and wine available\n-The breathtaking sunsets at Lake Gregory all summer long\n-Free parking for vendors + patrons \nDates: Fridays\, April 22nd through November 4th 2022\nTime: 4pm-8pm\nLocation: Lake Gregory South Shore Pavilion\, 24271 San Moritz Drive\, Crestline CA 92325
URL:https://www.crestlinechamber.org/event/the-market-at-lake-gregory/2022-05-13/
LOCATION:Lake Gregory South Shore\, 24271 San Moritz Dr\, Crestline\, CA\, 92325
ORGANIZER;CN="Wears The Mountain":MAILTO:events@wearsthemountain.com
GEO:34.2406634;-117.2736394
X-APPLE-STRUCTURED-LOCATION;VALUE=URI;X-ADDRESS=Lake Gregory South Shore 24271 San Moritz Dr Crestline CA 92325;X-APPLE-RADIUS=500;X-TITLE=24271 San Moritz Dr:geo:-117.2736394,34.2406634
END:VEVENT
BEGIN:VEVENT
DTSTART;TZID=America/Los_Angeles:20220506T160000
DTEND;TZID=America/Los_Angeles:20220506T200000
DTSTAMP:20260424T024440
CREATED:20220424T073339Z
LAST-MODIFIED:20220424T093941Z
UID:10000110-1651852800-1651867200@www.crestlinechamber.org
SUMMARY:The Market at Lake Gregory
DESCRIPTION:The Market at Lake Gregory is a family friendly Community Market that hopes to bring people and business together in the best way possible – with shopping\, food\, and live music! \nThe market will open on April 29th\, and continue through until November 4\, 2022. The hours of operation will be 4pm-8pm. \nHere’s what you have to look forward to:\n-Upwards of 40+ vendors including Food\, Agriculture\, and Artisans\n-Pet Friendly\n-Live Music!\n-Beer and wine available\n-The breathtaking sunsets at Lake Gregory all summer long\n-Free parking for vendors + patrons \nDates: Fridays\, April 22nd through November 4th 2022\nTime: 4pm-8pm\nLocation: Lake Gregory South Shore Pavilion\, 24271 San Moritz Drive\, Crestline CA 92325
URL:https://www.crestlinechamber.org/event/the-market-at-lake-gregory/2022-05-06/
LOCATION:Lake Gregory South Shore\, 24271 San Moritz Dr\, Crestline\, CA\, 92325
ORGANIZER;CN="Wears The Mountain":MAILTO:events@wearsthemountain.com
GEO:34.2406634;-117.2736394
X-APPLE-STRUCTURED-LOCATION;VALUE=URI;X-ADDRESS=Lake Gregory South Shore 24271 San Moritz Dr Crestline CA 92325;X-APPLE-RADIUS=500;X-TITLE=24271 San Moritz Dr:geo:-117.2736394,34.2406634
END:VEVENT
END:VCALENDAR