BEGIN:VCALENDAR
VERSION:2.0
PRODID:-//Crestline Chamber of Commerce - ECPv6.15.20//NONSGML v1.0//EN
CALSCALE:GREGORIAN
METHOD:PUBLISH
X-WR-CALNAME:Crestline Chamber of Commerce
X-ORIGINAL-URL:https://www.crestlinechamber.org
X-WR-CALDESC:Events for Crestline Chamber of Commerce
REFRESH-INTERVAL;VALUE=DURATION:PT1H
X-Robots-Tag:noindex
X-PUBLISHED-TTL:PT1H
BEGIN:VTIMEZONE
TZID:America/Los_Angeles
BEGIN:DAYLIGHT
TZOFFSETFROM:-0800
TZOFFSETTO:-0700
TZNAME:PDT
DTSTART:20210314T100000
END:DAYLIGHT
BEGIN:STANDARD
TZOFFSETFROM:-0700
TZOFFSETTO:-0800
TZNAME:PST
DTSTART:20211107T090000
END:STANDARD
BEGIN:DAYLIGHT
TZOFFSETFROM:-0800
TZOFFSETTO:-0700
TZNAME:PDT
DTSTART:20220313T100000
END:DAYLIGHT
BEGIN:STANDARD
TZOFFSETFROM:-0700
TZOFFSETTO:-0800
TZNAME:PST
DTSTART:20221106T090000
END:STANDARD
BEGIN:DAYLIGHT
TZOFFSETFROM:-0800
TZOFFSETTO:-0700
TZNAME:PDT
DTSTART:20230312T100000
END:DAYLIGHT
BEGIN:STANDARD
TZOFFSETFROM:-0700
TZOFFSETTO:-0800
TZNAME:PST
DTSTART:20231105T090000
END:STANDARD
BEGIN:DAYLIGHT
TZOFFSETFROM:-0800
TZOFFSETTO:-0700
TZNAME:PDT
DTSTART:20240310T100000
END:DAYLIGHT
BEGIN:STANDARD
TZOFFSETFROM:-0700
TZOFFSETTO:-0800
TZNAME:PST
DTSTART:20241103T090000
END:STANDARD
END:VTIMEZONE
BEGIN:VEVENT
DTSTART;TZID=America/Los_Angeles:20230915T160000
DTEND;TZID=America/Los_Angeles:20230915T200000
DTSTAMP:20260423T171950
CREATED:20230517T181122Z
LAST-MODIFIED:20230517T181122Z
UID:10000277-1694793600-1694808000@www.crestlinechamber.org
SUMMARY:The Market at Lake Gregory
DESCRIPTION:A family friendly Community Market that brings people together in the best way possible – with shopping\, food\, and live music! \nThe market will open Friday\, April 28th\, and will remain open through September 15\, 2023.  The hours of operation are Fridays from 4pm-8pm. \nHere’s what you have to look forward to:\nUpwards of 30+ vendors\nPet Friendly\nLive Music!\nBeer and wine available for purchase (must be 21+)\nBreathtaking sunsets at Lake Gregory all summer long\nFree parking for vendors + patrons \nAddress:           Lake Gregory South Shore Pavilion\, 24271 San Moritz Drive\, Crestline\, CA 92325\nPhone:              (909)285-BEAR (2327)\nEmail:                events@wearsthemountain.com
URL:https://www.crestlinechamber.org/event/the-market-at-lake-gregory-3/2023-09-15/
LOCATION:Lake Gregory\, Crestline\, CA\, 92325\, United States
CATEGORIES:Live Music
ORGANIZER;CN="Wears The Mountain":MAILTO:events@wearsthemountain.com
GEO:34.2429169;-117.2752583
END:VEVENT
BEGIN:VEVENT
DTSTART;TZID=America/Los_Angeles:20230908T160000
DTEND;TZID=America/Los_Angeles:20230908T200000
DTSTAMP:20260423T171950
CREATED:20230517T181122Z
LAST-MODIFIED:20230517T181122Z
UID:10000276-1694188800-1694203200@www.crestlinechamber.org
SUMMARY:The Market at Lake Gregory
DESCRIPTION:A family friendly Community Market that brings people together in the best way possible – with shopping\, food\, and live music! \nThe market will open Friday\, April 28th\, and will remain open through September 15\, 2023.  The hours of operation are Fridays from 4pm-8pm. \nHere’s what you have to look forward to:\nUpwards of 30+ vendors\nPet Friendly\nLive Music!\nBeer and wine available for purchase (must be 21+)\nBreathtaking sunsets at Lake Gregory all summer long\nFree parking for vendors + patrons \nAddress:           Lake Gregory South Shore Pavilion\, 24271 San Moritz Drive\, Crestline\, CA 92325\nPhone:              (909)285-BEAR (2327)\nEmail:                events@wearsthemountain.com
URL:https://www.crestlinechamber.org/event/the-market-at-lake-gregory-3/2023-09-08/
LOCATION:Lake Gregory\, Crestline\, CA\, 92325\, United States
CATEGORIES:Live Music
ORGANIZER;CN="Wears The Mountain":MAILTO:events@wearsthemountain.com
GEO:34.2429169;-117.2752583
END:VEVENT
BEGIN:VEVENT
DTSTART;TZID=America/Los_Angeles:20230901T160000
DTEND;TZID=America/Los_Angeles:20230901T200000
DTSTAMP:20260423T171950
CREATED:20230517T181122Z
LAST-MODIFIED:20230517T181122Z
UID:10000275-1693584000-1693598400@www.crestlinechamber.org
SUMMARY:The Market at Lake Gregory
DESCRIPTION:A family friendly Community Market that brings people together in the best way possible – with shopping\, food\, and live music! \nThe market will open Friday\, April 28th\, and will remain open through September 15\, 2023.  The hours of operation are Fridays from 4pm-8pm. \nHere’s what you have to look forward to:\nUpwards of 30+ vendors\nPet Friendly\nLive Music!\nBeer and wine available for purchase (must be 21+)\nBreathtaking sunsets at Lake Gregory all summer long\nFree parking for vendors + patrons \nAddress:           Lake Gregory South Shore Pavilion\, 24271 San Moritz Drive\, Crestline\, CA 92325\nPhone:              (909)285-BEAR (2327)\nEmail:                events@wearsthemountain.com
URL:https://www.crestlinechamber.org/event/the-market-at-lake-gregory-3/2023-09-01/
LOCATION:Lake Gregory\, Crestline\, CA\, 92325\, United States
CATEGORIES:Live Music
ORGANIZER;CN="Wears The Mountain":MAILTO:events@wearsthemountain.com
GEO:34.2429169;-117.2752583
END:VEVENT
BEGIN:VEVENT
DTSTART;TZID=America/Los_Angeles:20230825T160000
DTEND;TZID=America/Los_Angeles:20230825T200000
DTSTAMP:20260423T171950
CREATED:20230517T181122Z
LAST-MODIFIED:20230517T181122Z
UID:10000274-1692979200-1692993600@www.crestlinechamber.org
SUMMARY:The Market at Lake Gregory
DESCRIPTION:A family friendly Community Market that brings people together in the best way possible – with shopping\, food\, and live music! \nThe market will open Friday\, April 28th\, and will remain open through September 15\, 2023.  The hours of operation are Fridays from 4pm-8pm. \nHere’s what you have to look forward to:\nUpwards of 30+ vendors\nPet Friendly\nLive Music!\nBeer and wine available for purchase (must be 21+)\nBreathtaking sunsets at Lake Gregory all summer long\nFree parking for vendors + patrons \nAddress:           Lake Gregory South Shore Pavilion\, 24271 San Moritz Drive\, Crestline\, CA 92325\nPhone:              (909)285-BEAR (2327)\nEmail:                events@wearsthemountain.com
URL:https://www.crestlinechamber.org/event/the-market-at-lake-gregory-3/2023-08-25/
LOCATION:Lake Gregory\, Crestline\, CA\, 92325\, United States
CATEGORIES:Live Music
ORGANIZER;CN="Wears The Mountain":MAILTO:events@wearsthemountain.com
GEO:34.2429169;-117.2752583
END:VEVENT
BEGIN:VEVENT
DTSTART;TZID=America/Los_Angeles:20230818T160000
DTEND;TZID=America/Los_Angeles:20230818T200000
DTSTAMP:20260423T171950
CREATED:20230517T181122Z
LAST-MODIFIED:20230517T181122Z
UID:10000273-1692374400-1692388800@www.crestlinechamber.org
SUMMARY:The Market at Lake Gregory
DESCRIPTION:A family friendly Community Market that brings people together in the best way possible – with shopping\, food\, and live music! \nThe market will open Friday\, April 28th\, and will remain open through September 15\, 2023.  The hours of operation are Fridays from 4pm-8pm. \nHere’s what you have to look forward to:\nUpwards of 30+ vendors\nPet Friendly\nLive Music!\nBeer and wine available for purchase (must be 21+)\nBreathtaking sunsets at Lake Gregory all summer long\nFree parking for vendors + patrons \nAddress:           Lake Gregory South Shore Pavilion\, 24271 San Moritz Drive\, Crestline\, CA 92325\nPhone:              (909)285-BEAR (2327)\nEmail:                events@wearsthemountain.com
URL:https://www.crestlinechamber.org/event/the-market-at-lake-gregory-3/2023-08-18/
LOCATION:Lake Gregory\, Crestline\, CA\, 92325\, United States
CATEGORIES:Live Music
ORGANIZER;CN="Wears The Mountain":MAILTO:events@wearsthemountain.com
GEO:34.2429169;-117.2752583
END:VEVENT
BEGIN:VEVENT
DTSTART;TZID=America/Los_Angeles:20230811T160000
DTEND;TZID=America/Los_Angeles:20230811T200000
DTSTAMP:20260423T171950
CREATED:20230517T181122Z
LAST-MODIFIED:20230517T181122Z
UID:10000272-1691769600-1691784000@www.crestlinechamber.org
SUMMARY:The Market at Lake Gregory
DESCRIPTION:A family friendly Community Market that brings people together in the best way possible – with shopping\, food\, and live music! \nThe market will open Friday\, April 28th\, and will remain open through September 15\, 2023.  The hours of operation are Fridays from 4pm-8pm. \nHere’s what you have to look forward to:\nUpwards of 30+ vendors\nPet Friendly\nLive Music!\nBeer and wine available for purchase (must be 21+)\nBreathtaking sunsets at Lake Gregory all summer long\nFree parking for vendors + patrons \nAddress:           Lake Gregory South Shore Pavilion\, 24271 San Moritz Drive\, Crestline\, CA 92325\nPhone:              (909)285-BEAR (2327)\nEmail:                events@wearsthemountain.com
URL:https://www.crestlinechamber.org/event/the-market-at-lake-gregory-3/2023-08-11/
LOCATION:Lake Gregory\, Crestline\, CA\, 92325\, United States
CATEGORIES:Live Music
ORGANIZER;CN="Wears The Mountain":MAILTO:events@wearsthemountain.com
GEO:34.2429169;-117.2752583
END:VEVENT
BEGIN:VEVENT
DTSTART;TZID=America/Los_Angeles:20230804T160000
DTEND;TZID=America/Los_Angeles:20230804T200000
DTSTAMP:20260423T171950
CREATED:20230517T181122Z
LAST-MODIFIED:20230517T181122Z
UID:10000271-1691164800-1691179200@www.crestlinechamber.org
SUMMARY:The Market at Lake Gregory
DESCRIPTION:A family friendly Community Market that brings people together in the best way possible – with shopping\, food\, and live music! \nThe market will open Friday\, April 28th\, and will remain open through September 15\, 2023.  The hours of operation are Fridays from 4pm-8pm. \nHere’s what you have to look forward to:\nUpwards of 30+ vendors\nPet Friendly\nLive Music!\nBeer and wine available for purchase (must be 21+)\nBreathtaking sunsets at Lake Gregory all summer long\nFree parking for vendors + patrons \nAddress:           Lake Gregory South Shore Pavilion\, 24271 San Moritz Drive\, Crestline\, CA 92325\nPhone:              (909)285-BEAR (2327)\nEmail:                events@wearsthemountain.com
URL:https://www.crestlinechamber.org/event/the-market-at-lake-gregory-3/2023-08-04/
LOCATION:Lake Gregory\, Crestline\, CA\, 92325\, United States
CATEGORIES:Live Music
ORGANIZER;CN="Wears The Mountain":MAILTO:events@wearsthemountain.com
GEO:34.2429169;-117.2752583
END:VEVENT
BEGIN:VEVENT
DTSTART;TZID=America/Los_Angeles:20230728T160000
DTEND;TZID=America/Los_Angeles:20230728T200000
DTSTAMP:20260423T171950
CREATED:20230517T181122Z
LAST-MODIFIED:20230517T181122Z
UID:10000270-1690560000-1690574400@www.crestlinechamber.org
SUMMARY:The Market at Lake Gregory
DESCRIPTION:A family friendly Community Market that brings people together in the best way possible – with shopping\, food\, and live music! \nThe market will open Friday\, April 28th\, and will remain open through September 15\, 2023.  The hours of operation are Fridays from 4pm-8pm. \nHere’s what you have to look forward to:\nUpwards of 30+ vendors\nPet Friendly\nLive Music!\nBeer and wine available for purchase (must be 21+)\nBreathtaking sunsets at Lake Gregory all summer long\nFree parking for vendors + patrons \nAddress:           Lake Gregory South Shore Pavilion\, 24271 San Moritz Drive\, Crestline\, CA 92325\nPhone:              (909)285-BEAR (2327)\nEmail:                events@wearsthemountain.com
URL:https://www.crestlinechamber.org/event/the-market-at-lake-gregory-3/2023-07-28/
LOCATION:Lake Gregory\, Crestline\, CA\, 92325\, United States
CATEGORIES:Live Music
ORGANIZER;CN="Wears The Mountain":MAILTO:events@wearsthemountain.com
GEO:34.2429169;-117.2752583
END:VEVENT
BEGIN:VEVENT
DTSTART;TZID=America/Los_Angeles:20230721T160000
DTEND;TZID=America/Los_Angeles:20230721T200000
DTSTAMP:20260423T171950
CREATED:20230517T181122Z
LAST-MODIFIED:20230517T181122Z
UID:10000269-1689955200-1689969600@www.crestlinechamber.org
SUMMARY:The Market at Lake Gregory
DESCRIPTION:A family friendly Community Market that brings people together in the best way possible – with shopping\, food\, and live music! \nThe market will open Friday\, April 28th\, and will remain open through September 15\, 2023.  The hours of operation are Fridays from 4pm-8pm. \nHere’s what you have to look forward to:\nUpwards of 30+ vendors\nPet Friendly\nLive Music!\nBeer and wine available for purchase (must be 21+)\nBreathtaking sunsets at Lake Gregory all summer long\nFree parking for vendors + patrons \nAddress:           Lake Gregory South Shore Pavilion\, 24271 San Moritz Drive\, Crestline\, CA 92325\nPhone:              (909)285-BEAR (2327)\nEmail:                events@wearsthemountain.com
URL:https://www.crestlinechamber.org/event/the-market-at-lake-gregory-3/2023-07-21/
LOCATION:Lake Gregory\, Crestline\, CA\, 92325\, United States
CATEGORIES:Live Music
ORGANIZER;CN="Wears The Mountain":MAILTO:events@wearsthemountain.com
GEO:34.2429169;-117.2752583
END:VEVENT
BEGIN:VEVENT
DTSTART;TZID=America/Los_Angeles:20230714T160000
DTEND;TZID=America/Los_Angeles:20230714T200000
DTSTAMP:20260423T171950
CREATED:20230517T181122Z
LAST-MODIFIED:20230517T181122Z
UID:10000268-1689350400-1689364800@www.crestlinechamber.org
SUMMARY:The Market at Lake Gregory
DESCRIPTION:A family friendly Community Market that brings people together in the best way possible – with shopping\, food\, and live music! \nThe market will open Friday\, April 28th\, and will remain open through September 15\, 2023.  The hours of operation are Fridays from 4pm-8pm. \nHere’s what you have to look forward to:\nUpwards of 30+ vendors\nPet Friendly\nLive Music!\nBeer and wine available for purchase (must be 21+)\nBreathtaking sunsets at Lake Gregory all summer long\nFree parking for vendors + patrons \nAddress:           Lake Gregory South Shore Pavilion\, 24271 San Moritz Drive\, Crestline\, CA 92325\nPhone:              (909)285-BEAR (2327)\nEmail:                events@wearsthemountain.com
URL:https://www.crestlinechamber.org/event/the-market-at-lake-gregory-3/2023-07-14/
LOCATION:Lake Gregory\, Crestline\, CA\, 92325\, United States
CATEGORIES:Live Music
ORGANIZER;CN="Wears The Mountain":MAILTO:events@wearsthemountain.com
GEO:34.2429169;-117.2752583
END:VEVENT
BEGIN:VEVENT
DTSTART;TZID=America/Los_Angeles:20230707T160000
DTEND;TZID=America/Los_Angeles:20230707T200000
DTSTAMP:20260423T171950
CREATED:20230517T181122Z
LAST-MODIFIED:20230517T181122Z
UID:10000267-1688745600-1688760000@www.crestlinechamber.org
SUMMARY:The Market at Lake Gregory
DESCRIPTION:A family friendly Community Market that brings people together in the best way possible – with shopping\, food\, and live music! \nThe market will open Friday\, April 28th\, and will remain open through September 15\, 2023.  The hours of operation are Fridays from 4pm-8pm. \nHere’s what you have to look forward to:\nUpwards of 30+ vendors\nPet Friendly\nLive Music!\nBeer and wine available for purchase (must be 21+)\nBreathtaking sunsets at Lake Gregory all summer long\nFree parking for vendors + patrons \nAddress:           Lake Gregory South Shore Pavilion\, 24271 San Moritz Drive\, Crestline\, CA 92325\nPhone:              (909)285-BEAR (2327)\nEmail:                events@wearsthemountain.com
URL:https://www.crestlinechamber.org/event/the-market-at-lake-gregory-3/2023-07-07/
LOCATION:Lake Gregory\, Crestline\, CA\, 92325\, United States
CATEGORIES:Live Music
ORGANIZER;CN="Wears The Mountain":MAILTO:events@wearsthemountain.com
GEO:34.2429169;-117.2752583
END:VEVENT
BEGIN:VEVENT
DTSTART;TZID=America/Los_Angeles:20230630T160000
DTEND;TZID=America/Los_Angeles:20230630T200000
DTSTAMP:20260423T171950
CREATED:20230517T181122Z
LAST-MODIFIED:20230517T181122Z
UID:10000266-1688140800-1688155200@www.crestlinechamber.org
SUMMARY:The Market at Lake Gregory
DESCRIPTION:A family friendly Community Market that brings people together in the best way possible – with shopping\, food\, and live music! \nThe market will open Friday\, April 28th\, and will remain open through September 15\, 2023.  The hours of operation are Fridays from 4pm-8pm. \nHere’s what you have to look forward to:\nUpwards of 30+ vendors\nPet Friendly\nLive Music!\nBeer and wine available for purchase (must be 21+)\nBreathtaking sunsets at Lake Gregory all summer long\nFree parking for vendors + patrons \nAddress:           Lake Gregory South Shore Pavilion\, 24271 San Moritz Drive\, Crestline\, CA 92325\nPhone:              (909)285-BEAR (2327)\nEmail:                events@wearsthemountain.com
URL:https://www.crestlinechamber.org/event/the-market-at-lake-gregory-3/2023-06-30/
LOCATION:Lake Gregory\, Crestline\, CA\, 92325\, United States
CATEGORIES:Live Music
ORGANIZER;CN="Wears The Mountain":MAILTO:events@wearsthemountain.com
GEO:34.2429169;-117.2752583
END:VEVENT
BEGIN:VEVENT
DTSTART;TZID=America/Los_Angeles:20230623T160000
DTEND;TZID=America/Los_Angeles:20230623T200000
DTSTAMP:20260423T171950
CREATED:20230517T181122Z
LAST-MODIFIED:20230517T181122Z
UID:10000265-1687536000-1687550400@www.crestlinechamber.org
SUMMARY:The Market at Lake Gregory
DESCRIPTION:A family friendly Community Market that brings people together in the best way possible – with shopping\, food\, and live music! \nThe market will open Friday\, April 28th\, and will remain open through September 15\, 2023.  The hours of operation are Fridays from 4pm-8pm. \nHere’s what you have to look forward to:\nUpwards of 30+ vendors\nPet Friendly\nLive Music!\nBeer and wine available for purchase (must be 21+)\nBreathtaking sunsets at Lake Gregory all summer long\nFree parking for vendors + patrons \nAddress:           Lake Gregory South Shore Pavilion\, 24271 San Moritz Drive\, Crestline\, CA 92325\nPhone:              (909)285-BEAR (2327)\nEmail:                events@wearsthemountain.com
URL:https://www.crestlinechamber.org/event/the-market-at-lake-gregory-3/2023-06-23/
LOCATION:Lake Gregory\, Crestline\, CA\, 92325\, United States
CATEGORIES:Live Music
ORGANIZER;CN="Wears The Mountain":MAILTO:events@wearsthemountain.com
GEO:34.2429169;-117.2752583
END:VEVENT
BEGIN:VEVENT
DTSTART;TZID=America/Los_Angeles:20230616T160000
DTEND;TZID=America/Los_Angeles:20230616T200000
DTSTAMP:20260423T171950
CREATED:20230517T181122Z
LAST-MODIFIED:20230517T181122Z
UID:10000264-1686931200-1686945600@www.crestlinechamber.org
SUMMARY:The Market at Lake Gregory
DESCRIPTION:A family friendly Community Market that brings people together in the best way possible – with shopping\, food\, and live music! \nThe market will open Friday\, April 28th\, and will remain open through September 15\, 2023.  The hours of operation are Fridays from 4pm-8pm. \nHere’s what you have to look forward to:\nUpwards of 30+ vendors\nPet Friendly\nLive Music!\nBeer and wine available for purchase (must be 21+)\nBreathtaking sunsets at Lake Gregory all summer long\nFree parking for vendors + patrons \nAddress:           Lake Gregory South Shore Pavilion\, 24271 San Moritz Drive\, Crestline\, CA 92325\nPhone:              (909)285-BEAR (2327)\nEmail:                events@wearsthemountain.com
URL:https://www.crestlinechamber.org/event/the-market-at-lake-gregory-3/2023-06-16/
LOCATION:Lake Gregory\, Crestline\, CA\, 92325\, United States
CATEGORIES:Live Music
ORGANIZER;CN="Wears The Mountain":MAILTO:events@wearsthemountain.com
GEO:34.2429169;-117.2752583
END:VEVENT
BEGIN:VEVENT
DTSTART;TZID=America/Los_Angeles:20230609T160000
DTEND;TZID=America/Los_Angeles:20230609T200000
DTSTAMP:20260423T171950
CREATED:20230517T181122Z
LAST-MODIFIED:20230517T181122Z
UID:10000263-1686326400-1686340800@www.crestlinechamber.org
SUMMARY:The Market at Lake Gregory
DESCRIPTION:A family friendly Community Market that brings people together in the best way possible – with shopping\, food\, and live music! \nThe market will open Friday\, April 28th\, and will remain open through September 15\, 2023.  The hours of operation are Fridays from 4pm-8pm. \nHere’s what you have to look forward to:\nUpwards of 30+ vendors\nPet Friendly\nLive Music!\nBeer and wine available for purchase (must be 21+)\nBreathtaking sunsets at Lake Gregory all summer long\nFree parking for vendors + patrons \nAddress:           Lake Gregory South Shore Pavilion\, 24271 San Moritz Drive\, Crestline\, CA 92325\nPhone:              (909)285-BEAR (2327)\nEmail:                events@wearsthemountain.com
URL:https://www.crestlinechamber.org/event/the-market-at-lake-gregory-3/2023-06-09/
LOCATION:Lake Gregory\, Crestline\, CA\, 92325\, United States
CATEGORIES:Live Music
ORGANIZER;CN="Wears The Mountain":MAILTO:events@wearsthemountain.com
GEO:34.2429169;-117.2752583
END:VEVENT
BEGIN:VEVENT
DTSTART;TZID=America/Los_Angeles:20230519T160000
DTEND;TZID=America/Los_Angeles:20230602T200000
DTSTAMP:20260423T171950
CREATED:20230517T180907Z
LAST-MODIFIED:20230517T180907Z
UID:10000262-1684512000-1685736000@www.crestlinechamber.org
SUMMARY:The Market at Lake Gregory
DESCRIPTION:A family friendly Community Market that brings people together in the best way possible – with shopping\, food\, and live music! \nThe market will open Friday\, April 28th\, and will remain open through September 15\, 2023.  The hours of operation are Fridays from 4pm-8pm. \nHere’s what you have to look forward to:\nUpwards of 30+ vendors\nPet Friendly\nLive Music!\nBeer and wine available for purchase (must be 21+)\nBreathtaking sunsets at Lake Gregory all summer long\nFree parking for vendors + patrons \nAddress:           Lake Gregory North Shore Deck – 24171 Lake Drive\, Crestline\, CA 92325\nPhone:              (909)285-BEAR (2327)\nEmail:                events@wearsthemountain.com
URL:https://www.crestlinechamber.org/event/the-market-at-lake-gregory-2/
LOCATION:Lake Gregory\, Crestline\, CA\, 92325\, United States
CATEGORIES:Live Music
ORGANIZER;CN="Wears The Mountain":MAILTO:events@wearsthemountain.com
GEO:34.2429169;-117.2752583
END:VEVENT
BEGIN:VEVENT
DTSTART;TZID=America/Los_Angeles:20220507T120000
DTEND;TZID=America/Los_Angeles:20220507T150000
DTSTAMP:20260423T171950
CREATED:20220424T074050Z
LAST-MODIFIED:20220424T074050Z
UID:10000063-1651924800-1651935600@www.crestlinechamber.org
SUMMARY:Game of Skate
DESCRIPTION:Join us for our annual Game of Skate\, Saturday May 7th\, 2022 for the 1 year Angelversary of Daunte Symonette\, at Crestline Skate Park\, 12pm-3pm. \nSimilar to the game of HORSE\, skaters will have to copy tricks performed by the skater that comes before them. Make a mistake or miss the landing? That’s a letter! Spell the game of S-K-A-T-E\, and you’re out! 3 lucky winners will take home prize provided by professional skate team\, Powell-Peralta\, as well as local apparel brand\, Wears The Mountain. \nThere will be free food\, prizes\, and resources for support and awareness. \nSkate ya later!
URL:https://www.crestlinechamber.org/event/game-of-skate/
LOCATION:Crestline Skate Park\, 24171 Lake Drive\, Crestline\, CA\, 92325\, United States
ORGANIZER;CN="Wears The Mountain":MAILTO:events@wearsthemountain.com
GEO:34.2429169;-117.2752583
X-APPLE-STRUCTURED-LOCATION;VALUE=URI;X-ADDRESS=Crestline Skate Park 24171 Lake Drive Crestline CA 92325 United States;X-APPLE-RADIUS=500;X-TITLE=24171 Lake Drive:geo:-117.2752583,34.2429169
END:VEVENT
END:VCALENDAR